{"text_format":"1","workbook":"xlsx","n_sheets":20,"sheets":["Home","Cover","Rate","SAP","R001","E001","R100","E110","E120","E121","E121A","E121B","E200A","E200","E210","E220","E230","E240","E250","E300"],"not_rendered":{"charts":0,"images":58,"macros":1,"external_links":0,"defined_names":122,"comments":4,"pivot_tables":0},"unopened":[],"bounds":{"document_bytes":16777216,"sheet_cells":100000,"rows_first":2000,"rows_last":500,"rows_between":2000,"halvings":0,"cell_chars":16384,"cell_head_chars":4096},"cells_cut":0,"cells_raw":0,"read":"whole","date_system":"1900"}

{"sheet":"Home","index":0,"n_rows":18,"n_cols":26,"rows_kept":18,"cut":false,"hidden":false,"merged":[[3,6,5,6],[3,5,5,5],[3,4,5,4],[6,6,9,6],[9,4,9,5],[10,6,17,6],[16,5,17,5],[16,4,17,4],[10,5,11,5],[10,4,11,4],[14,4,14,5],[13,4,13,5],[12,4,12,5],[3,1,5,1],[6,1,9,1],[6,4,8,4],[6,5,8,5],[10,1,17,1]]}
["Update",null,null,{"$f":"\"แบบฟอร์มเสนอขอตั้งงบประมาณทำการประจำปี \"&A_Budget_year","v":"แบบฟอร์มเสนอขอตั้งงบประมาณทำการประจำปี 2567"},null,null,null,null,"หมายเหตุ"]
["2022-06-30","กลุ่ม","รหัสบัญชี","ชื่อบัญชี","งานประจำ","งานตามแผน","ธุรกิจเสริม","1)","ไม่ต้องตั้งงบประมาณสำหรับค่า Smart device ในบัญชี \"ค่าตอบแทนอื่น-พนักงาน\" (รหัสบัญชี 52010990) (Sheet E110)"]
[null,"รายได้","4X-XX-XX-XX",null,"R100",null,null,"2)","งบประมาณกลุ่มบัญชีค่าวิจัยและที่ปรึกษา (Sheet E250) สำหรับงานต่อเนื่อง โปรดกรอกช่องค่าใช้จ่ายจริง และประมาณจ่ายปี 2566 ให้ครบถ้วนด้วย"]
[null,"ต้นทุนจากการจำหน่ายกระแสไฟฟ้าและบริการ","51-XX-XX-XX",null,"R100","E200","E300","3)","ขอความร่วมมือศึกษาคู่มือก่อนใช้ไฟล์ตั้งงบประมาณ หรือศึกษาคู่มือควบคู่กับการทดลองใช้ไฟล์ตั้งงบประมาณก่อนตั้งงบประมาณจริง",null,null,null,null,null,null,null,null,null,null,"R001",null,null,null,null,"E001"]
[null,null,"51-XX-XX-XX",null,null,null,null,null,null,null,null,null,null,null,null,null,null,null,null,null,null,null,null,"E100"]
[null,null,"51-XX-XX-XX",null,null,null,null,null,"ข้อควรระวัง",null,null,null,null,null,null,null,null,null,null,null,null,"R100",null,"E200",null,"E300"]
[null,"ค่าใช้จ่ายเกี่ยวกับบุคคลากร","52-XX-XX-XX",null,"E110","E200","E300","1)","ไฟล์ตั้งงบประมาณนี้สามารถใช้ได้กับ Microsoft Excel ตั้งแต่ version 2010 ขึ้นไปเท่านั้น",null,null,null,null,null,null,null,null,null,null,null,null,"E110"]
[null,null,"52-XX-XX-XX",null,null,null,null,"2)","ห้าม Move sheet ออกจากไฟล์ตั้งงบประมาณ หรือนำ sheet จากไฟล์ตั้งงบประมาณไฟล์อื่นมาแทรก  เนื่องจากมีการผูกสูตรดึงตัวเลขเอาไว้",null,null,null,null,null,null,null,null,null,null,null,"E121","E120",null,null,"E210"]
[null,null,"52-XX-XX-XX",null,null,null,null,null,"หากหน่วยงานแบ่งหน้าที่การตั้งงบประมาณให้พนักงานหลายคน ให้แต่ละคนนำข้อมูลมากรอกไว้ในไฟล์เดียวกัน",null,null,null,null,null,null,null,null,null,null,null,null,null,null,null,"E220"]
[null,null,"52-XX-XX-XX","ประชุมชี้แจง","E220",null,null,"3)","การกรอกตัวเลขที่มีค่าเป็นศูนย์ ให้กรอกเลข “0” ห้ามกรอกเครื่องหมายขีด (“-”)",null,null,null,null,null,null,null,null,null,null,null,null,null,null,null,"E230"]
[null,"ค่าใช้จ่ายในการดำเนินงาน","53-XX-XX-XX",null,"E120","E200","E300","4)","ปุ่มต่าง ๆ ที่อยู่ในแต่ละแบบฟอร์ม เมื่อกดแล้วจะไม่สามารถกด Undo เพื่อย้อนกลับได้ ให้ระวังการกดปุ่ม “Delete roll” เป็นพิเศษ",null,null,null,null,null,null,null,null,null,null,null,null,null,null,null,"E240"]
[null,null,"53-XX-XX-XX",null,null,null,null,"5)","ให้เตรียมข้อมูลในหน่วยบาทเท่านั้น หากหน่วยงานในส่วนภูมิภาคเขตใดที่เตรียมข้อมูลในหลักล้านบาทเอาไว้ ยังสามารถใช้ข้อมูลในหลักล้านบาทนั้นได้",null,null,null,null,null,null,null,null,null,null,null,null,null,null,null,"E250"]
[null,null,"53-XX-XX-XX","ประชาสัมพันธ์","E230",null,null,null,"โดยให้เติม 0 ให้ครบจนเป็นหน่วยบาทด้วย"]
[null,null,"53-XX-XX-XX","กิจกรรมเพื่อสังคม","E240",null,null,"6)","การรวมตัวเลขทุก ๆ จุดในไฟล์ตั้งงบประมาณ ให้ใช้ function “SUBTOTAL” โดยใช้ Function_num = 109"]
[null,null,"53-XX-XX-XX","วิจัยและที่ปรึกษา","E250",null,null,null,"การใช้สูตร “SUM” ในบางจุดจะทำให้ตัวเลขรวมคลาดเคลื่อนได้ (เบิ้ล)"]
[null,null,"53-XX-XX-XX","ตัดต้นไม้ ป้องกันระบบจำหน่าย","E121","E200"]
[null,null,"54-XX-XX-XX",null,"E120","E200"]
[null,null,"55-XX-XX-XX"]

{"sheet":"Cover","index":1,"n_rows":152,"n_cols":36,"rows_kept":152,"cut":false,"hidden":false,"merged":[[8,1,10,1],[69,2,69,7],[8,2,8,7],[1,34,1,35],[149,3,149,8],[150,3,150,8],[151,3,151,8],[148,3,148,8],[29,9,29,10],[27,9,27,10]]}
[null,"ข้อมูลทั่วไปสำหรับตั้งงบประมาณ",null,null,null,null,null,null,null,null,null,null,null,"HO/ Branch",{"$f":"IF(C3=N5,\"HO\",IF(C3=N4,\"BR\",\"\"))","v":"BR"},null,null,null,null,null,null,null,null,null,null,null,null,null,null,null,null,null,null,null,"**ก่อนส่งไฟล์กลับให้แผนกงบประมาณเพื่อรวบรวม ให้กดปุ่ม \"Change sheet name\" ก่อนส่ง"]
["1)","ปีงบประมาณ",2567,null,null,null,null,null,null,null,null,null,null,"To header",{"$f":"IF(C3=N5,B5&\": \",IF(C3=N4,B4&\": \",\"\"))","v":"เขต: "},{"$f":"IF(C3=N5,division,IF(C3=N4,C4&\" - \"&division,\"\"))","v":"กฟน.3 - 07"},"Unit",{"$f":"IF(C3=N5,\"บาท\",IF(C3=N4,\"ล้านบาท\",\"\"))","v":"ล้านบาท"},{"$f":"IF(C3=N5,\"B\",IF(C3=N4,\"MB\",\"\"))","v":"MB"},null,null,null,null,null,null,null,null,null,null,null,null,null,null,null,"หน่วยงานย่อย (ส่วนภูมิภาค)"]
["2)","สำนักงานใหญ่/ ส่วนภูมิภาค","ส่วนภูมิภาค",null,null,null,null,null,null,null,null,null,null,"สายงาน","N1","N2","N3","E1","E2","E3","C1","C2","C3","S1","S2","S3",null,null,null,null,null,null,null,null,"ลำดับที่","ชื่อ"]
[null,{"$f":"IF(C3=N4,\"เขต\",\"สายงาน\")","v":"เขต"},"กฟน.3",null,null,null,null,null,null,null,null,null,null,"ส่วนภูมิภาค","กฟน.1","กฟน.2","กฟน.3","กฟฉ.1","กฟฉ.2","กฟฉ.3","กฟก.1","กฟก.2","กฟก.3","กฟต.1","กฟต.2","กฟต.3",null,null,null,null,null,null,null,null,"01","กฟจ.ลบ."]
[null,{"$f":"IF(C3=N4,\"ลำดับที่หน่วยงานย่อย\",\"หน่วยงาน\")","v":"ลำดับที่หน่วยงานย่อย"},"07",null,null,null,null,{"$f":"INDEX(O3:Z4,1,MATCH(Cover_สายเขต2,เขต,0))&\"-\"&division","v":"N3-07"},null,null,null,null,null,"สำนักงานใหญ่","ผวก.","สดท.","ฝวก.","สตภ.","ย.","ว.","วศ.","กบ.","ป.","ธต.","ภ.1","ภ.2","ภ.3","ภ.4","ทส.","บ.","บก.","สอ.",null,null,"02","กฟจ.นว."]
[null,{"$f":"IF(C3=N4,\"ชื่อหน่วยงานย่อย\",\"\")","v":"ชื่อหน่วยงานย่อย"},{"$f":"IFERROR(VLOOKUP(division,AI3:AJ102,2,0),\"\")","v":"กฟอ.นผ."},null,null,null,null,{"$f":"C6","v":"กฟอ.นผ."},null,null,null,null,null,null,"ผวก.","สดท.","ฝวก.","สตภ.","สรก.(ย)","สรก(ว).","สรก.(วศ)","สรก.(กบ)","สรก.(ป)","สรก.(ธต)","สรก.(ภ 1)","สรก.(ภ 2)","สรก.(ภ 3)","สรก.(ภ 4)","สรก.(ทส)","สรก.(บ)","สรก.(บก)","สรก.(สอ)",null,null,"03","กฟจ.อน."]
[null,null,null,null,null,null,null,null,null,null,null,null,null,null,null,"ฝดข.","กนพ.","ฝวต.","สชก.(ย)","สชก(ว).","สชก.(วศ)","สชก.(กบ)","สชก.(ป)","สชก.(ธต)","ฝอภ.(ภ1)","ฝอภ.(ภ2)","ฝอภ.(ภ3)","ฝอภ.(ภ4)","สชก.(ทส)","สชก.(บ)","สชก.(บก-ท)","สชก.(สอ)",null,null,"04","กฟจ.ชน."]
["3)","ข้อมูลสำหรับบัญชีเงินเดือนและบัญชีอื่น ๆ ที่เกี่ยวกับเงินเดือนและพนักงาน",null,null,null,null,null,null,null,null,null,null,null,null,null,"กดท.","กกก.","กปต.","สชก.(ย-กอ)","ฝวร.","ฝวศ.","ฝกส.","ฝคฟ.","ฝบว.","กจง.(ภ1)","กจง.(ภ2)","กจง.(ภ3)","กจง.(ภ4)","ฝพท.","ฝกง.","สชก.(บก-กม)","ฝจห.",null,null,"05","กฟจ.สห."]
[null,"ระดับ","จำนวนพนักงาน",null,null,null,null,null,null,null,null,null,null,null,null,"กจข.","กปก.","กวพ.","ฝนย.","กคก.","กวฟ.","กกส.","กจฟ.","กบศ.","กวศ.(ภ1)","กวศ.(ภ2)","กวศ.(ภ3)","กวศ.(ภ4)","กสส.","กกง.","ฝบค.","กวผ.",null,null,"06","กฟจ.พช."]
[null,null,{"$f":"$G$10-2","v":2565},{"$f":"$G$10-2","v":2565},{"$f":"+G10-1","v":2566},{"$f":"+G10-1","v":2566},{"$f":"A_Budget_year","v":2567},{"$f":"A_Budget_year","v":2567},null,null,null,null,null,null,null,"ฝพจ.",null,"กตส.","กผส.","กวร.","กวค.","กทอ.","กอค.","กบจ.",null,null,null,null,"กพก.","กตจ.","กงบ.","กจพ.1",null,null,"07","กฟอ.นผ."]
[null,null,"ยกมา","เกษียณ","ยกมา","เกษียณ","ยกมา","เกษียณ",null,"โทรศัพท์บ้าน","โทรศัพท์มือถือ",null,null,null,null,"กวบ.",null,"ฝตล.","กวป.","กผร.","ฝยธ.","กสง.","ศสฟ.","กรษ.",null,null,null,null,"กพล.","กภษ.","กรบ.","กจพ.2",null,null,"08","กฟอ.คสร."]
[null,"สำหรับสำนักงานใหญ่",null,null,null,null,null,null,null,null,null,null,null,null,null,"กอพ.",null,"กตผ.","กรอ.","กผอ.","กอย.","ฝกร.","ฝบร.","กธพ.",null,null,null,null,"ฝสท.","กรด.","ฝพบ.","ฝพด.",null,null,"09","กฟอ.สมส."]
[null,"รผก.",null,null,{"$f":"C13-D13","v":0},null,{"$f":"E13-F13","v":0},null,null,400,2000,null,null,null,null,null,null,"กตบ.","ฝนศ.","ฝวพ.","กจก.","กกฟ.1","กบส.","ฝพธ.",null,null,null,null,"กอส.","ฝบช.","กพค.","กคพ.1",null,null,"10","กฟอ.ตค."]
[null,"ผชก.",null,null,{"$f":"C14-D14","v":0},null,{"$f":"E14-F14","v":0},null,null,400,2000,null,null,null,null,null,null,"กตค.","กอธ.","กวจ.","กบย.","กกฟ.2","กอร.","กธส.",null,null,null,null,"กคข.","กบบ.","รรช.","กคพ.2",null,null,"11","กฟอ.ลยว."]
[null,"อฝ.",null,null,{"$f":"C15-D15","v":0},null,0,null,null,400,1000,null,null,null,null,null,null,"กตล.","กศฟ.","กนว.","ฝสฟ.","กผภ.","กบร.","กธม.",null,null,null,null,"กมส.","กบช.","ศฝฟ.","กคพ.3",null,null,"12","กฟอ.พฒ."]
[null,"รฝ.",null,null,{"$f":"C16-D16","v":0},null,0,null,null,400,1000,null,null,null,null,null,null,"ฝตส.","กซฟ.","กมอ.","กอฟ.","ฝบก.1","ฝมป.","ฝลต.",null,null,null,null,"ฝสค.","กทส.","กฝช.","กคพ.4",null,null,"13","กฟอ.ชบด."]
[null,"อก.",null,null,0,null,0,null,null,400,1000,null,null,null,null,null,null,"กตง.","กสร.","ฝสอ.","กจส.","กจค.1(บก1)","กมต.","กกต.",null,null,null,null,"กอบ.","กทค.","ฝบบ.","ฝธก.",null,null,"14","สชก."]
[null,"รก.",null,null,0,null,0,null,null,400,null,null,null,null,null,null,null,"กตอ.","ฝลส.","กสผ.","ฝรฟ.","กจค.2(บก1)","กมป.","กลพ.",null,null,null,null,"กบอ.","ฝงป.","กสก.","กนก.",null,null,"15","กอก."]
[null,"ชก.",null,null,0,null,0,null,null,null,null,null,null,null,null,null,null,"กตท.","กผบ.","กสพ.","กรฟ.(น.ฉ.ต.)","กจค.3(บก1)","กพร.",null,null,null,null,null,"กบข.","กงป.","กพบ.","กบก.",null,null,"16","ฝวบ."]
[null,null,null,null,null,null,null,null,null,null,null,null,null,null,null,null,null,"กตซ.","กปน.",null,"กรฟ.(ก)","ฝบก.2","ฝบผ.",null,null,null,null,null,null,"กปง.","กทช.","กพม.",null,null,"17","กบล."]
[null,"สำหรับส่วนภูมิภาค",null,null,null,null,null,null,null,null,null,null,null,"โทรศัพท์บ้าน","โทรศัพท์มือถือ",null,null,null,"กกท.",null,"กจร.","กจค.1(บก2)","กบค.",null,null,null,null,null,null,"กคจ.","กปภ.",null,null,null,"18","กวว."]
[null,"ผชก.",null,null,{"$f":"C22-D22","v":0},null,{"$f":"E22-F22","v":0},null,null,400,2000,null,null,400,2000,null,null,null,"ฝปส.",null,null,"กจค.2(บก2)","กคบ.",null,null,null,null,null,null,null,"ฝนก.",null,null,null,"19","กกค."]
[null,"อฝ.",null,null,0,null,0,null,null,400,1000,null,null,400,1000,null,null,null,"กปส.",null,null,"กจค.3(บก2)",null,null,null,null,null,null,null,null,"กนต.",null,null,null,"20","ฝบพ."]
[null,"รฝ.",null,null,0,null,0,null,null,400,1000,null,null,400,1000,null,null,null,"กสอ.",null,null,"ฝคพ.",null,null,null,null,null,null,null,null,"กปร.",null,null,null,"21","กบญ."]
[null,"อก.",null,null,0,null,0,null,null,400,1000,null,null,400,1000,null,null,null,"ฝสส.",null,null,"กจค.1(คพ)",null,null,null,null,null,null,null,null,"ฝคส.",null,null,null,"22","กซข."]
[null,"รก.",null,null,0,null,0,null,null,400,"x",null,null,400,0,null,null,null,"กพส.",null,null,"กจค.2(คพ)",null,null,null,null,null,null,null,null,"กนส.",null,null,null,"23","กรท."]
[null,"ผจก. กฟฟ. ชั้น 1,2,3",1,null,1,null,1,null,null,400,1000,null,null,400,1000,null,null,null,"กคส.",null,null,null,null,null,null,null,null,null,null,null,"กคด.",null,null,null,"24","ฝปบ."]
[null,"ชจก. กฟฟ. ชั้น 1,2,3 (*)",2,null,2,null,2,null,null,"เลือก (400)",null,null,null,400,400,null,null,null,null,null,null,null,null,null,null,null,null,null,null,null,null,null,null,null,"25","กปบ."]
[null,"ผจก. กฟส.",3,null,3,null,3,null,null,400,1000,null,null,400,1000,null,null,null,null,null,null,null,null,null,null,null,null,null,null,null,null,null,null,null,"26","กบษ."]
[null,"ผจก. กฟย. (*)",1,null,1,null,1,null,null,"เลือก (400)",null,null,null,400,400,null,"ชจก. และ ผจก. กฟย.",null,null,null,null,null,null,null,null,null,null,null,null,null,null,null,null,null,"27","กรส."]
[null,null,null,null,null,null,null,null,null,null,null,null,null,null,null,null,null,null,null,null,null,null,null,null,null,null,null,null,null,null,null,null,null,null,"28","แผนปฏิบัติ"]
[null,"สำหรับทั้งสำนักงานใหญ่ และส่วนภูมิภาค",null,null,null,null,null,null,null,null,null,null,null,null,null,null,null,null,null,null,null,null,null,null,null,null,null,null,null,null,null,null,null,null,"29","ธุรกิจเสริม"]
[null,"ระดับ 13",null,null,0,null,{"$f":"E33-F33","v":0},null,null,400,2000,null,null,null,null,null,null,null,null,null,null,null,null,null,null,null,null,null,null,null,null,null,null,null,"30"]
[null,"ระดับ 12",null,null,0,null,0,null,null,400,1000,null,null,null,null,null,null,null,null,null,null,null,null,null,null,null,null,null,null,null,null,null,null,null,"31"]
[null,"ระดับ 11",null,null,0,null,0,null,null,400,"x",null,null,400,400,"หน้างานไม่มีมือถือ",null,null,null,null,null,null,null,null,null,null,null,null,null,null,null,null,null,null,"32"]
[null,"ระดับ 10",null,null,0,null,0,null,null,400,"x",null,null,400,400,"หน้างานไม่มีมือถือ",null,null,null,null,null,null,null,null,null,null,null,null,null,null,null,null,null,null,"33"]
[null,"ระดับ 4-9",86,2,84,1,83,3,null,null,null,null,null,"เบิกค่าโทรบ้าน","10 up",null,null,null,null,null,null,null,null,null,null,null,null,null,null,null,null,null,null,null,"34"]
[null,"ตำแหน่ง/ ระดับอื่น ๆ ที่ไม่ได้ระบุไว้",11,null,11,null,11,null,null,null,null,null,null,null,"ตำแหน่ง ชจก. ผจก. และ กฟย.*",null,null,null,null,null,null,null,null,null,null,null,null,null,null,null,null,null,null,null,"35"]
[null,"รวม",{"$f":"SUM(C13:C38)","v":104},2,102,1,101,3,null,null,null,null,null,null,null,null,null,null,null,null,null,null,null,null,null,null,null,null,null,null,null,null,null,null,"36"]
[null,null,null,null,null,null,null,null,null,null,null,null,null,null,null,null,null,null,null,null,null,null,null,null,null,null,null,null,null,null,null,null,null,null,"37"]
[null,"(*) ค่าโทรศัพท์บ้านพักและค่าโทรศัพท์เคลื่อนที่ - ผู้บริหาร (สำหรับส่วนภูมิภาค)",null,null,null,null,null,null,null,null,null,null,null,null,null,null,null,null,null,null,null,null,null,null,null,null,null,null,null,null,null,null,null,null,"38"]
[null,"พนักงานในตำแหน่ง ชจก. กฟฟ. ชั้น 1,2,3/ ผจก. และ ผจก. กฟย. (กฟฟ. หน้างาน) หากไม่มีค่าโทรศัพท์บ้านพัก",null,null,null,null,null,null,null,null,null,null,null,null,null,null,null,null,null,null,null,null,null,null,null,null,null,null,null,null,null,null,null,null,"39"]
[null,"สามารถเลือกเบิกค่าโทรศัพท์เคลื่อนที่ได้ ในอัตราเดียวกัน รายละเอียดดังนี้",null,null,null,null,null,null,null,null,null,null,null,null,null,null,null,null,null,null,null,null,null,null,null,null,null,null,null,null,null,null,null,null,"40"]
[null,"ตำแหน่ง","จำนวน",null,"เลือกเบิกในบัญชีค่าโทรศัพท์เคลื่อนที่",null,"คงเหลือ",null,null,null,null,null,null,null,null,null,null,null,null,null,null,null,null,null,null,null,null,null,null,null,null,null,null,null,"41"]
[null,"ชจก. กฟฟ. ชั้น 1,2,3 (*)",{"$f":"C28","v":2},"คน",2,"คน",{"$f":"C45-E45","v":0},"คน",null,null,null,null,null,null,null,null,null,null,null,null,null,null,null,null,null,null,null,null,null,null,null,null,null,null,"42"]
[null,"ผจก. กฟย.  (*)",{"$f":"C30","v":1},"คน",1,"คน",{"$f":"C46-E46","v":0},"คน",null,null,null,null,null,null,null,null,null,null,null,null,null,null,null,null,null,null,null,null,null,null,null,null,null,null,"43"]
[null,null,null,null,null,null,null,null,null,null,null,null,null,null,null,null,null,null,null,null,null,null,null,null,null,null,null,null,null,null,null,null,null,null,"44"]
[null,{"$f":"\"เงินเดือนของพนักงานปี \"&A_Budget_year-2&\" ของ\"","v":"เงินเดือนของพนักงานปี 2565 ของ"},null,null,null,null,null,null,null,null,null,null,null,null,null,null,null,null,null,null,null,null,null,null,null,null,null,null,null,null,null,null,null,null,"45"]
[null," - พนักงานทั้งหมด (รวมผู้เกษียณ)",3811883,"บาท","(1 เดือน ณ เดือน กรกฏาคม / เปิดจาก SAP )",null,null,null,null,null,null,null,null,null,null,null,null,null,null,null,null,null,null,null,null,null,null,null,null,null,null,null,null,null,"46"]
[null,{"$f":"\" - พนักงานที่จะเกษียณอายุในปี \"&A_Budget_year-2","v":" - พนักงานที่จะเกษียณอายุในปี 2565"},274776,"บาท","(1 เดือน ณ เดือน กรกฏาคม)",null,null,null,null,null,null,null,null,null,null,null,null,null,null,null,null,null,null,null,null,null,null,null,null,null,null,null,null,null,"47"]
[null,{"$f":"\" - พนักงานที่จะเกษียณอายุในปี \"&A_Budget_year-1","v":" - พนักงานที่จะเกษียณอายุในปี 2566"},55100,"บาท","(1 เดือน ณ เดือน กรกฏาคม)",null,null,null,null,null,null,null,null,null,null,null,null,null,null,null,null,null,null,null,null,null,null,null,null,null,null,null,null,null,"48"]
[null,{"$f":"\" - พนักงานที่จะเกษียณอายุในปี \"&A_Budget_year","v":" - พนักงานที่จะเกษียณอายุในปี 2567"},202040,"บาท","(1 เดือน ณ เดือน กรกฏาคม)",null,null,null,null,null,null,null,null,null,null,null,null,null,null,null,null,null,null,null,null,null,null,null,null,null,null,null,null,null,"49"]
[null,null,null,null,null,null,null,null,null,null,null,null,null,null,null,null,null,null,null,null,null,null,null,null,null,null,null,null,null,null,null,null,null,null,"50"]
[null,null,null,null,null,null,null,null,null,null,null,null,null,null,null,null,null,null,null,null,null,null,null,null,null,null,null,null,null,null,null,null,null,null,"51"]
[null,{"$f":"\"เงินเดือนของพนักงานเข้าใหม่หลัง 31 ก.ค. \"&A_Budget_year-2","v":"เงินเดือนของพนักงานเข้าใหม่หลัง 31 ก.ค. 2565"},null,null,null,null,null,null,null,null,null,null,null,null,null,null,null,null,null,null,null,null,null,null,null,null,null,null,null,null,null,null,null,null,"52"]
[null,"จำนวนคน",1,"คน",null,null,null,null,null,null,null,null,null,null,null,null,null,null,null,null,null,null,null,null,null,null,null,null,null,null,null,null,null,null,"53"]
[null,"เงินเดือนรวม",16480,"บาท",null,null,null,null,null,null,null,null,null,null,null,null,null,null,null,null,null,null,null,null,null,null,null,null,null,null,null,null,null,null,"54"]
[null,null,null,null,null,null,null,null,null,null,null,null,null,null,null,null,null,null,null,null,null,null,null,null,null,null,null,null,null,null,null,null,null,null,"55"]
[null,null,null,null,null,null,null,null,null,null,null,null,null,null,null,null,null,null,null,null,null,null,null,null,null,null,null,null,null,null,null,null,null,null,"56"]
["4)","ข้อมูลสำหรับบัญชีเงินเพิ่มพิเศษวิชาชีพ",null,null,null,null,null,null,null,null,null,null,null,null,null,null,null,null,null,null,null,null,null,null,null,null,null,null,null,null,null,null,null,null,"57"]
[null,"จำนวนพนักงานที่ได้รับเงินเพิ่มพิเศษวิชาชีพในหน่วยงาน แยกตามวิชาชีพ",null,null,null,null,null,null,null,null,null,null,null,null,null,null,null,null,null,null,null,null,null,null,null,null,null,null,null,null,null,null,null,null,"58"]
[null,"วิชาชีพ","จำนวน (คน)",null,null,null,null,null,null,null,null,null,null,null,null,null,null,null,null,null,null,null,null,null,null,null,null,null,null,null,null,null,null,null,"59"]
[null,"วิศวกรรมศาสตร์",5,null,null,null,null,null,null,null,null,null,null,null,null,null,null,null,null,null,null,null,null,null,null,null,null,null,null,null,null,null,null,null,"60"]
[null,"สถาปัตยกรรมศาสตร์",0,null,null,null,null,null,null,null,null,null,null,null,null,null,null,null,null,null,null,null,null,null,null,null,null,null,null,null,null,null,null,null,"61"]
[null,"คอมพิวเตอร์",0,null,null,null,null,null,null,null,null,null,null,null,null,null,null,null,null,null,null,null,null,null,null,null,null,null,null,null,null,null,null,null,"62"]
[null,"รวม",{"$f":"SUM(C63:C65)","v":5},null,null,null,null,null,null,null,null,null,null,null,null,null,null,null,null,null,null,null,null,null,null,null,null,null,null,null,null,null,null,null,"63"]
[null,"*สำหรับพนักงานระดับ 4 - 11 เท่านั้น",null,null,null,null,null,null,null,null,null,null,null,null,"Alert in Msgbox",null,null,null,null,null,null,null,null,null,null,null,null,null,null,null,null,null,null,null,"64"]
[null,null,null,null,null,null,null,null,null,null,null,null,null,null,"โปรดตรวจสอบว่าได้เลือกทั้งบรรทัดแล้วสำหรับข้อมูลที่จะลบ",null,null,null,null,null,null,null,null,null,null,null,null,null,null,null,null,null,null,null,"65"]
["5)","ข้อมูลสำหรับบัญชีค่าจ้างรายเดือนลูกจ้างและสวัสดิการลูกจ้าง",null,null,null,null,null,null,null,null,null,null,null,null,"เมื่อลบแล้วจะไม่สามารถกด Undo ได้",null,null,null,null,null,null,null,null,null,null,null,null,null,null,null,null,null,null,null,"66"]
[null,null,"จำนวนลูกจ้าง",null,null,null,null,null,null,null,null,null,null,null,"ดำเนินการต่อไป?",null,null,null,null,null,null,null,null,null,null,null,null,null,null,null,null,null,null,null,"67"]
[null,null,{"$f":"A_Budget_year-2","v":2565},{"$f":"A_Budget_year-2","v":2565},{"$f":"A_Budget_year-1","v":2566},{"$f":"A_Budget_year-1","v":2566},{"$f":"A_Budget_year","v":2567},{"$f":"A_Budget_year","v":2567},null,null,null,null,null,null,null,null,null,null,null,null,null,null,null,null,null,null,null,null,null,null,null,null,null,null,"68"]
[null,null,"ยกมา","เกษียณ","ยกมา","เกษียณ","ยกมา","เกษียณ",null,null,null,null,null,null,null,null,null,null,null,null,null,null,null,null,null,null,null,null,null,null,null,null,null,null,"69"]
[null,"ลูกจ้าง",25,0,{"$f":"C73-D73","v":25},0,{"$f":"E73-F73","v":25},0,null,null,null,null,null,null,null,null,null,null,null,null,null,null,null,null,null,null,null,null,null,null,null,null,null,null,"70"]
[null,null,null,null,null,null,null,null,null,null,null,null,null,null,null,null,null,null,null,null,null,null,null,null,null,null,null,null,null,null,null,null,null,null,"71"]
[null,{"$f":"\"ค่าจ้างรายเดือนลูกจ้างปี \"&A_Budget_year-2&\" ของ\"","v":"ค่าจ้างรายเดือนลูกจ้างปี 2565 ของ"},null,null,null,null,null,null,null,null,null,null,null,null,null,null,null,null,null,null,null,null,null,null,null,null,null,null,null,null,null,null,null,null,"72"]
[null," - ลูกจ้างทั้งหมด (รวมผู้เกษียณ)",486328,"บาท","(1 เดือน ณ เดือน กรกฏาคม / เปิดจาก SAP )",null,null,null,null,null,null,null,null,null,null,null,null,null,null,null,null,null,null,null,null,null,null,null,null,null,null,null,null,null,"73"]
[null,{"$f":"\" - ลูกจ้างที่จะเกษียณอายุในปี \"&A_Budget_year-2","v":" - ลูกจ้างที่จะเกษียณอายุในปี 2565"},0,"บาท","(1 เดือน ณ เดือน กรกฏาคม)",null,null,null,null,null,null,null,null,null,null,null,null,null,null,null,null,null,null,null,null,null,null,null,null,null,null,null,null,null,"74"]
[null,{"$f":"\" - ลูกจ้างที่จะเกษียณอายุในปี \"&A_Budget_year-1","v":" - ลูกจ้างที่จะเกษียณอายุในปี 2566"},0,"บาท","(1 เดือน ณ เดือน กรกฏาคม)",null,null,null,null,null,null,null,null,null,null,null,null,null,null,null,null,null,null,null,null,null,null,null,null,null,null,null,null,null,"75"]
[null,{"$f":"\" - ลูกจ้างที่จะเกษียณอายุในปี \"&A_Budget_year","v":" - ลูกจ้างที่จะเกษียณอายุในปี 2567"},0,"บาท","(1 เดือน ณ เดือน กรกฏาคม)",null,null,null,null,null,null,null,null,null,null,null,null,null,null,null,null,null,null,null,null,null,null,null,null,null,null,null,null,null,"76"]
[null,null,null,null,null,null,null,null,null,null,null,null,null,null,null,null,null,null,null,null,null,null,null,null,null,null,null,null,null,null,null,null,null,null,"77"]
[null,null,null,null,null,null,null,null,null,null,null,null,null,null,null,null,null,null,null,null,null,null,null,null,null,null,null,null,null,null,null,null,null,null,"78"]
["6)","ข้อมูลสำหรับบัญชีเงินช่วยเหลือบุตร",null,null,null,null,null,null,null,null,null,null,null,null,null,null,null,null,null,null,null,null,null,null,null,null,null,null,null,null,null,null,null,null,"79"]
[null,"จำนวนบุตรที่มีสิทธิได้รับเงินช่วยเหลือตามระเบียบ กฟภ. ว่าด้วยเงิน ช่วยเหลือบุตรพนักงาน (ฉบับที่ 2)",null,null,null,null,null,60,"คน",null,null,null,null,null,null,null,null,null,null,null,null,null,null,null,null,null,null,null,null,null,null,null,null,null,"80"]
[null,null,null,null,null,null,null,null,null,null,null,null,null,null,null,null,null,null,null,null,null,null,null,null,null,null,null,null,null,null,null,null,null,null,"81"]
["7)","ข้อมูลสำหรับบัญชีเงินช่วยเหลือค่าไฟฟ้า",null,null,null,null,null,null,null,null,null,null,null,null,null,null,null,null,null,null,null,null,null,null,null,null,null,null,null,null,null,null,null,null,"82"]
[null,"เงินช่วยเหลือค่ากระแสไฟฟ้ารวมของหน่วยงาน (1 เดือน เปิดจาก SAP ณ เดือน กรกฏาคม)",null,null,null,null,null,755579.84,"บาท",null,null,null,null,null,null,null,null,null,null,null,null,null,null,null,null,null,null,null,null,null,null,null,null,null,"83"]
[null,null,null,null,null,null,null,null,null,null,null,null,null,null,null,null,null,null,null,null,null,null,null,null,null,null,null,null,null,null,null,null,null,null,"84"]
["8)","ค่าตอบแทนอยู่เวรแก้ไฟฟ้าขัดข้อง",null,null,null,null,null,null,null,null,null,null,null,null,null,null,null,null,null,null,null,null,null,null,null,null,null,null,null,null,null,null,null,null,"85"]
[null,"จำนวนผู้อยู่เวรแยกตามช่วงเวลา",null,null,null,null,null,null,null,null,null,null,null,null,null,null,null,null,null,null,null,null,null,null,null,null,null,null,null,null,null,null,null,null,"86"]
[null,"วัน/ เวลา","จำนวนผู้ปฏิบัติงาน","จำนวนวัน (ทั้งปี)","วันทำงาน/ ปี",null,null,null,null,null,null,null,null,null,null,null,null,null,null,null,null,null,null,null,null,null,null,null,null,null,null,null,null,null,"87"]
[null,"พนักงานช่าง",null,null,null,null,null,null,null,null,null,null,null,null,null,null,null,null,null,null,null,null,null,null,null,null,null,null,null,null,null,null,null,null,"88"]
[null,"วันทำการ (16:30 - 8:30)",4,239,{"$f":"+C92*D92","v":956},null,null,null,null,null,null,null,null,null,null,null,null,null,null,null,null,null,null,null,null,null,null,null,null,null,null,null,null,null,"89"]
[null,"วันหยุดฯ (8:30 - 16:30)",4,126,{"$f":"+C93*D93","v":504},null,null,null,null,null,null,null,null,null,null,null,null,null,null,null,null,null,null,null,null,null,null,null,null,null,null,null,null,null,"90"]
[null,"วันหยุดฯ (16:30 - 8:30)",4,126,{"$f":"+C94*D94","v":504},null,null,null,null,null,null,null,null,null,null,null,null,null,null,null,null,null,null,null,null,null,null,null,null,null,null,null,null,null,"91"]
[null,null,null,null,null,null,null,null,null,null,null,null,null,null,null,null,null,null,null,null,null,null,null,null,null,null,null,null,null,null,null,null,null,null,"92"]
[null,"หัวหน้าชุดงาน",null,null,null,null,null,null,null,null,null,null,null,null,null,null,null,null,null,null,null,null,null,null,null,null,null,null,null,null,null,null,null,null,"93"]
[null,"วันทำการ (16:30 - 8:30)",4,239,{"$f":"+C97*D97","v":956},null,null,null,null,null,null,null,null,null,null,null,null,null,null,null,null,null,null,null,null,null,null,null,null,null,null,null,null,null,"94"]
[null,"วันหยุดฯ (8:30 - 16:30)",4,126,{"$f":"+C98*D98","v":504},null,null,null,null,null,null,null,null,null,null,null,null,null,null,null,null,null,null,null,null,null,null,null,null,null,null,null,null,null,"95"]
[null,"วันหยุดฯ (16:30 - 8:30)",4,126,{"$f":"+C99*D99","v":504},null,null,null,null,null,null,null,null,null,null,null,null,null,null,null,null,null,null,null,null,null,null,null,null,null,null,null,null,null,"96"]
[null,null,null,null,null,null,null,null,null,null,null,null,null,null,null,null,null,null,null,null,null,null,null,null,null,null,null,null,null,null,null,null,null,null,"97"]
["9)","เงินเพิ่มฮอทไลน์",null,null,null,null,null,null,null,null,null,null,null,null,null,null,null,null,null,null,null,null,null,null,null,null,null,null,null,null,null,null,null,null,"98"]
[null,"จำนวนพนักงานปฏิบัติงานฮอทไลน์และจำนวนวันที่ทำงาน",null,null,null,null,null,null,null,null,null,null,null,null,null,null,null,null,null,null,null,null,null,null,null,null,null,null,null,null,null,null,null,null,"99"]
[null,"พนักงาน","จำนวนพนักงาน","วันทำงาน (ทั้งปี)","วันทำงาน/ ปี"]
[null,"พนักงานฮอทไลน์",7,315,{"$f":"+C104*D104","v":2205}]
[null,"พนักงานเชื่อมสาย",12,170,{"$f":"+C105*D105","v":2040}]
[]
["10)","เงินยังชีพ (14 จังหวัดภาคใต้)"]
[null,"จำนวนพนักงานที่ปฎิบัติงานอยู่ในเขต14 จังหวัดภาคใต้ ตามอัตราเงินเดือนที่กำหนด"]
[null,"อัตราเงินเดือน (บาท)","จำนวนพนักงาน"]
[null,"น้อยกว่า 10,440 บาท"]
[null,"มากกว่า 10,440 บาท"]
[]
["11)","ข้อมูลสำหรับบัญชีเงินช่วยเหลือค่าเครื่องแบบพนักงาน"]
[null,"จำนวนพนักงานที่มีสิทธิได้รับเงินช่วยเหลือ แยกตามกลุ่ม"]
[null,"กลุ่ม","จำนวน (คน)"]
[null,"พนักงานช่าง",6]
[null,"พนักงาน",0]
[null,"ลูกจ้างช่าง",2]
[null,"รวม",{"$f":"SUM(C116:C118)","v":8}]
[]
["12)","ค่าเช่าบ้าน"]
[null,"จำนวนพนักงานที่ได้รับสิทธิค่าเช่าบ้านตามตามคำสั่ง กฟภ. แยกตามระดับเงินเดือน"]
[null,"อัตราเงินเดือน (บาท)","จำนวนพนักงาน"]
[null,"ไม่เกิน 15,000 บาท"]
[null,"15,001 - 25,000",4]
[null,"25,001 - 35,000",3]
[null,"35,001 - 50,000",1]
[null,"50,000 บาทขึ้นไป",6]
[null,"รวม",{"$f":"SUM(C124:C128)","v":14}]
[]
[null,"จำนวนผู้ใช้ไฟ แยกตามประเภทค่าตอบแทน"]
[null,"ประเภทค่าตอบแทน","จำนวนผู้ใช้ไฟ","อัตรา","(บาท/ ราย)"]
["13)","ค่าตอบแทน-การจดหน่วยการใช้ไฟฟ้า"]
["14)","ค่าตอบแทน-การจดหน่วยพร้อมแจ้งค่าไฟฟ้า",122500,7]
["15)","ค่าตอบแทน-การเก็บเงินค่าไฟฟ้า"]
[]
["16)","ข้อมูลสำหรับบัญชีค่าเชื้อเพลิงยานพาหนะ"]
[null,"ประมาณการปริมาณเชื้อเพลิงที่หน่วยงานคาดว่าจะใช้",null,null,null,null,null,201000,"ลิตร"]
[]
["17)","ข้อมูลสำหรับบัญชีค่าซ่อมแซมบำรุงรักษา-คอมฯ&อุปกรณ์ต่อพ่วง"]
[null,"อุปกรณ์ในหน่วยงาน ที่หมดระยะเวลาประกันแล้ว"]
[null,"อุปกรณ์","จำนวน"]
[null,"Computer",51]
[null,"Notebook",1]
[null,"Printer",31]
[null,"Scaner",10]
[null,"รวม",{"$f":"SUM(C143:C146)","v":93}]
[]
[null,"ผู้จัดทำ/ ผู้รับผิดชอบ","เบอรโทรศัพท์","รายละเอียด/ ส่วนที่รับผิดชอบ (ไม่จำเป็นต้องระบุหากไม่มี)"]
[1,"น.ส.ภวิกา  แซ่หย่ง","095-3517916"]
[2]
[3]

{"sheet":"Rate","index":2,"n_rows":109,"n_cols":18,"rows_kept":109,"cut":false,"hidden":false,"merged":[[29,3,29,4],[26,3,26,4],[27,3,27,4],[77,3,77,4]]}
["รหัสบัญชี","ชื่อบัญชี",null,null,"อัตรา"]
[52010070,"สวัสดิการลูกจ้าง","บาท/ คน/ ปี",null,27000]
[52011020,"เงินสมทบกองทุนสำรองเลี้ยงชีพ","ร้อยละของเงินดือนที่ขอตั้ง",null,0.105]
[52012010,"เงินเพิ่มพิเศษวิชาชีพ","บาท/ คน/ เดือน",null,1900]
[52012060,"ค่าโทรศัพท์บ้านพัก- ผู้บริหาร","บาท/ คน/ เดือน",null,400]
[null,"สำหรับตำแหน่งต่อไปนี้"]
["1)","รก. - รผก.","(สำนักงานใหญ่)"]
["2)","ผจก. กฟฟ. ชั้น 1,2,3","(ส่วนภูมิภาค)"]
["3)","ชจก. กฟฟ. ชั้น 1,2,3/ ผจก. กฟส. และ ผจก. กฟย.","(ส่วนภูมิภาค) *มีสิทธิเลือกเบิกในบัญชีค่าโทรศัพท์เคลื่อนที่"]
["4)","นักวิชาการระดับ 10 - ผู้เชี่ยวชาญระดับ 13","(ทั้งหมด)"]
[]
[52012070,"ค่าโทรศัพท์เคลื่อนที่ -ผู้บริหาร","บาท/ คน/ ปี",null,"ขึ้นอยู่กับระดับ"]
[]
[null,"ระดับ/ ตำแหน่ง"]
[null,"ตำแหน่ง รผก. ผชก. และระดับ 13",null,null,2000]
[null,"ตำแหน่ง อก. ถึง อฝ. และระดับ 12",null,null,1000]
[null,"ตำแหน่ง ผจก.กฟฟ. ชั้น 1,2,3",null,null,1000]
[]
[52020030,"เงินช่วยเหลือค่าเล่าเรียนบุตร","บาท/ คน/ ปี",null,"ขึ้นอยู่กับระดับและสถาบัน"]
[]
[null,"ระดับ","รัฐบาล","เอกชนไม่รับงินอุดหนุน","เอกชนรับเงินอุดหนุน",null,null,"ระดับ","AA (อนุบาล - ม.ปลาย)"]
[null,null,"A.1","A.2","A.3",null,null,"AA) อนุบาลหรือเทียบเท่า","A.1) รัฐบาล","A.1","-"]
["A","อนุบาลหรือเทียบเท่า",5800,13600,4800,null,null,"AA) ประถมศึกษาหรือเทียบเท่า","A.2) เอกชนไม่รับงินอุดหนุน","A.2","-"]
["A","ประถมศึกษาหรือเทียบเท่า",4000,13200,4200,null,null,"AA) มัธยมศึกษาตอนต้นหรือเทียบเท่า","A.3) เอกชนรับเงินอุดหนุน","A.3","-"]
["A","มัธยมศึกษาตอนต้นหรือเทียบเท่า",4800,15800,3300,null,null,"AA) มัธยมศึกษาตอนปลายหรือเทียบเท่า"]
["A","มัธยมศึกษาตอนปลายหรือเทียบเท่า",4800,16200,3200,null,null,"BB) ปวช.","BB (ปวช)"]
["B","ปวช.",4800,"ขึ้นอยู่กับสายวิชา",null,null,null,"CC) ปวส. (หรือเทียบเท่า)/ ปวท.","B.1) รัฐบาล","B.1","-"]
["C","ปวส. หรือเทียบเท่า/ ปวท.","N/A","ขึ้นอยู่กับสายวิชา",null,null,null,"DD) อนุปริญญาหรือเทียบเท่า","B.2) เอกชนไม่รับงินอุดหนุน","B.2","B) คหกรรม หรือคหกรรมศาสตร์","B) พาณิชยกรรม หรือบริหารธุรกิจ","B) ศิลปหัตถกรรม หรือศิลปกรรม","B) เกษตรกรรม หรือเกษตรศาสตร์","B) ช่างอุตสาหกรรม หรืออุตสาหกรรม","B) ประมง","B) อุตสาหกรรมการท่องเที่ยว","B) อุตสาหกรรมสิ่งทอ"]
["D","อนุปริญญาหรือเทียบเท่า",13700,"N/A","N/A",null,null,"EE) ปริญญาตรี","B.3) เอกชนรับเงินอุดหนุน","B.3","B) คหกรรม หรือคหกรรมศาสตร์","B) พาณิชยกรรม หรือบริหารธุรกิจ","B) ศิลปหัตถกรรม หรือศิลปกรรม","B) เกษตรกรรม หรือเกษตรศาสตร์","B) ช่างอุตสาหกรรม หรืออุตสาหกรรม","B) ประมง","B) อุตสาหกรรมการท่องเที่ยว","B) อุตสาหกรรมสิ่งทอ"]
["E","ปริญญาตรี",25000," เบิกได้ครึ่งหนึ่งแต่ไม่เกิน 25,000 บาท"]
[]
[null,"สายวิชาของ ปวช",null,"เอกชนไม่รับงินอุดหนุน","เอกชนรับเงินอุดหนุน",null,null,null,"CC  (ปวส. หรือเทียบเท่า/ ปวท.)"]
[null,null,null,"B.2","B.3",null,null,null,"C.1) เอกชน","C.1","C.1) ช่างอุตสาหกรรม","C.1) อุตสาหกรรมเทคโนโลยีสารสนเทศและการสื่อสาร","C.1) ทัศนศาสตร์","C.1) พาณิชยกรรม หรือบริหารธุรกิจ","C.1) ศิลปหัตถกรรม หรือศิลปกรรม","C.1) เกษตรกรรม หรือเกษตรศาสตร์","C.1) คหกรรมหรือคหกรรมศาสตร์","C.1) อุตสาหกรรมการท่องเที่ยว"]
["B","B) คหกรรม หรือคหกรรมศาสตร์",null,16500,3400]
["B","B) พาณิชยกรรม หรือบริหารธุรกิจ",null,19900,5100,null,null,null,"DD (อนุปริญญาหรือเทียบเท่า)"]
["B","B) ศิลปหัตถกรรม หรือศิลปกรรม",null,20000,3600,null,null,null,"D.1) รัฐบาล","D.1","-"]
["B","B) เกษตรกรรม หรือเกษตรศาสตร์",null,21000,5000]
["B","B) ช่างอุตสาหกรรม หรืออุตสาหกรรม",null,24400,7200,null,null,null,"EE (ปริญญาตรี)"]
["B","B) ประมง",null,21100,5000,null,null,null,"E.1) รัฐบาล","E.1","-"]
["B","B) อุตสาหกรรมการท่องเที่ยว",null,19900,5100,null,null,null,"E.2) เอกชน","E.2","-"]
["B","B) อุตสาหกรรมสิ่งทอ",null,24400,7200]
[]
[null,"สายวิชาของ ปวส",null,"เอกชน"]
[null,null,null,"C.1"]
["C","C.1) ช่างอุตสาหกรรม",null,30000]
["C","C.1) อุตสาหกรรมเทคโนโลยีสารสนเทศและการสื่อสาร",null,30000]
["C","C.1) ทัศนศาสตร์",null,30000]
["C","C.1) พาณิชยกรรม หรือบริหารธุรกิจ",null,25000]
["C","C.1) ศิลปหัตถกรรม หรือศิลปกรรม",null,25000]
["C","C.1) เกษตรกรรม หรือเกษตรศาสตร์",null,25000]
["C","C.1) คหกรรมหรือคหกรรมศาสตร์",null,25000]
["C","C.1) อุตสาหกรรมการท่องเที่ยว",null,25000]
[]
[52020040,"เงินช่วยเหลือบุตร",null,"บาท/ คน/ เดือน",500]
[52021010,"ค่ารักษาพยาบาล-พนักงาน",null,"บาท/ คน/ ปี",18600]
[52021020,"ค่ารักษาพยาบาล-ครอบครัวพนักงาน",null,"บาท/ คน/ ปี",19000]
[52022020,"ค่าเบี้ยเลี้ยง-พนักงาน",null,"บาท/ คน/ วัน","ขึ้นอยู่กับระดับ"]
[52022030,"ค่าที่พัก-พนักงาน",null,"บาท/ คน/ คืน","ขึ้นอยู่กับระดับ"]
[null,null,null,null,null,null,null,"PD_house"]
[null,"ตำแหน่ง",null,"เบี้ยเลี้ยพนักงาน","ที่พักพนักงาน",null,null,"ขอบ","ระดับ","เบี้ยเลี้ยพนักงาน","ที่พักพนักงาน"]
[null,"ระดับ 1 - 3",null,255,445,null,null,1,"1 - 3",255,445]
[null,"ระดับ 4 - 6",null,255,500,null,null,4,"4 - 6",255,500]
[null,"ชผ./ หผ./ ชก./ \nผจก. กฟย./ ชจก. กฟฟ. ชั้น 3 /  ผจก. กฟส./\nหรือ ระดับ 7 - 9",null,315,750,null,null,7,"7 - 9",315,750]
[null,"รก./ อก./ รฝ./ อฝ./ \nชจก. กฟฟ. ชั้น 1-2/ ผจก. กฟฟ ชั้น 1-3 \nหรือ ดับ 10 - 12",null,315,875,null,null,10,"10 - 12",315,875]
[null,"ระดับ 13",null,390,2000,null,null,13,"13",390,2000]
[null,"รผก. หรือ ผชก.",null,2000,2000,null,null,"รผก. หรือ ผชก.","รผก. หรือ ผชก.",2000,2000]
[]
[52022060,"ค่าพาหนะเดินทางไปปฏิบัติงานต่างท้องที่-ลูกจ้าง",null,"บาท/ คน/ ปี",1300]
[52022070,"ค่าเบี้ยเลี้ยง-ลูกจ้าง",null,"บาท/ คน/ ปี",1300]
[52022080,"ค่าที่พัก-ลูกจ้าง",null,"บาท/ คน/ ปี",1300]
[52030020,"ค่าใช้จ่ายในการอบรมสัมมนา-นอกแผน",null,"บาท/ คน/ ปี",2200]
[]
[]
[53051060,"ค่าซ่อมแซมบำรุงรักษา-คอมฯ&อุปกรณ์ต่อพ่วง",null,"บาท/ เครื่อง/ เดือน",120]
[53039010,"ค่าเชื้อเพลิงยานพาหนะ",null,"บาท/ ลิตร",35]
[]
[52010040,"ค่าตอบแทนอยู่เวรแก้ไฟฟ้าขัดข้อง"]
[null,null,null,"อัตราค่าตอบแทน (บาท/ วันทำงาน)"]
[null,"วัน/ เวลา",null,"พนักงานช่าง","หัวหน้าชุดงาน"]
[null,"วันทำการ (16:30 - 8:30)",null,150,180]
[null,"วันหยุดฯ (8:30 - 16:30)",null,175,205]
[null,"วันหยุดฯ (16:30 - 8:30)",null,150,180]
[]
[52012020,"เงินเพิ่มฮอทไลน์"]
[null,"พนักงาน",null,"อัตราเงินเพิ่ม","(บาท/ วันทำงาน)"]
[null,"พนักงานฮอทไลน์",null,150]
[null,"พนักงานเชื่อมสาย",null,150]
[]
[52012040,"เงินยังชีพ (14 จังหวัดภาคใต้)"]
[]
[null,"อัตราเงินเดือน (บาท)",null,"อัตราเงินยังชีพ","(บาท/ เดือน)"]
[null,"น้อยกว่า 10,440 บาท",null,50]
[null,"มากกว่า 10,440 บาท",null,100]
[]
[52020020,"เงินช่วยเหลือค่าเครื่องแบบพนักงาน"]
[]
[null,"กลุ่ม","อัตรา","(บาท/ ปี)"]
[null,"พนักงานช่าง",1500]
[null,"พนักงาน",1500]
[null,"ลูกจ้างช่าง",1500]
[]
[52029010,"ค่าเช่าบ้าน"]
[]
[null,"อัตราเงินเดือน (บาท)",null,"อัตราค่าเช่าบ้าน","(บาท/ เดือน)"]
[null,"ไม่เกิน 15,000 บาท",null,2500]
[null,"15,001 - 25,000",null,3500]
[null,"25,001 - 35,000",null,4000]
[null,"35,001 - 50,000",null,5000]
[null,"50,000 บาทขึ้นไป",null,6000]

{"sheet":"SAP","index":3,"n_rows":998,"n_cols":19,"rows_kept":998,"cut":false,"hidden":false,"merged":[[0,0,0,7],[0,11,0,18],[1,0,1,1],[1,2,1,5],[1,6,1,7],[1,11,1,12],[1,17,1,18],[1,13,1,16]]}
["รายได้",null,null,null,null,null,null,null,null,null,null,"ค่าใช้จ่าย"]
[{"$f":"A_Budget_year-3","v":2564},null,{"$f":"A_Budget_year-2","v":2565},null,null,null,{"$f":"A_Budget_year-1","v":2566},null,null,null,null,{"$f":"A_Budget_year-3","v":2564},null,{"$f":"A_Budget_year-2","v":2565},null,null,null,{"$f":"A_Budget_year-1","v":2566}]
["รหัสบัญชี","รายได้จริง ","รหัสบัญชี","ค่าจริงจาก SAP","ประมาณเพิ่ม","รายได้ประมาณการ","รหัสบัญชี","วงเงินที่ได้รับ",null,null,null,"รหัสบัญชี","ค่าใช้จ่ายจริง ","รหัสบัญชี","ค่าจริงจาก SAP","ประมาณเพิ่ม","ค่าใช้จ่ายประมาณการ","รหัสบัญชี","วงเงินที่ได้รับ"]
[41010010,1709067830.1900001,41010010,1091464091.02,{"$f":"D4/7*5","v":779617207.87142861},{"$f":"SUM(D4:E4)","v":1871081298.8914285},null,null,55555555,55555555,55555555,51011010,17905.23,51011010,74172,{"$f":"O4/7*5","v":52980},{"$f":"SUM(O4:P4)","v":127152}]
[41010020,168691.76,41010020,103084.26,{"$f":"D5/7*5","v":73631.614285714284},{"$f":"SUM(D5:E5)","v":176715.87428571429},null,null,null,null,null,51011020,0,51011020,0,{"$f":"O5/7*5","v":0},{"$f":"SUM(O5:P5)","v":0}]
[41012020,116722969.2,41012020,6839556.5099999998,4885397.5071428567,11724954.017142856,null,null,null,null,null,52010030,1176645.52,52010030,769452.24,{"$f":"O6/7*5","v":549608.74285714282},1319060.9828571428]
[41020040,-52011749.969999999,41020040,0,0,0,null,null,null,null,null,52010040,645800,52010040,346580,{"$f":"O7/7*5","v":247557.14285714287},594137.14285714284]
[41020050,-81116962.930000007,41020050,0,0,0,null,null,null,null,null,52010990,158194.82,52010990,145000,103571.42857142857,248571.42857142858]
[41020060,0,41020060,-6839556.5099999998,-4885397.5071428567,-11724954.017142856,null,null,null,null,null,52012010,52956,52012010,33075,23625,56700]
[41035010,25345346.100000001,41035010,11591678.630000001,8279770.4500000002,19871449.080000002,null,null,null,null,null,52012020,503850,52012020,260100,185785.71428571426,445885.71428571426]
[41035019,2490010.67,41035019,564380.51,403128.9357142857,967509.44571428571,null,null,null,null,null,52012030,0,52012030,0,0,0]
[41030990,0,41030990,1023.57,731.12142857142862,1754.6914285714288,null,null,null,null,null,52012040,0,52012040,0,0,0]
[41031010,7506364.7999999998,41031010,3433672.81,2452623.4357142858,5886296.2457142863,null,null,null,null,null,52012050,636361.82999999996,52012050,357231.84,255165.6,612397.44000000006]
[41031020,81516.850000000006,41031020,44246.79,31604.850000000002,75851.64,null,null,null,null,null,52012060,0,52012060,0,0,0]
[41031990,1240,41031990,24360,17400,41760,null,null,null,null,null,52012070,60000,52012070,36400,26000,62400]
[41032010,2074900,41032010,1002750,716250,1719000,null,null,null,null,null,52012990,0,52012990,0,0,0]
[41032019,-82300,41032019,42100,30071.428571428572,72171.42857142858,null,null,null,null,null,52020020,6000,52020020,0,0,0]
[41032020,861080,41032020,305780,218414.28571428574,524194.28571428574,null,null,null,null,null,52020030,316635,52020030,227291.5,162351.07142857142,389642.57142857142]
[41032029,-420080,41032029,22540,16100,38640,null,null,null,null,null,52020040,266500,52020040,162500,116071.42857142857,278571.42857142858]
[41033020,50000,41033020,50000,35714.285714285717,85714.28571428571,null,null,null,null,null,52020990,131440,52020990,1200,857.14285714285711,2057.1428571428569]
[41034020,201280,41034020,142120,101514.28571428571,243634.28571428571,null,null,null,null,null,52022010,22588,52022010,17043,12173.571428571429,29216.571428571428]
[41034030,46000,41034030,555700,396928.57142857148,952628.57142857148,null,null,null,null,null,52022020,517290,52022020,423575,302553.57142857142,726128.57142857136]
[41034040,3750,41034040,46600,33285.714285714283,79885.71428571429,null,null,null,null,null,52022030,1058580,52022030,892655,637610.71428571432,1530265.7142857143]
[41034990,-400,41034990,0,0,0,null,null,null,null,null,52022040,0,52022040,0,0,0]
[41036030,1399662.45,41036030,473365.8,338118.42857142858,811484.22857142857,null,null,null,null,null,52022050,0,52022050,0,0,0]
[41036010,13605048.66,41036010,8013508.0899999999,5723934.3499999996,13737442.439999999,null,null,null,null,null,52022060,832,52022060,396,282.85714285714283,678.85714285714289]
[41036017,3828.93,41036017,-3828.93,-2734.95,-6563.8799999999992,null,null,null,null,null,52022070,4845,52022070,1530,1092.8571428571429,2622.8571428571431]
[41032030,1791290.58,41032030,840264.54,600188.95714285714,1440453.4971428572,null,null,null,null,null,52022080,2670,52022080,890,635.71428571428567,1525.7142857142858]
[41032039,-157750.09,41032039,-168960.91,-120686.36428571428,-289647.27428571426,null,null,null,null,null,52029010,599550,52029010,276000,197142.85714285713,473142.85714285716]
[41035020,213247.34,41035020,894737.55,639098.25,1533835.8,null,null,null,null,null,52029990,0,52029990,0,0,0]
[41035029,-41151,41035029,30895.5,22068.214285714283,52963.714285714283,null,null,null,null,null,52030010,0,52030010,0,0,0]
[41039010,235000,41039010,160000,114285.71428571429,274285.71428571432,null,null,null,null,null,52030020,3183,52030020,5260,3757.1428571428573,9017.1428571428569]
[41039030,67010,41039030,14506,10361.428571428571,24867.428571428572,null,null,null,null,null,52030030,9375,52030030,13890,9921.4285714285706,23811.428571428572]
[41039039,-13656,41039039,21062,15044.285714285714,36106.28571428571,null,null,null,null,null,53010010,0,53010010,0,0,0]
[41039110,11111462.83,41039110,6711287.0099999998,4793776.4357142858,11505063.445714286,null,null,null,null,null,53010020,9267551.1999999993,53010020,5027062.8,3590759.1428571427,8617821.9428571425]
[41039160,8000,41039160,2000,1428.5714285714287,3428.5714285714284,null,null,null,null,null,53010030,0,53010030,0,0,0]
[41039169,-4000,41039169,2000,1428.5714285714287,3428.5714285714284,null,null,null,null,null,53010040,121838,53010040,1123793,802709.28571428568,1926502.2857142857]
[41039020,44650.52,41039020,63870.43,45621.735714285714,109492.16571428571,null,null,null,null,null,53010050,0,53010050,0,0,0]
[41039029,0,41039029,-3000,-2142.8571428571427,-5142.8571428571431,null,null,null,null,null,53010070,9640247.8000000007,53010070,5655925.5999999996,4039946.8571428573,9695872.457142856]
[41039090,299441.5,41039090,424328.8,303092,727420.8,null,null,null,null,null,53010080,2819236,53010080,1582750,1130535.7142857143,2713285.7142857146]
[41039099,0,41039099,-119400,-85285.71428571429,-204685.71428571429,null,null,null,null,null,53010090,5200754.6500000004,53010090,3229592.7,2306851.9285714286,5536444.6285714284]
[41038010,4037.28,41038010,2355.08,1682.2,4037.2799999999997,null,null,null,null,null,53010100,2281008.7000000002,53010100,1079128.68,770806.2,1849934.88]
[41039990,87618.76,41039990,194500.53,138928.95000000001,333429.48,null,null,null,null,null,53011010,0,53011010,0,0,0]
[41012010,38638591.75,41012010,23773476.73,16981054.807142857,40754531.537142858,null,null,null,null,null,53011020,0,53011020,0,0,0]
[49020020,99279.4,49020020,617.52,441.08571428571429,1058.6057142857144,null,null,null,null,null,53011030,0,53011030,0,0,0]
[49020040,26552.2,49020040,16140,11528.571428571429,27668.571428571428,null,null,null,null,null,53011040,0,53011040,0,0,0]
[49020990,39.450000000000003,49020990,0,0,0,null,null,null,null,null,53011990,0,53011990,0,0,0]
[41039040,81000,41039040,468000,334285.71428571426,802285.71428571432,null,null,null,null,null,53012010,0,53012010,0,0,0]
[41039050,195761.2,41039050,155421.45000000001,111015.32142857145,266436.77142857143,null,null,null,null,null,53012030,0,53012030,0,0,0]
[41039060,199864.77,41039060,161289.62,115206.87142857144,276496.4914285714,null,null,null,null,null,53012040,0,53012040,0,0,0]
[41039130,567504.31000000006,41039130,0,0,0,null,null,null,null,null,53012990,0,53012990,0,0,0]
[49040010,397729.11,49040010,0,0,0,null,null,null,null,null,53019990,1500,53019990,0,0,0]
[49041010,21184355.34,49041010,0,0,0,null,null,null,null,null,53021010,39066.67,53021010,34953,24966.428571428572,59919.428571428572]
[49050010,97,49050010,0,0,0,null,null,null,null,null,53021020,145289.26999999999,53021020,83204.42,59431.728571428568,142636.14857142855]
[49050070,303037.68,49050070,431135.53,307953.95,739089.48,null,null,null,null,null,53021030,0,53021030,21210,15150,36360]
[49059990,60111.45,49059990,56643.14,40459.385714285716,97102.525714285715,null,null,null,null,null,53030010,894144.09,53030010,544564.98,388974.98571428575,933539.96571428573]
[49010010,11899.68,49010010,6469.65,4621.1785714285716,11090.82857142857,null,null,null,null,null,53030030,197570.46,53030030,80980.37,57843.121428571423,138823.4914285714]
[49019010,1545287.51,49019010,766172.53,547266.09285714291,1313438.6228571429,null,null,null,null,null,53031010,91630.92,53031010,50088.22,35777.300000000003,85865.52]
[49040010,0,49040010,-13748.3,-9820.2142857142844,-23568.514285714286,null,null,null,null,null,53031020,273038.75,53031020,93568.75,66834.821428571435,160403.57142857142]
[49041010,0,49041010,-3153865.47,-2252761.0500000003,-5406626.5200000005,null,null,null,null,null,53031030,856874.47,53031030,558150.22,398678.72857142857,956828.94857142854]
[49050010,0,49050010,-234.6,-167.57142857142856,-402.17142857142858,null,null,null,null,null,53032010,10126.11,53032010,4276.5,3054.6428571428573,7331.1428571428569]
[null,null,null,null,null,0,null,null,null,null,null,53032020,47464.09,53032020,25790,18421.428571428572,44211.428571428572]
[null,null,null,null,null,0,null,null,null,null,null,53032030,0,53032030,0,0,0]
[null,null,null,null,null,0,null,null,null,null,null,53032050,9880,53032050,0,0,0]
[null,null,null,null,null,0,null,null,null,null,null,53032060,127842,53032060,47471,33907.857142857145,81378.857142857145]
[null,null,null,null,null,0,null,null,null,null,null,53032070,0,53032070,0,0,0]
[null,null,null,null,null,0,null,null,null,null,null,53032080,38767,53032080,21298,15212.857142857141,36510.857142857145]
[null,null,null,null,null,0,null,null,null,null,null,53032990,19950,53032990,9576,6840,16416]
[null,null,null,null,null,{"$f":"SUM(D69:E69)","v":0},null,null,null,null,null,53033010,73000,53033010,24000,17142.857142857141,{"$f":"SUM(O69:P69)","v":41142.857142857145}]
[null,null,null,null,null,0,null,null,null,null,null,53033020,0,53033020,0,0,0]
[null,null,null,null,null,0,null,null,null,null,null,53033030,0,53033030,0,{"$f":"O71/7*5","v":0},0]
[null,null,null,null,null,0,null,null,null,null,null,53033040,0,53033040,0,0,0]
[null,null,null,null,null,0,null,null,null,null,null,53033050,0,53033050,0,0,0]
[null,null,null,null,null,0,null,null,null,null,null,53033060,0,53033060,0,0,0]
[null,null,null,null,null,0,null,null,null,null,null,53033070,5000,53033070,4000,2857.1428571428573,6857.1428571428569]
[null,null,null,null,null,0,null,null,null,null,null,53033990,0,53033990,0,0,0]
[null,null,null,null,null,0,null,null,null,null,null,53034010,609956,53034010,326986,233561.42857142858,560547.42857142864]
[null,null,null,null,null,0,null,null,null,null,null,53034030,16285,53034030,8500,6071.4285714285706,14571.428571428571]
[null,null,null,null,null,0,null,null,null,null,null,53034040,143853.01,53034040,120928.45,86377.46428571429,207305.91428571427]
[null,null,null,null,null,0,null,null,null,null,null,53039010,3846217.63,53039010,2615214.15,1868010.1071428573,4483224.2571428567]
[null,null,null,null,null,0,null,null,null,null,null,53039020,7580,53039020,0,0,0]
[null,null,null,null,null,0,null,null,null,null,null,53039990,135913.54,53039990,35220.31,25157.364285714284,60377.674285714282]
[null,null,null,null,null,0,null,null,null,null,null,53050010,1201085,53050010,1122435,801739.28571428568,1924174.2857142857]
[null,null,null,null,null,0,null,null,null,null,null,53050020,6882369.2999999998,53050020,3537101.75,2526501.25,6063603]
[null,null,null,null,null,0,null,null,null,null,null,53051010,3805580.46,53051010,2834060.06,2024328.6142857142,4858388.6742857145]
[null,null,null,null,null,0,null,null,null,null,null,53051030,392320,53051030,0,0,0]
[null,null,null,null,null,0,null,null,null,null,null,53051040,149586.45000000001,53051040,181815,129867.85714285713,311682.85714285716]
[null,null,null,null,null,0,null,null,null,null,null,53051050,1883396.61,53051050,637797.27,455569.47857142857,1093366.7485714285]
[null,null,null,null,null,0,null,null,null,null,null,53051060,7965.1,53051060,1306.3499999999999,933.10714285714289,2239.4571428571426]
[null,null,null,null,null,0,null,null,null,null,null,53051070,0,53051070,0,0,0]
[null,null,null,null,null,0,null,null,null,null,null,53051090,189997.09,53051090,53229.86,38021.328571428574,91251.188571428575]
[null,null,null,null,null,0,null,null,null,null,null,53051100,296754.71999999997,53051100,49200.84,35143.457142857143,84344.297142857133]
[null,null,null,null,null,0,null,null,null,null,null,53051110,0,53051110,0,0,0]
[null,null,null,null,null,0,null,null,null,null,null,53051120,0,53051120,0,0,0]
[null,null,null,null,null,0,null,null,null,null,null,53051990,126386.22,53051990,203855.2,145610.85714285716,349466.05714285717]
[null,null,null,null,null,0,null,null,null,null,null,53061010,0,53061010,0,0,0]
[null,null,null,null,null,0,null,null,null,null,null,53061020,0,53061020,0,0,0]
[null,null,null,null,null,0,null,null,null,null,null,53061030,0,53061030,0,0,0]
[null,null,null,null,null,0,null,null,null,null,null,53061040,0,53061040,0,0,0]
[null,null,null,null,null,0,null,null,null,null,null,53061050,0,53061050,0,0,0]
[null,null,null,null,null,0,null,null,null,null,null,53061090,0,53061090,0,0,0]
[null,null,null,null,null,0,null,null,null,null,null,53062010,0,53062010,0,0,0]
[null,null,null,null,null,0,null,null,null,null,null,53062020,144147.47,53062020,55684.68,39774.771428571432,95459.451428571425]
[null,null,null,null,null,0,null,null,null,null,null,53062030,0,53062030,0,0,0]
[null,null,null,null,null,0,null,null,null,null,null,53062040,0,53062040,0,0,0]
[null,null,null,null,null,0,null,null,null,null,null,53062990,0,53062990,0,0,0]
[null,null,null,null,null,0,null,null,null,null,null,53063010,39840,53063010,0,0,0]
[null,null,null,null,null,0,null,null,null,null,null,53064010,14858.97,53064010,120603.18,86145.128571428562,206748.30857142856]
[null,null,null,null,null,0,null,null,null,null,null,53064020,85140,53064020,48385.98,34561.414285714287,82947.394285714283]
[null,null,null,null,null,0,null,null,null,null,null,53065050,0,53065050,0,0,0]
[null,null,null,null,null,0,null,null,null,null,null,53065990,0,53065990,0,0,0]
[null,null,null,null,null,0,null,null,null,null,null,53066010,0,53066010,0,0,0]
[null,null,null,null,null,0,null,null,null,null,null,53066020,0,53066020,0,0,0]
[null,null,null,null,null,0,null,null,null,null,null,53066030,0,53066030,0,0,0]
[null,null,null,null,null,0,null,null,null,null,null,53066040,0,53066040,0,0,0]
[null,null,null,null,null,0,null,null,null,null,null,53069020,4000,53069020,0,0,0]
[null,null,null,null,null,0,null,null,null,null,null,53069030,0,53069030,0,0,0]
[null,null,null,null,null,0,null,null,null,null,null,53069040,0,53069040,0,0,0]
[null,null,null,null,null,0,null,null,null,null,null,53069060,50,53069060,34,24.285714285714285,58.285714285714285]
[null,null,null,null,null,0,null,null,null,null,null,53069070,48501.58,53069070,22942,16387.142857142859,39329.142857142855]
[null,null,null,null,null,0,null,null,null,null,null,53069080,8446,53069080,23786,16990,40776]
[null,null,null,null,null,0,null,null,null,null,null,53069090,0,53069090,0,0,0]
[null,null,null,null,null,0,null,null,null,null,null,53069110,1185,53069110,350,250,600]
[null,null,null,null,null,0,null,null,null,null,null,53069120,0,53069120,0,0,0]
[null,null,null,null,null,0,null,null,null,null,null,53069160,0,53069160,0,0,0]
[null,null,null,null,null,0,null,null,null,null,null,53069990,179329.82,53069990,37808.800000000003,27006.285714285717,64815.08571428572]
[null,null,null,null,null,0,null,null,null,null,null,51010010,716066114.13999999,51010010,538840468.32000005,384886048.80000001,923726517.12000012]
[null,null,null,null,null,0,null,null,null,null,null,51010018,-1474036.77,51010018,-1003329.43,-716663.87857142859,-1719993.3085714285]
[null,null,null,null,null,0,null,null,null,null,null,51010030,815580809.80999994,51010030,480515102.62,343225073.29999995,823740175.91999996]
[null,null,null,null,null,0,null,null,null,null,null,51010060,2119853.04,51010060,1255096.1399999999,896497.24285714282,2151593.3828571429]
[null,null,null,null,null,0,null,null,null,null,null,51010090,2374880.69,51010090,1185026.8400000001,846447.74285714282,2031474.5828571429]
[null,null,null,null,null,0,null,null,null,null,null,51010100,949952.27,51010100,474010.75,338579.10714285716,812589.85714285716]
[null,null,null,null,null,{"$f":"SUM(D133:E133)","v":0},null,null,null,null,null,51021010,8597.49,51021010,46542.81,33244.864285714284,{"$f":"SUM(O133:P133)","v":79787.674285714282}]
[null,null,null,null,null,0,null,null,null,null,null,52010010,48754049.030000001,52010010,26590981.940000001,18993558.528571431,45584540.468571432]
[null,null,null,null,null,0,null,null,null,null,null,52010020,5925441.9199999999,52010020,3542838.33,{"$f":"O135/7*5","v":2530598.807142857},6073437.1371428575]
[null,null,null,null,null,0,null,null,null,null,null,52010050,null,52010050,null,0,0]
[null,null,null,null,null,0,null,null,null,null,null,52010070,1247788.75,52010070,984706.77,703361.97857142868,1688068.7485714287]
[null,null,null,null,null,0,null,null,null,null,null,52011020,5103364.2300000004,52011020,2767591.14,1976850.8142857142,4744441.9542857148]
[null,null,null,null,null,0,null,null,null,null,null,52013010,null,52020010,5099778.59,3642698.9928571424,8742477.5828571431]
[null,null,null,null,null,0,null,null,null,null,null,52020010,8476113.8300000001,52021010,1680524.78,1200374.8428571429,2880899.6228571432]
[null,null,null,null,null,0,null,null,null,null,null,52021010,4017411.68,52021020,1219273.3,870909.5,2090182.8]
[null,null,null,null,null,0,null,null,null,null,null,52021020,3334101.42,52040010,3060360.24,2185971.6,5246331.84]
[null,null,null,null,null,0,null,null,null,null,null,52040010,5773175,52040020,81188.94,57992.1,139181.04]
[null,null,null,null,null,0,null,null,null,null,null,52040020,162709,53034020,1312000,937142.85714285704,2249142.8571428573]
[null,null,null,null,null,0,null,null,null,null,null,53034020,2378000,53052030,null,0,0]
[null,null,null,null,null,0,null,null,null,null,null,53052030,null,53060010,14903.77,10645.550000000001,25549.32]
[null,null,null,null,null,0,null,null,null,null,null,53060010,3668.11,53060020,6196860.9299999997,4426329.2357142856,10623190.165714286]
[null,null,null,null,null,0,null,null,null,null,null,53060020,-1687229.61,53065080,44860.69,32043.35,76904.040000000008]
[null,null,null,null,null,0,null,null,null,null,null,53065010,28500,53065090,156288.41,111634.57857142857,267922.98857142858]
[null,null,null,null,null,0,null,null,null,null,null,53065080,76903.95,53069100,7244.6,5174.7142857142862,12419.314285714287]
[null,null,null,null,null,0,null,null,null,null,null,53065090,121201.03,53069170,73730.63,52664.735714285714,126395.36571428573]
[null,null,null,null,null,0,null,null,null,null,null,53069100,7748.7,54011010,119121.65,85086.892857142841,204208.54285714283]
[null,null,null,null,null,0,null,null,null,null,null,53069170,79754.649999999994,54020010,106276.16,75911.542857142864,182187.70285714287]
[null,null,null,null,null,0,null,null,null,null,null,54011010,175824.23,54020020,980167.04,700119.31428571441,1680286.3542857144]
[null,null,null,null,null,0,null,null,null,null,null,54020010,168954.64,54020030,37838.42,27027.442857142854,64865.862857142856]
[null,null,null,null,null,0,null,null,null,null,null,54020020,1687551.78,54021010,68155.58,48682.557142857142,116838.13714285714]
[null,null,null,null,null,0,null,null,null,null,null,54020030,65146.37,54029990,53184.01,37988.578571428574,91172.588571428583]
[null,null,null,null,null,0,null,null,null,null,null,54021010,117343.33,54030010,49950.68,35679.057142857142,85629.737142857135]
[null,null,null,null,null,0,null,null,null,null,null,54029990,97010.98,54040010,48083546.789999999,34345390.56428571,82428937.354285717]
[null,null,null,null,null,0,null,null,null,null,null,54030010,86000,54040020,498.9,356.35714285714289,855.25714285714287]
[null,null,null,null,null,0,null,null,null,null,null,54040010,79914130.400000006,54040030,89198.26,63713.042857142857,152911.30285714284]
[null,null,null,null,null,0,null,null,null,null,null,54040020,5240.3900000000003,54040040,2565924.27,1832803.0499999998,4398727.32]
[null,null,null,null,null,0,null,null,null,null,null,54040030,76390.259999999995,54040050,2609131.3199999998,1863665.2285714285,4472796.5485714283]
[null,null,null,null,null,0,null,null,null,null,null,54040040,4230236.7,54050010,350109.12,250077.94285714283,600187.06285714288]
[null,null,null,null,null,0,null,null,null,null,null,54040050,4816278.38,54050020,5819.09,4156.4928571428572,9975.5828571428574]
[null,null,null,null,null,0,null,null,null,null,null,54050010,566439.43000000005,54050030,103569.29,73978.064285714281,177547.35428571427]
[null,null,null,null,null,0,null,null,null,null,null,54050020,10018.700000000001,54050040,495276.6,353769,849045.6]
[null,null,null,null,null,0,null,null,null,null,null,54050030,177568.53,54051010,207005.09,147860.77857142856,354865.86857142858]
[null,null,null,null,null,0,null,null,null,null,null,54050040,909039.16,54051020,421810.3,301293.07142857142,723103.37142857141]
[null,null,null,null,null,0,null,null,null,null,null,54051010,390541.51,54051040,24388.95,17420.678571428572,41809.628571428577]
[null,null,null,null,null,0,null,null,null,null,null,54051020,684126.88,54052010,239185.76,170846.97142857144,410032.73142857145]
[null,null,null,null,null,0,null,null,null,null,null,54051040,26362.19,54052020,175118.95,125084.96428571429,300203.91428571427]
[null,null,null,null,null,0,null,null,null,null,null,54052010,389246.43,54052030,265811.36,189865.25714285712,455676.61714285711]
[null,null,null,null,null,0,null,null,null,null,null,54052020,305999.40999999997,54060030,1257625.19,898303.70714285714,2155928.8971428573]
[null,null,null,null,null,0,null,null,null,null,null,54052030,680239.44,54060040,49927.43,35662.449999999997,85589.88]
[null,null,null,null,null,0,null,null,null,null,null,54060030,1784834.99,54080010,257850.85,184179.17857142858,442030.02857142861]
[null,null,null,null,null,0,null,null,null,null,null,54060040,24257.200000000001,54080020,61303.86,43788.471428571429,105092.33142857143]
[null,null,null,null,null,0,null,null,null,null,null,54070010,null,54080060,1183040.95,845029.25,2028070.2]
[null,null,null,null,null,0,null,null,null,null,null,54080010,388098.19,55020030,109409.01,78149.292857142849,187558.30285714284]
[null,null,null,null,null,0,null,null,null,null,null,54080020,105546.73,null,null,null,0]
[null,null,null,null,null,0,null,null,null,null,null,54080060,1997153.21,null,null,null,0]
[null,null,null,null,null,0,null,null,null,null,null,55020030,275212.84999999998,null,null,null,0]
[null,null,null,null,null,0,null,null,null,null,null,null,null,null,null,null,0]
[null,null,null,null,null,0,null,null,null,null,null,null,null,null,null,null,0]
[null,null,null,null,null,0,null,null,null,null,null,null,null,null,null,null,0]
[null,null,null,null,null,0,null,null,null,null,null,null,null,null,null,null,0]
[null,null,null,null,null,0,null,null,null,null,null,null,null,null,null,null,0]
[null,null,null,null,null,0,null,null,null,null,null,null,null,null,null,null,0]
[null,null,null,null,null,0,null,null,null,null,null,null,null,null,null,null,0]
[null,null,null,null,null,0,null,null,null,null,null,null,null,null,null,null,0]
[null,null,null,null,null,0,null,null,null,null,null,null,null,null,null,null,0]
[null,null,null,null,null,0,null,null,null,null,null,null,null,null,null,null,0]
[null,null,null,null,null,0,null,null,null,null,null,null,null,null,null,null,0]
[null,null,null,null,null,0,null,null,null,null,null,null,null,null,null,null,0]
[null,null,null,null,null,0,null,null,null,null,null,null,null,null,null,null,0]
[null,null,null,null,null,0,null,null,null,null,null,null,null,null,null,null,0]
[null,null,null,null,null,{"$f":"SUM(D197:E197)","v":0},null,null,null,null,null,null,null,null,null,null,{"$f":"SUM(O197:P197)","v":0}]
[null,null,null,null,null,0,null,null,null,null,null,null,null,null,null,null,0]
[null,null,null,null,null,0,null,null,null,null,null,null,null,null,null,null,0]
[null,null,null,null,null,0,null,null,null,null,null,null,null,null,null,null,0]
[null,null,null,null,null,0,null,null,null,null,null,null,null,null,null,null,0]
[null,null,null,null,null,0,null,null,null,null,null,null,null,null,null,null,0]
[null,null,null,null,null,0,null,null,null,null,null,null,null,null,null,null,0]
[null,null,null,null,null,0,null,null,null,null,null,null,null,null,null,null,0]
[null,null,null,null,null,0,null,null,null,null,null,null,null,null,null,null,0]
[null,null,null,null,null,0,null,null,null,null,null,null,null,null,null,null,0]
[null,null,null,null,null,0,null,null,null,null,null,null,null,null,null,null,0]
[null,null,null,null,null,0,null,null,null,null,null,null,null,null,null,null,0]
[null,null,null,null,null,0,null,null,null,null,null,null,null,null,null,null,0]
[null,null,null,null,null,0,null,null,null,null,null,null,null,null,null,null,0]
[null,null,null,null,null,0,null,null,null,null,null,null,null,null,null,null,0]
[null,null,null,null,null,0,null,null,null,null,null,null,null,null,null,null,0]
[null,null,null,null,null,0,null,null,null,null,null,null,null,null,null,null,0]
[null,null,null,null,null,0,null,null,null,null,null,null,null,null,null,null,0]
[null,null,null,null,null,0,null,null,null,null,null,null,null,null,null,null,0]
[null,null,null,null,null,0,null,null,null,null,null,null,null,null,null,null,0]
[null,null,null,null,null,0,null,null,null,null,null,null,null,null,null,null,0]
[null,null,null,null,null,0,null,null,null,null,null,null,null,null,null,null,0]
[null,null,null,null,null,0,null,null,null,null,null,null,null,null,null,null,0]
[null,null,null,null,null,0,null,null,null,null,null,null,null,null,null,null,0]
[null,null,null,null,null,0,null,null,null,null,null,null,null,null,null,null,0]
[null,null,null,null,null,0,null,null,null,null,null,null,null,null,null,null,0]
[null,null,null,null,null,0,null,null,null,null,null,null,null,null,null,null,0]
[null,null,null,null,null,0,null,null,null,null,null,null,null,null,null,null,0]
[null,null,null,null,null,0,null,null,null,null,null,null,null,null,null,null,0]
[null,null,null,null,null,0,null,null,null,null,null,null,null,null,null,null,0]
[null,null,null,null,null,0,null,null,null,null,null,null,null,null,null,null,0]
[null,null,null,null,null,0,null,null,null,null,null,null,null,null,null,null,0]
[null,null,null,null,null,0,null,null,null,null,null,null,null,null,null,null,0]
[null,null,null,null,null,0,null,null,null,null,null,null,null,null,null,null,0]
[null,null,null,null,null,0,null,null,null,null,null,null,null,null,null,null,0]
[null,null,null,null,null,0,null,null,null,null,null,null,null,null,null,null,0]
[null,null,null,null,null,0,null,null,null,null,null,null,null,null,null,null,0]
[null,null,null,null,null,0,null,null,null,null,null,null,null,null,null,null,0]
[null,null,null,null,null,0,null,null,null,null,null,null,null,null,null,null,0]
[null,null,null,null,null,0,null,null,null,null,null,null,null,null,null,null,0]
[null,null,null,null,null,0,null,null,null,null,null,null,null,null,null,null,0]
[null,null,null,null,null,0,null,null,null,null,null,null,null,null,null,null,0]
[null,null,null,null,null,0,null,null,null,null,null,null,null,null,null,null,0]
[null,null,null,null,null,0,null,null,null,null,null,null,null,null,null,null,0]
[null,null,null,null,null,0,null,null,null,null,null,null,null,null,null,null,0]
[null,null,null,null,null,0,null,null,null,null,null,null,null,null,null,null,0]
[null,null,null,null,null,0,null,null,null,null,null,null,null,null,null,null,0]
[null,null,null,null,null,0,null,null,null,null,null,null,null,null,null,null,0]
[null,null,null,null,null,0,null,null,null,null,null,null,null,null,null,null,0]
[null,null,null,null,null,0,null,null,null,null,null,null,null,null,null,null,0]
[null,null,null,null,null,0,null,null,null,null,null,null,null,null,null,null,0]
[null,null,null,null,null,0,null,null,null,null,null,null,null,null,null,null,0]
[null,null,null,null,null,0,null,null,null,null,null,null,null,null,null,null,0]
[null,null,null,null,null,0,null,null,null,null,null,null,null,null,null,null,0]
[null,null,null,null,null,0,null,null,null,null,null,null,null,null,null,null,0]
[null,null,null,null,null,0,null,null,null,null,null,null,null,null,null,null,0]
[null,null,null,null,null,0,null,null,null,null,null,null,null,null,null,null,0]
[null,null,null,null,null,0,null,null,null,null,null,null,null,null,null,null,0]
[null,null,null,null,null,0,null,null,null,null,null,null,null,null,null,null,0]
[null,null,null,null,null,0,null,null,null,null,null,null,null,null,null,null,0]
[null,null,null,null,null,0,null,null,null,null,null,null,null,null,null,null,0]
[null,null,null,null,null,0,null,null,null,null,null,null,null,null,null,null,0]
[null,null,null,null,null,0,null,null,null,null,null,null,null,null,null,null,0]
[null,null,null,null,null,0,null,null,null,null,null,null,null,null,null,null,0]
[null,null,null,null,null,{"$f":"SUM(D261:E261)","v":0},null,null,null,null,null,null,null,null,null,null,{"$f":"SUM(O261:P261)","v":0}]
[null,null,null,null,null,0,null,null,null,null,null,null,null,null,null,null,0]
[null,null,null,null,null,0,null,null,null,null,null,null,null,null,null,null,0]
[null,null,null,null,null,0,null,null,null,null,null,null,null,null,null,null,0]
[null,null,null,null,null,0,null,null,null,null,null,null,null,null,null,null,0]
[null,null,null,null,null,0,null,null,null,null,null,null,null,null,null,null,0]
[null,null,null,null,null,0,null,null,null,null,null,null,null,null,null,null,0]
[null,null,null,null,null,0,null,null,null,null,null,null,null,null,null,null,0]
[null,null,null,null,null,0,null,null,null,null,null,null,null,null,null,null,0]
[null,null,null,null,null,0,null,null,null,null,null,null,null,null,null,null,0]
[null,null,null,null,null,0,null,null,null,null,null,null,null,null,null,null,0]
[null,null,null,null,null,0,null,null,null,null,null,null,null,null,null,null,0]
[null,null,null,null,null,0,null,null,null,null,null,null,null,null,null,null,0]
[null,null,null,null,null,0,null,null,null,null,null,null,null,null,null,null,0]
[null,null,null,null,null,0,null,null,null,null,null,null,null,null,null,null,0]
[null,null,null,null,null,0,null,null,null,null,null,null,null,null,null,null,0]
[null,null,null,null,null,0,null,null,null,null,null,null,null,null,null,null,0]
[null,null,null,null,null,0,null,null,null,null,null,null,null,null,null,null,0]
[null,null,null,null,null,0,null,null,null,null,null,null,null,null,null,null,0]
[null,null,null,null,null,0,null,null,null,null,null,null,null,null,null,null,0]
[null,null,null,null,null,0,null,null,null,null,null,null,null,null,null,null,0]
[null,null,null,null,null,0,null,null,null,null,null,null,null,null,null,null,0]
[null,null,null,null,null,0,null,null,null,null,null,null,null,null,null,null,0]
[null,null,null,null,null,0,null,null,null,null,null,null,null,null,null,null,0]
[null,null,null,null,null,0,null,null,null,null,null,null,null,null,null,null,0]
[null,null,null,null,null,0,null,null,null,null,null,null,null,null,null,null,0]
[null,null,null,null,null,0,null,null,null,null,null,null,null,null,null,null,0]
[null,null,null,null,null,0,null,null,null,null,null,null,null,null,null,null,0]
[null,null,null,null,null,0,null,null,null,null,null,null,null,null,null,null,0]
[null,null,null,null,null,0,null,null,null,null,null,null,null,null,null,null,0]
[null,null,null,null,null,0,null,null,null,null,null,null,null,null,null,null,0]
[null,null,null,null,null,0,null,null,null,null,null,null,null,null,null,null,0]
[null,null,null,null,null,0,null,null,null,null,null,null,null,null,null,null,0]
[null,null,null,null,null,0,null,null,null,null,null,null,null,null,null,null,0]
[null,null,null,null,null,0,null,null,null,null,null,null,null,null,null,null,0]
[null,null,null,null,null,0,null,null,null,null,null,null,null,null,null,null,0]
[null,null,null,null,null,0,null,null,null,null,null,null,null,null,null,null,0]
[null,null,null,null,null,0,null,null,null,null,null,null,null,null,null,null,0]
[null,null,null,null,null,0,null,null,null,null,null,null,null,null,null,null,0]
[null,null,null,null,null,0,null,null,null,null,null,null,null,null,null,null,0]
[null,null,null,null,null,0,null,null,null,null,null,null,null,null,null,null,0]
[null,null,null,null,null,0,null,null,null,null,null,null,null,null,null,null,0]
[null,null,null,null,null,0,null,null,null,null,null,null,null,null,null,null,0]
[null,null,null,null,null,0,null,null,null,null,null,null,null,null,null,null,0]
[null,null,null,null,null,0,null,null,null,null,null,null,null,null,null,null,0]
[null,null,null,null,null,0,null,null,null,null,null,null,null,null,null,null,0]
[null,null,null,null,null,0,null,null,null,null,null,null,null,null,null,null,0]
[null,null,null,null,null,0,null,null,null,null,null,null,null,null,null,null,0]
[null,null,null,null,null,0,null,null,null,null,null,null,null,null,null,null,0]
[null,null,null,null,null,0,null,null,null,null,null,null,null,null,null,null,0]
[null,null,null,null,null,0,null,null,null,null,null,null,null,null,null,null,0]
[null,null,null,null,null,0,null,null,null,null,null,null,null,null,null,null,0]
[null,null,null,null,null,0,null,null,null,null,null,null,null,null,null,null,0]
[null,null,null,null,null,0,null,null,null,null,null,null,null,null,null,null,0]
[null,null,null,null,null,0,null,null,null,null,null,null,null,null,null,null,0]
[null,null,null,null,null,0,null,null,null,null,null,null,null,null,null,null,0]
[null,null,null,null,null,0,null,null,null,null,null,null,null,null,null,null,0]
[null,null,null,null,null,0,null,null,null,null,null,null,null,null,null,null,0]
[null,null,null,null,null,0,null,null,null,null,null,null,null,null,null,null,0]
[null,null,null,null,null,0,null,null,null,null,null,null,null,null,null,null,0]
[null,null,null,null,null,0,null,null,null,null,null,null,null,null,null,null,0]
[null,null,null,null,null,0,null,null,null,null,null,null,null,null,null,null,0]
[null,null,null,null,null,0,null,null,null,null,null,null,null,null,null,null,0]
[null,null,null,null,null,0,null,null,null,null,null,null,null,null,null,null,0]
[null,null,null,null,null,{"$f":"SUM(D325:E325)","v":0},null,null,null,null,null,null,null,null,null,null,{"$f":"SUM(O325:P325)","v":0}]
[null,null,null,null,null,0,null,null,null,null,null,null,null,null,null,null,0]
[null,null,null,null,null,0,null,null,null,null,null,null,null,null,null,null,0]
[null,null,null,null,null,0,null,null,null,null,null,null,null,null,null,null,0]
[null,null,null,null,null,0,null,null,null,null,null,null,null,null,null,null,0]
[null,null,null,null,null,0,null,null,null,null,null,null,null,null,null,null,0]
[null,null,null,null,null,0,null,null,null,null,null,null,null,null,null,null,0]
[null,null,null,null,null,0,null,null,null,null,null,null,null,null,null,null,0]
[null,null,null,null,null,0,null,null,null,null,null,null,null,null,null,null,0]
[null,null,null,null,null,0,null,null,null,null,null,null,null,null,null,null,0]
[null,null,null,null,null,0,null,null,null,null,null,null,null,null,null,null,0]
[null,null,null,null,null,0,null,null,null,null,null,null,null,null,null,null,0]
[null,null,null,null,null,0,null,null,null,null,null,null,null,null,null,null,0]
[null,null,null,null,null,0,null,null,null,null,null,null,null,null,null,null,0]
[null,null,null,null,null,0,null,null,null,null,null,null,null,null,null,null,0]
[null,null,null,null,null,0,null,null,null,null,null,null,null,null,null,null,0]
[null,null,null,null,null,0,null,null,null,null,null,null,null,null,null,null,0]
[null,null,null,null,null,0,null,null,null,null,null,null,null,null,null,null,0]
[null,null,null,null,null,0,null,null,null,null,null,null,null,null,null,null,0]
[null,null,null,null,null,0,null,null,null,null,null,null,null,null,null,null,0]
[null,null,null,null,null,0,null,null,null,null,null,null,null,null,null,null,0]
[null,null,null,null,null,0,null,null,null,null,null,null,null,null,null,null,0]
[null,null,null,null,null,0,null,null,null,null,null,null,null,null,null,null,0]
[null,null,null,null,null,0,null,null,null,null,null,null,null,null,null,null,0]
[null,null,null,null,null,0,null,null,null,null,null,null,null,null,null,null,0]
[null,null,null,null,null,0,null,null,null,null,null,null,null,null,null,null,0]
[null,null,null,null,null,0,null,null,null,null,null,null,null,null,null,null,0]
[null,null,null,null,null,0,null,null,null,null,null,null,null,null,null,null,0]
[null,null,null,null,null,0,null,null,null,null,null,null,null,null,null,null,0]
[null,null,null,null,null,0,null,null,null,null,null,null,null,null,null,null,0]
[null,null,null,null,null,0,null,null,null,null,null,null,null,null,null,null,0]
[null,null,null,null,null,0,null,null,null,null,null,null,null,null,null,null,0]
[null,null,null,null,null,0,null,null,null,null,null,null,null,null,null,null,0]
[null,null,null,null,null,0,null,null,null,null,null,null,null,null,null,null,0]
[null,null,null,null,null,0,null,null,null,null,null,null,null,null,null,null,0]
[null,null,null,null,null,0,null,null,null,null,null,null,null,null,null,null,0]
[null,null,null,null,null,0,null,null,null,null,null,null,null,null,null,null,0]
[null,null,null,null,null,0,null,null,null,null,null,null,null,null,null,null,0]
[null,null,null,null,null,0,null,null,null,null,null,null,null,null,null,null,0]
[null,null,null,null,null,0,null,null,null,null,null,null,null,null,null,null,0]
[null,null,null,null,null,0,null,null,null,null,null,null,null,null,null,null,0]
[null,null,null,null,null,0,null,null,null,null,null,null,null,null,null,null,0]
[null,null,null,null,null,0,null,null,null,null,null,null,null,null,null,null,0]
[null,null,null,null,null,0,null,null,null,null,null,null,null,null,null,null,0]
[null,null,null,null,null,0,null,null,null,null,null,null,null,null,null,null,0]
[null,null,null,null,null,0,null,null,null,null,null,null,null,null,null,null,0]
[null,null,null,null,null,0,null,null,null,null,null,null,null,null,null,null,0]
[null,null,null,null,null,0,null,null,null,null,null,null,null,null,null,null,0]
[null,null,null,null,null,0,null,null,null,null,null,null,null,null,null,null,0]
[null,null,null,null,null,0,null,null,null,null,null,null,null,null,null,null,0]
[null,null,null,null,null,0,null,null,null,null,null,null,null,null,null,null,0]
[null,null,null,null,null,0,null,null,null,null,null,null,null,null,null,null,0]
[null,null,null,null,null,0,null,null,null,null,null,null,null,null,null,null,0]
[null,null,null,null,null,0,null,null,null,null,null,null,null,null,null,null,0]
[null,null,null,null,null,0,null,null,null,null,null,null,null,null,null,null,0]
[null,null,null,null,null,0,null,null,null,null,null,null,null,null,null,null,0]
[null,null,null,null,null,0,null,null,null,null,null,null,null,null,null,null,0]
[null,null,null,null,null,0,null,null,null,null,null,null,null,null,null,null,0]
[null,null,null,null,null,0,null,null,null,null,null,null,null,null,null,null,0]
[null,null,null,null,null,0,null,null,null,null,null,null,null,null,null,null,0]
[null,null,null,null,null,0,null,null,null,null,null,null,null,null,null,null,0]
[null,null,null,null,null,0,null,null,null,null,null,null,null,null,null,null,0]
[null,null,null,null,null,0,null,null,null,null,null,null,null,null,null,null,0]
[null,null,null,null,null,0,null,null,null,null,null,null,null,null,null,null,0]
[null,null,null,null,null,{"$f":"SUM(D389:E389)","v":0},null,null,null,null,null,null,null,null,null,null,{"$f":"SUM(O389:P389)","v":0}]
[null,null,null,null,null,0,null,null,null,null,null,null,null,null,null,null,0]
[null,null,null,null,null,0,null,null,null,null,null,null,null,null,null,null,0]
[null,null,null,null,null,0,null,null,null,null,null,null,null,null,null,null,0]
[null,null,null,null,null,0,null,null,null,null,null,null,null,null,null,null,0]
[null,null,null,null,null,0,null,null,null,null,null,null,null,null,null,null,0]
[null,null,null,null,null,0,null,null,null,null,null,null,null,null,null,null,0]
[null,null,null,null,null,0,null,null,null,null,null,null,null,null,null,null,0]
[null,null,null,null,null,0,null,null,null,null,null,null,null,null,null,null,0]
[null,null,null,null,null,0,null,null,null,null,null,null,null,null,null,null,0]
[null,null,null,null,null,0,null,null,null,null,null,null,null,null,null,null,0]
[null,null,null,null,null,0,null,null,null,null,null,null,null,null,null,null,0]
[null,null,null,null,null,0,null,null,null,null,null,null,null,null,null,null,0]
[null,null,null,null,null,0,null,null,null,null,null,null,null,null,null,null,0]
[null,null,null,null,null,0,null,null,null,null,null,null,null,null,null,null,0]
[null,null,null,null,null,0,null,null,null,null,null,null,null,null,null,null,0]
[null,null,null,null,null,0,null,null,null,null,null,null,null,null,null,null,0]
[null,null,null,null,null,0,null,null,null,null,null,null,null,null,null,null,0]
[null,null,null,null,null,0,null,null,null,null,null,null,null,null,null,null,0]
[null,null,null,null,null,0,null,null,null,null,null,null,null,null,null,null,0]
[null,null,null,null,null,0,null,null,null,null,null,null,null,null,null,null,0]
[null,null,null,null,null,0,null,null,null,null,null,null,null,null,null,null,0]
[null,null,null,null,null,0,null,null,null,null,null,null,null,null,null,null,0]
[null,null,null,null,null,0,null,null,null,null,null,null,null,null,null,null,0]
[null,null,null,null,null,0,null,null,null,null,null,null,null,null,null,null,0]
[null,null,null,null,null,0,null,null,null,null,null,null,null,null,null,null,0]
[null,null,null,null,null,0,null,null,null,null,null,null,null,null,null,null,0]
[null,null,null,null,null,0,null,null,null,null,null,null,null,null,null,null,0]
[null,null,null,null,null,0,null,null,null,null,null,null,null,null,null,null,0]
[null,null,null,null,null,0,null,null,null,null,null,null,null,null,null,null,0]
[null,null,null,null,null,0,null,null,null,null,null,null,null,null,null,null,0]
[null,null,null,null,null,0,null,null,null,null,null,null,null,null,null,null,0]
[null,null,null,null,null,0,null,null,null,null,null,null,null,null,null,null,0]
[null,null,null,null,null,0,null,null,null,null,null,null,null,null,null,null,0]
[null,null,null,null,null,0,null,null,null,null,null,null,null,null,null,null,0]
[null,null,null,null,null,0,null,null,null,null,null,null,null,null,null,null,0]
[null,null,null,null,null,0,null,null,null,null,null,null,null,null,null,null,0]
[null,null,null,null,null,0,null,null,null,null,null,null,null,null,null,null,0]
[null,null,null,null,null,0,null,null,null,null,null,null,null,null,null,null,0]
[null,null,null,null,null,0,null,null,null,null,null,null,null,null,null,null,0]
[null,null,null,null,null,0,null,null,null,null,null,null,null,null,null,null,0]
[null,null,null,null,null,0,null,null,null,null,null,null,null,null,null,null,0]
[null,null,null,null,null,0,null,null,null,null,null,null,null,null,null,null,0]
[null,null,null,null,null,0,null,null,null,null,null,null,null,null,null,null,0]
[null,null,null,null,null,0,null,null,null,null,null,null,null,null,null,null,0]
[null,null,null,null,null,0,null,null,null,null,null,null,null,null,null,null,0]
[null,null,null,null,null,0,null,null,null,null,null,null,null,null,null,null,0]
[null,null,null,null,null,0,null,null,null,null,null,null,null,null,null,null,0]
[null,null,null,null,null,0,null,null,null,null,null,null,null,null,null,null,0]
[null,null,null,null,null,0,null,null,null,null,null,null,null,null,null,null,0]
[null,null,null,null,null,0,null,null,null,null,null,null,null,null,null,null,0]
[null,null,null,null,null,0,null,null,null,null,null,null,null,null,null,null,0]
[null,null,null,null,null,0,null,null,null,null,null,null,null,null,null,null,0]
[null,null,null,null,null,0,null,null,null,null,null,null,null,null,null,null,0]
[null,null,null,null,null,0,null,null,null,null,null,null,null,null,null,null,0]
[null,null,null,null,null,0,null,null,null,null,null,null,null,null,null,null,0]
[null,null,null,null,null,0,null,null,null,null,null,null,null,null,null,null,0]
[null,null,null,null,null,0,null,null,null,null,null,null,null,null,null,null,0]
[null,null,null,null,null,0,null,null,null,null,null,null,null,null,null,null,0]
[null,null,null,null,null,0,null,null,null,null,null,null,null,null,null,null,0]
[null,null,null,null,null,0,null,null,null,null,null,null,null,null,null,null,0]
[null,null,null,null,null,0,null,null,null,null,null,null,null,null,null,null,0]
[null,null,null,null,null,0,null,null,null,null,null,null,null,null,null,null,0]
[null,null,null,null,null,0,null,null,null,null,null,null,null,null,null,null,0]
[null,null,null,null,null,{"$f":"SUM(D453:E453)","v":0},null,null,null,null,null,null,null,null,null,null,{"$f":"SUM(O453:P453)","v":0}]
[null,null,null,null,null,0,null,null,null,null,null,null,null,null,null,null,0]
[null,null,null,null,null,0,null,null,null,null,null,null,null,null,null,null,0]
[null,null,null,null,null,0,null,null,null,null,null,null,null,null,null,null,0]
[null,null,null,null,null,0,null,null,null,null,null,null,null,null,null,null,0]
[null,null,null,null,null,0,null,null,null,null,null,null,null,null,null,null,0]
[null,null,null,null,null,0,null,null,null,null,null,null,null,null,null,null,0]
[null,null,null,null,null,0,null,null,null,null,null,null,null,null,null,null,0]
[null,null,null,null,null,0,null,null,null,null,null,null,null,null,null,null,0]
[null,null,null,null,null,0,null,null,null,null,null,null,null,null,null,null,0]
[null,null,null,null,null,0,null,null,null,null,null,null,null,null,null,null,0]
[null,null,null,null,null,0,null,null,null,null,null,null,null,null,null,null,0]
[null,null,null,null,null,0,null,null,null,null,null,null,null,null,null,null,0]
[null,null,null,null,null,0,null,null,null,null,null,null,null,null,null,null,0]
[null,null,null,null,null,0,null,null,null,null,null,null,null,null,null,null,0]
[null,null,null,null,null,0,null,null,null,null,null,null,null,null,null,null,0]
[null,null,null,null,null,0,null,null,null,null,null,null,null,null,null,null,0]
[null,null,null,null,null,0,null,null,null,null,null,null,null,null,null,null,0]
[null,null,null,null,null,0,null,null,null,null,null,null,null,null,null,null,0]
[null,null,null,null,null,0,null,null,null,null,null,null,null,null,null,null,0]
[null,null,null,null,null,0,null,null,null,null,null,null,null,null,null,null,0]
[null,null,null,null,null,0,null,null,null,null,null,null,null,null,null,null,0]
[null,null,null,null,null,0,null,null,null,null,null,null,null,null,null,null,0]
[null,null,null,null,null,0,null,null,null,null,null,null,null,null,null,null,0]
[null,null,null,null,null,0,null,null,null,null,null,null,null,null,null,null,0]
[null,null,null,null,null,0,null,null,null,null,null,null,null,null,null,null,0]
[null,null,null,null,null,0,null,null,null,null,null,null,null,null,null,null,0]
[null,null,null,null,null,0,null,null,null,null,null,null,null,null,null,null,0]
[null,null,null,null,null,0,null,null,null,null,null,null,null,null,null,null,0]
[null,null,null,null,null,0,null,null,null,null,null,null,null,null,null,null,0]
[null,null,null,null,null,0,null,null,null,null,null,null,null,null,null,null,0]
[null,null,null,null,null,0,null,null,null,null,null,null,null,null,null,null,0]
[null,null,null,null,null,0,null,null,null,null,null,null,null,null,null,null,0]
[null,null,null,null,null,0,null,null,null,null,null,null,null,null,null,null,0]
[null,null,null,null,null,0,null,null,null,null,null,null,null,null,null,null,0]
[null,null,null,null,null,0,null,null,null,null,null,null,null,null,null,null,0]
[null,null,null,null,null,0,null,null,null,null,null,null,null,null,null,null,0]
[null,null,null,null,null,0,null,null,null,null,null,null,null,null,null,null,0]
[null,null,null,null,null,0,null,null,null,null,null,null,null,null,null,null,0]
[null,null,null,null,null,0,null,null,null,null,null,null,null,null,null,null,0]
[null,null,null,null,null,0,null,null,null,null,null,null,null,null,null,null,0]
[null,null,null,null,null,0,null,null,null,null,null,null,null,null,null,null,0]
[null,null,null,null,null,0,null,null,null,null,null,null,null,null,null,null,0]
[null,null,null,null,null,0,null,null,null,null,null,null,null,null,null,null,0]
[null,null,null,null,null,0,null,null,null,null,null,null,null,null,null,null,0]
[null,null,null,null,null,0,null,null,null,null,null,null,null,null,null,null,0]
[null,null,null,null,null,0,null,null,null,null,null,null,null,null,null,null,0]
[null,null,null,null,null,0,null,null,null,null,null,null,null,null,null,null,0]
[null,null,null,null,null,0,null,null,null,null,null,null,null,null,null,null,0]
[null,null,null,null,null,0,null,null,null,null,null,null,null,null,null,null,0]
[null,null,null,null,null,0,null,null,null,null,null,null,null,null,null,null,0]
[null,null,null,null,null,0,null,null,null,null,null,null,null,null,null,null,0]
[null,null,null,null,null,0,null,null,null,null,null,null,null,null,null,null,0]
[null,null,null,null,null,0,null,null,null,null,null,null,null,null,null,null,0]
[null,null,null,null,null,0,null,null,null,null,null,null,null,null,null,null,0]
[null,null,null,null,null,0,null,null,null,null,null,null,null,null,null,null,0]
[null,null,null,null,null,0,null,null,null,null,null,null,null,null,null,null,0]
[null,null,null,null,null,0,null,null,null,null,null,null,null,null,null,null,0]
[null,null,null,null,null,0,null,null,null,null,null,null,null,null,null,null,0]
[null,null,null,null,null,0,null,null,null,null,null,null,null,null,null,null,0]
[null,null,null,null,null,0,null,null,null,null,null,null,null,null,null,null,0]
[null,null,null,null,null,0,null,null,null,null,null,null,null,null,null,null,0]
[null,null,null,null,null,0,null,null,null,null,null,null,null,null,null,null,0]
[null,null,null,null,null,0,null,null,null,null,null,null,null,null,null,null,0]
[null,null,null,null,null,{"$f":"SUM(D517:E517)","v":0},null,null,null,null,null,null,null,null,null,null,{"$f":"SUM(O517:P517)","v":0}]
[null,null,null,null,null,0,null,null,null,null,null,null,null,null,null,null,0]
[null,null,null,null,null,0,null,null,null,null,null,null,null,null,null,null,0]
[null,null,null,null,null,0,null,null,null,null,null,null,null,null,null,null,0]
[null,null,null,null,null,0,null,null,null,null,null,null,null,null,null,null,0]
[null,null,null,null,null,0,null,null,null,null,null,null,null,null,null,null,0]
[null,null,null,null,null,0,null,null,null,null,null,null,null,null,null,null,0]
[null,null,null,null,null,0,null,null,null,null,null,null,null,null,null,null,0]
[null,null,null,null,null,0,null,null,null,null,null,null,null,null,null,null,0]
[null,null,null,null,null,0,null,null,null,null,null,null,null,null,null,null,0]
[null,null,null,null,null,0,null,null,null,null,null,null,null,null,null,null,0]
[null,null,null,null,null,0,null,null,null,null,null,null,null,null,null,null,0]
[null,null,null,null,null,0,null,null,null,null,null,null,null,null,null,null,0]
[null,null,null,null,null,0,null,null,null,null,null,null,null,null,null,null,0]
[null,null,null,null,null,0,null,null,null,null,null,null,null,null,null,null,0]
[null,null,null,null,null,0,null,null,null,null,null,null,null,null,null,null,0]
[null,null,null,null,null,0,null,null,null,null,null,null,null,null,null,null,0]
[null,null,null,null,null,0,null,null,null,null,null,null,null,null,null,null,0]
[null,null,null,null,null,0,null,null,null,null,null,null,null,null,null,null,0]
[null,null,null,null,null,0,null,null,null,null,null,null,null,null,null,null,0]
[null,null,null,null,null,0,null,null,null,null,null,null,null,null,null,null,0]
[null,null,null,null,null,0,null,null,null,null,null,null,null,null,null,null,0]
[null,null,null,null,null,0,null,null,null,null,null,null,null,null,null,null,0]
[null,null,null,null,null,0,null,null,null,null,null,null,null,null,null,null,0]
[null,null,null,null,null,0,null,null,null,null,null,null,null,null,null,null,0]
[null,null,null,null,null,0,null,null,null,null,null,null,null,null,null,null,0]
[null,null,null,null,null,0,null,null,null,null,null,null,null,null,null,null,0]
[null,null,null,null,null,0,null,null,null,null,null,null,null,null,null,null,0]
[null,null,null,null,null,0,null,null,null,null,null,null,null,null,null,null,0]
[null,null,null,null,null,0,null,null,null,null,null,null,null,null,null,null,0]
[null,null,null,null,null,0,null,null,null,null,null,null,null,null,null,null,0]
[null,null,null,null,null,0,null,null,null,null,null,null,null,null,null,null,0]
[null,null,null,null,null,0,null,null,null,null,null,null,null,null,null,null,0]
[null,null,null,null,null,0,null,null,null,null,null,null,null,null,null,null,0]
[null,null,null,null,null,0,null,null,null,null,null,null,null,null,null,null,0]
[null,null,null,null,null,0,null,null,null,null,null,null,null,null,null,null,0]
[null,null,null,null,null,0,null,null,null,null,null,null,null,null,null,null,0]
[null,null,null,null,null,0,null,null,null,null,null,null,null,null,null,null,0]
[null,null,null,null,null,0,null,null,null,null,null,null,null,null,null,null,0]
[null,null,null,null,null,0,null,null,null,null,null,null,null,null,null,null,0]
[null,null,null,null,null,0,null,null,null,null,null,null,null,null,null,null,0]
[null,null,null,null,null,0,null,null,null,null,null,null,null,null,null,null,0]
[null,null,null,null,null,0,null,null,null,null,null,null,null,null,null,null,0]
[null,null,null,null,null,0,null,null,null,null,null,null,null,null,null,null,0]
[null,null,null,null,null,0,null,null,null,null,null,null,null,null,null,null,0]
[null,null,null,null,null,0,null,null,null,null,null,null,null,null,null,null,0]
[null,null,null,null,null,0,null,null,null,null,null,null,null,null,null,null,0]
[null,null,null,null,null,0,null,null,null,null,null,null,null,null,null,null,0]
[null,null,null,null,null,0,null,null,null,null,null,null,null,null,null,null,0]
[null,null,null,null,null,0,null,null,null,null,null,null,null,null,null,null,0]
[null,null,null,null,null,0,null,null,null,null,null,null,null,null,null,null,0]
[null,null,null,null,null,0,null,null,null,null,null,null,null,null,null,null,0]
[null,null,null,null,null,0,null,null,null,null,null,null,null,null,null,null,0]
[null,null,null,null,null,0,null,null,null,null,null,null,null,null,null,null,0]
[null,null,null,null,null,0,null,null,null,null,null,null,null,null,null,null,0]
[null,null,null,null,null,0,null,null,null,null,null,null,null,null,null,null,0]
[null,null,null,null,null,0,null,null,null,null,null,null,null,null,null,null,0]
[null,null,null,null,null,0,null,null,null,null,null,null,null,null,null,null,0]
[null,null,null,null,null,0,null,null,null,null,null,null,null,null,null,null,0]
[null,null,null,null,null,0,null,null,null,null,null,null,null,null,null,null,0]
[null,null,null,null,null,0,null,null,null,null,null,null,null,null,null,null,0]
[null,null,null,null,null,0,null,null,null,null,null,null,null,null,null,null,0]
[null,null,null,null,null,0,null,null,null,null,null,null,null,null,null,null,0]
[null,null,null,null,null,0,null,null,null,null,null,null,null,null,null,null,0]
[null,null,null,null,null,{"$f":"SUM(D581:E581)","v":0},null,null,null,null,null,null,null,null,null,null,{"$f":"SUM(O581:P581)","v":0}]
[null,null,null,null,null,0,null,null,null,null,null,null,null,null,null,null,0]
[null,null,null,null,null,0,null,null,null,null,null,null,null,null,null,null,0]
[null,null,null,null,null,0,null,null,null,null,null,null,null,null,null,null,0]
[null,null,null,null,null,0,null,null,null,null,null,null,null,null,null,null,0]
[null,null,null,null,null,0,null,null,null,null,null,null,null,null,null,null,0]
[null,null,null,null,null,0,null,null,null,null,null,null,null,null,null,null,0]
[null,null,null,null,null,0,null,null,null,null,null,null,null,null,null,null,0]
[null,null,null,null,null,0,null,null,null,null,null,null,null,null,null,null,0]
[null,null,null,null,null,0,null,null,null,null,null,null,null,null,null,null,0]
[null,null,null,null,null,0,null,null,null,null,null,null,null,null,null,null,0]
[null,null,null,null,null,0,null,null,null,null,null,null,null,null,null,null,0]
[null,null,null,null,null,0,null,null,null,null,null,null,null,null,null,null,0]
[null,null,null,null,null,0,null,null,null,null,null,null,null,null,null,null,0]
[null,null,null,null,null,0,null,null,null,null,null,null,null,null,null,null,0]
[null,null,null,null,null,0,null,null,null,null,null,null,null,null,null,null,0]
[null,null,null,null,null,0,null,null,null,null,null,null,null,null,null,null,0]
[null,null,null,null,null,0,null,null,null,null,null,null,null,null,null,null,0]
[null,null,null,null,null,0,null,null,null,null,null,null,null,null,null,null,0]
[null,null,null,null,null,0,null,null,null,null,null,null,null,null,null,null,0]
[null,null,null,null,null,0,null,null,null,null,null,null,null,null,null,null,0]
[null,null,null,null,null,0,null,null,null,null,null,null,null,null,null,null,0]
[null,null,null,null,null,0,null,null,null,null,null,null,null,null,null,null,0]
[null,null,null,null,null,0,null,null,null,null,null,null,null,null,null,null,0]
[null,null,null,null,null,0,null,null,null,null,null,null,null,null,null,null,0]
[null,null,null,null,null,0,null,null,null,null,null,null,null,null,null,null,0]
[null,null,null,null,null,0,null,null,null,null,null,null,null,null,null,null,0]
[null,null,null,null,null,0,null,null,null,null,null,null,null,null,null,null,0]
[null,null,null,null,null,0,null,null,null,null,null,null,null,null,null,null,0]
[null,null,null,null,null,0,null,null,null,null,null,null,null,null,null,null,0]
[null,null,null,null,null,0,null,null,null,null,null,null,null,null,null,null,0]
[null,null,null,null,null,0,null,null,null,null,null,null,null,null,null,null,0]
[null,null,null,null,null,0,null,null,null,null,null,null,null,null,null,null,0]
[null,null,null,null,null,0,null,null,null,null,null,null,null,null,null,null,0]
[null,null,null,null,null,0,null,null,null,null,null,null,null,null,null,null,0]
[null,null,null,null,null,0,null,null,null,null,null,null,null,null,null,null,0]
[null,null,null,null,null,0,null,null,null,null,null,null,null,null,null,null,0]
[null,null,null,null,null,0,null,null,null,null,null,null,null,null,null,null,0]
[null,null,null,null,null,0,null,null,null,null,null,null,null,null,null,null,0]
[null,null,null,null,null,0,null,null,null,null,null,null,null,null,null,null,0]
[null,null,null,null,null,0,null,null,null,null,null,null,null,null,null,null,0]
[null,null,null,null,null,0,null,null,null,null,null,null,null,null,null,null,0]
[null,null,null,null,null,0,null,null,null,null,null,null,null,null,null,null,0]
[null,null,null,null,null,0,null,null,null,null,null,null,null,null,null,null,0]
[null,null,null,null,null,0,null,null,null,null,null,null,null,null,null,null,0]
[null,null,null,null,null,0,null,null,null,null,null,null,null,null,null,null,0]
[null,null,null,null,null,0,null,null,null,null,null,null,null,null,null,null,0]
[null,null,null,null,null,0,null,null,null,null,null,null,null,null,null,null,0]
[null,null,null,null,null,0,null,null,null,null,null,null,null,null,null,null,0]
[null,null,null,null,null,0,null,null,null,null,null,null,null,null,null,null,0]
[null,null,null,null,null,0,null,null,null,null,null,null,null,null,null,null,0]
[null,null,null,null,null,0,null,null,null,null,null,null,null,null,null,null,0]
[null,null,null,null,null,0,null,null,null,null,null,null,null,null,null,null,0]
[null,null,null,null,null,0,null,null,null,null,null,null,null,null,null,null,0]
[null,null,null,null,null,0,null,null,null,null,null,null,null,null,null,null,0]
[null,null,null,null,null,0,null,null,null,null,null,null,null,null,null,null,0]
[null,null,null,null,null,0,null,null,null,null,null,null,null,null,null,null,0]
[null,null,null,null,null,0,null,null,null,null,null,null,null,null,null,null,0]
[null,null,null,null,null,0,null,null,null,null,null,null,null,null,null,null,0]
[null,null,null,null,null,0,null,null,null,null,null,null,null,null,null,null,0]
[null,null,null,null,null,0,null,null,null,null,null,null,null,null,null,null,0]
[null,null,null,null,null,0,null,null,null,null,null,null,null,null,null,null,0]
[null,null,null,null,null,0,null,null,null,null,null,null,null,null,null,null,0]
[null,null,null,null,null,0,null,null,null,null,null,null,null,null,null,null,0]
[null,null,null,null,null,{"$f":"SUM(D645:E645)","v":0},null,null,null,null,null,null,null,null,null,null,{"$f":"SUM(O645:P645)","v":0}]
[null,null,null,null,null,0,null,null,null,null,null,null,null,null,null,null,0]
[null,null,null,null,null,0,null,null,null,null,null,null,null,null,null,null,0]
[null,null,null,null,null,0,null,null,null,null,null,null,null,null,null,null,0]
[null,null,null,null,null,0,null,null,null,null,null,null,null,null,null,null,0]
[null,null,null,null,null,0,null,null,null,null,null,null,null,null,null,null,0]
[null,null,null,null,null,0,null,null,null,null,null,null,null,null,null,null,0]
[null,null,null,null,null,0,null,null,null,null,null,null,null,null,null,null,0]
[null,null,null,null,null,0,null,null,null,null,null,null,null,null,null,null,0]
[null,null,null,null,null,0,null,null,null,null,null,null,null,null,null,null,0]
[null,null,null,null,null,0,null,null,null,null,null,null,null,null,null,null,0]
[null,null,null,null,null,0,null,null,null,null,null,null,null,null,null,null,0]
[null,null,null,null,null,0,null,null,null,null,null,null,null,null,null,null,0]
[null,null,null,null,null,0,null,null,null,null,null,null,null,null,null,null,0]
[null,null,null,null,null,0,null,null,null,null,null,null,null,null,null,null,0]
[null,null,null,null,null,0,null,null,null,null,null,null,null,null,null,null,0]
[null,null,null,null,null,0,null,null,null,null,null,null,null,null,null,null,0]
[null,null,null,null,null,0,null,null,null,null,null,null,null,null,null,null,0]
[null,null,null,null,null,0,null,null,null,null,null,null,null,null,null,null,0]
[null,null,null,null,null,0,null,null,null,null,null,null,null,null,null,null,0]
[null,null,null,null,null,0,null,null,null,null,null,null,null,null,null,null,0]
[null,null,null,null,null,0,null,null,null,null,null,null,null,null,null,null,0]
[null,null,null,null,null,0,null,null,null,null,null,null,null,null,null,null,0]
[null,null,null,null,null,0,null,null,null,null,null,null,null,null,null,null,0]
[null,null,null,null,null,0,null,null,null,null,null,null,null,null,null,null,0]
[null,null,null,null,null,0,null,null,null,null,null,null,null,null,null,null,0]
[null,null,null,null,null,0,null,null,null,null,null,null,null,null,null,null,0]
[null,null,null,null,null,0,null,null,null,null,null,null,null,null,null,null,0]
[null,null,null,null,null,0,null,null,null,null,null,null,null,null,null,null,0]
[null,null,null,null,null,0,null,null,null,null,null,null,null,null,null,null,0]
[null,null,null,null,null,0,null,null,null,null,null,null,null,null,null,null,0]
[null,null,null,null,null,0,null,null,null,null,null,null,null,null,null,null,0]
[null,null,null,null,null,0,null,null,null,null,null,null,null,null,null,null,0]
[null,null,null,null,null,0,null,null,null,null,null,null,null,null,null,null,0]
[null,null,null,null,null,0,null,null,null,null,null,null,null,null,null,null,0]
[null,null,null,null,null,0,null,null,null,null,null,null,null,null,null,null,0]
[null,null,null,null,null,0,null,null,null,null,null,null,null,null,null,null,0]
[null,null,null,null,null,0,null,null,null,null,null,null,null,null,null,null,0]
[null,null,null,null,null,0,null,null,null,null,null,null,null,null,null,null,0]
[null,null,null,null,null,0,null,null,null,null,null,null,null,null,null,null,0]
[null,null,null,null,null,0,null,null,null,null,null,null,null,null,null,null,0]
[null,null,null,null,null,0,null,null,null,null,null,null,null,null,null,null,0]
[null,null,null,null,null,0,null,null,null,null,null,null,null,null,null,null,0]
[null,null,null,null,null,0,null,null,null,null,null,null,null,null,null,null,0]
[null,null,null,null,null,0,null,null,null,null,null,null,null,null,null,null,0]
[null,null,null,null,null,0,null,null,null,null,null,null,null,null,null,null,0]
[null,null,null,null,null,0,null,null,null,null,null,null,null,null,null,null,0]
[null,null,null,null,null,0,null,null,null,null,null,null,null,null,null,null,0]
[null,null,null,null,null,0,null,null,null,null,null,null,null,null,null,null,0]
[null,null,null,null,null,0,null,null,null,null,null,null,null,null,null,null,0]
[null,null,null,null,null,0,null,null,null,null,null,null,null,null,null,null,0]
[null,null,null,null,null,0,null,null,null,null,null,null,null,null,null,null,0]
[null,null,null,null,null,0,null,null,null,null,null,null,null,null,null,null,0]
[null,null,null,null,null,0,null,null,null,null,null,null,null,null,null,null,0]
[null,null,null,null,null,0,null,null,null,null,null,null,null,null,null,null,0]
[null,null,null,null,null,0,null,null,null,null,null,null,null,null,null,null,0]
[null,null,null,null,null,0,null,null,null,null,null,null,null,null,null,null,0]
[null,null,null,null,null,0,null,null,null,null,null,null,null,null,null,null,0]
[null,null,null,null,null,0,null,null,null,null,null,null,null,null,null,null,0]
[null,null,null,null,null,0,null,null,null,null,null,null,null,null,null,null,0]
[null,null,null,null,null,0,null,null,null,null,null,null,null,null,null,null,0]
[null,null,null,null,null,0,null,null,null,null,null,null,null,null,null,null,0]
[null,null,null,null,null,0,null,null,null,null,null,null,null,null,null,null,0]
[null,null,null,null,null,0,null,null,null,null,null,null,null,null,null,null,0]
[null,null,null,null,null,{"$f":"SUM(D709:E709)","v":0},null,null,null,null,null,null,null,null,null,null,{"$f":"SUM(O709:P709)","v":0}]
[null,null,null,null,null,0,null,null,null,null,null,null,null,null,null,null,0]
[null,null,null,null,null,0,null,null,null,null,null,null,null,null,null,null,0]
[null,null,null,null,null,0,null,null,null,null,null,null,null,null,null,null,0]
[null,null,null,null,null,0,null,null,null,null,null,null,null,null,null,null,0]
[null,null,null,null,null,0,null,null,null,null,null,null,null,null,null,null,0]
[null,null,null,null,null,0,null,null,null,null,null,null,null,null,null,null,0]
[null,null,null,null,null,0,null,null,null,null,null,null,null,null,null,null,0]
[null,null,null,null,null,0,null,null,null,null,null,null,null,null,null,null,0]
[null,null,null,null,null,0,null,null,null,null,null,null,null,null,null,null,0]
[null,null,null,null,null,0,null,null,null,null,null,null,null,null,null,null,0]
[null,null,null,null,null,0,null,null,null,null,null,null,null,null,null,null,0]
[null,null,null,null,null,0,null,null,null,null,null,null,null,null,null,null,0]
[null,null,null,null,null,0,null,null,null,null,null,null,null,null,null,null,0]
[null,null,null,null,null,0,null,null,null,null,null,null,null,null,null,null,0]
[null,null,null,null,null,0,null,null,null,null,null,null,null,null,null,null,0]
[null,null,null,null,null,0,null,null,null,null,null,null,null,null,null,null,0]
[null,null,null,null,null,0,null,null,null,null,null,null,null,null,null,null,0]
[null,null,null,null,null,0,null,null,null,null,null,null,null,null,null,null,0]
[null,null,null,null,null,0,null,null,null,null,null,null,null,null,null,null,0]
[null,null,null,null,null,0,null,null,null,null,null,null,null,null,null,null,0]
[null,null,null,null,null,0,null,null,null,null,null,null,null,null,null,null,0]
[null,null,null,null,null,0,null,null,null,null,null,null,null,null,null,null,0]
[null,null,null,null,null,0,null,null,null,null,null,null,null,null,null,null,0]
[null,null,null,null,null,0,null,null,null,null,null,null,null,null,null,null,0]
[null,null,null,null,null,0,null,null,null,null,null,null,null,null,null,null,0]
[null,null,null,null,null,0,null,null,null,null,null,null,null,null,null,null,0]
[null,null,null,null,null,0,null,null,null,null,null,null,null,null,null,null,0]
[null,null,null,null,null,0,null,null,null,null,null,null,null,null,null,null,0]
[null,null,null,null,null,0,null,null,null,null,null,null,null,null,null,null,0]
[null,null,null,null,null,0,null,null,null,null,null,null,null,null,null,null,0]
[null,null,null,null,null,0,null,null,null,null,null,null,null,null,null,null,0]
[null,null,null,null,null,0,null,null,null,null,null,null,null,null,null,null,0]
[null,null,null,null,null,0,null,null,null,null,null,null,null,null,null,null,0]
[null,null,null,null,null,0,null,null,null,null,null,null,null,null,null,null,0]
[null,null,null,null,null,0,null,null,null,null,null,null,null,null,null,null,0]
[null,null,null,null,null,0,null,null,null,null,null,null,null,null,null,null,0]
[null,null,null,null,null,0,null,null,null,null,null,null,null,null,null,null,0]
[null,null,null,null,null,0,null,null,null,null,null,null,null,null,null,null,0]
[null,null,null,null,null,0,null,null,null,null,null,null,null,null,null,null,0]
[null,null,null,null,null,0,null,null,null,null,null,null,null,null,null,null,0]
[null,null,null,null,null,0,null,null,null,null,null,null,null,null,null,null,0]
[null,null,null,null,null,0,null,null,null,null,null,null,null,null,null,null,0]
[null,null,null,null,null,0,null,null,null,null,null,null,null,null,null,null,0]
[null,null,null,null,null,0,null,null,null,null,null,null,null,null,null,null,0]
[null,null,null,null,null,0,null,null,null,null,null,null,null,null,null,null,0]
[null,null,null,null,null,0,null,null,null,null,null,null,null,null,null,null,0]
[null,null,null,null,null,0,null,null,null,null,null,null,null,null,null,null,0]
[null,null,null,null,null,0,null,null,null,null,null,null,null,null,null,null,0]
[null,null,null,null,null,0,null,null,null,null,null,null,null,null,null,null,0]
[null,null,null,null,null,0,null,null,null,null,null,null,null,null,null,null,0]
[null,null,null,null,null,0,null,null,null,null,null,null,null,null,null,null,0]
[null,null,null,null,null,0,null,null,null,null,null,null,null,null,null,null,0]
[null,null,null,null,null,0,null,null,null,null,null,null,null,null,null,null,0]
[null,null,null,null,null,0,null,null,null,null,null,null,null,null,null,null,0]
[null,null,null,null,null,0,null,null,null,null,null,null,null,null,null,null,0]
[null,null,null,null,null,0,null,null,null,null,null,null,null,null,null,null,0]
[null,null,null,null,null,0,null,null,null,null,null,null,null,null,null,null,0]
[null,null,null,null,null,0,null,null,null,null,null,null,null,null,null,null,0]
[null,null,null,null,null,0,null,null,null,null,null,null,null,null,null,null,0]
[null,null,null,null,null,0,null,null,null,null,null,null,null,null,null,null,0]
[null,null,null,null,null,0,null,null,null,null,null,null,null,null,null,null,0]
[null,null,null,null,null,0,null,null,null,null,null,null,null,null,null,null,0]
[null,null,null,null,null,0,null,null,null,null,null,null,null,null,null,null,0]
[null,null,null,null,null,{"$f":"SUM(D773:E773)","v":0},null,null,null,null,null,null,null,null,null,null,{"$f":"SUM(O773:P773)","v":0}]
[null,null,null,null,null,0,null,null,null,null,null,null,null,null,null,null,0]
[null,null,null,null,null,0,null,null,null,null,null,null,null,null,null,null,0]
[null,null,null,null,null,0,null,null,null,null,null,null,null,null,null,null,0]
[null,null,null,null,null,0,null,null,null,null,null,null,null,null,null,null,0]
[null,null,null,null,null,0,null,null,null,null,null,null,null,null,null,null,0]
[null,null,null,null,null,0,null,null,null,null,null,null,null,null,null,null,0]
[null,null,null,null,null,0,null,null,null,null,null,null,null,null,null,null,0]
[null,null,null,null,null,0,null,null,null,null,null,null,null,null,null,null,0]
[null,null,null,null,null,0,null,null,null,null,null,null,null,null,null,null,0]
[null,null,null,null,null,0,null,null,null,null,null,null,null,null,null,null,0]
[null,null,null,null,null,0,null,null,null,null,null,null,null,null,null,null,0]
[null,null,null,null,null,0,null,null,null,null,null,null,null,null,null,null,0]
[null,null,null,null,null,0,null,null,null,null,null,null,null,null,null,null,0]
[null,null,null,null,null,0,null,null,null,null,null,null,null,null,null,null,0]
[null,null,null,null,null,0,null,null,null,null,null,null,null,null,null,null,0]
[null,null,null,null,null,0,null,null,null,null,null,null,null,null,null,null,0]
[null,null,null,null,null,0,null,null,null,null,null,null,null,null,null,null,0]
[null,null,null,null,null,0,null,null,null,null,null,null,null,null,null,null,0]
[null,null,null,null,null,0,null,null,null,null,null,null,null,null,null,null,0]
[null,null,null,null,null,0,null,null,null,null,null,null,null,null,null,null,0]
[null,null,null,null,null,0,null,null,null,null,null,null,null,null,null,null,0]
[null,null,null,null,null,0,null,null,null,null,null,null,null,null,null,null,0]
[null,null,null,null,null,0,null,null,null,null,null,null,null,null,null,null,0]
[null,null,null,null,null,0,null,null,null,null,null,null,null,null,null,null,0]
[null,null,null,null,null,0,null,null,null,null,null,null,null,null,null,null,0]
[null,null,null,null,null,0,null,null,null,null,null,null,null,null,null,null,0]
[null,null,null,null,null,0,null,null,null,null,null,null,null,null,null,null,0]
[null,null,null,null,null,0,null,null,null,null,null,null,null,null,null,null,0]
[null,null,null,null,null,0,null,null,null,null,null,null,null,null,null,null,0]
[null,null,null,null,null,0,null,null,null,null,null,null,null,null,null,null,0]
[null,null,null,null,null,0,null,null,null,null,null,null,null,null,null,null,0]
[null,null,null,null,null,0,null,null,null,null,null,null,null,null,null,null,0]
[null,null,null,null,null,0,null,null,null,null,null,null,null,null,null,null,0]
[null,null,null,null,null,0,null,null,null,null,null,null,null,null,null,null,0]
[null,null,null,null,null,0,null,null,null,null,null,null,null,null,null,null,0]
[null,null,null,null,null,0,null,null,null,null,null,null,null,null,null,null,0]
[null,null,null,null,null,0,null,null,null,null,null,null,null,null,null,null,0]
[null,null,null,null,null,0,null,null,null,null,null,null,null,null,null,null,0]
[null,null,null,null,null,0,null,null,null,null,null,null,null,null,null,null,0]
[null,null,null,null,null,0,null,null,null,null,null,null,null,null,null,null,0]
[null,null,null,null,null,0,null,null,null,null,null,null,null,null,null,null,0]
[null,null,null,null,null,0,null,null,null,null,null,null,null,null,null,null,0]
[null,null,null,null,null,0,null,null,null,null,null,null,null,null,null,null,0]
[null,null,null,null,null,0,null,null,null,null,null,null,null,null,null,null,0]
[null,null,null,null,null,0,null,null,null,null,null,null,null,null,null,null,0]
[null,null,null,null,null,0,null,null,null,null,null,null,null,null,null,null,0]
[null,null,null,null,null,0,null,null,null,null,null,null,null,null,null,null,0]
[null,null,null,null,null,0,null,null,null,null,null,null,null,null,null,null,0]
[null,null,null,null,null,0,null,null,null,null,null,null,null,null,null,null,0]
[null,null,null,null,null,0,null,null,null,null,null,null,null,null,null,null,0]
[null,null,null,null,null,0,null,null,null,null,null,null,null,null,null,null,0]
[null,null,null,null,null,0,null,null,null,null,null,null,null,null,null,null,0]
[null,null,null,null,null,0,null,null,null,null,null,null,null,null,null,null,0]
[null,null,null,null,null,0,null,null,null,null,null,null,null,null,null,null,0]
[null,null,null,null,null,0,null,null,null,null,null,null,null,null,null,null,0]
[null,null,null,null,null,0,null,null,null,null,null,null,null,null,null,null,0]
[null,null,null,null,null,0,null,null,null,null,null,null,null,null,null,null,0]
[null,null,null,null,null,0,null,null,null,null,null,null,null,null,null,null,0]
[null,null,null,null,null,0,null,null,null,null,null,null,null,null,null,null,0]
[null,null,null,null,null,0,null,null,null,null,null,null,null,null,null,null,0]
[null,null,null,null,null,0,null,null,null,null,null,null,null,null,null,null,0]
[null,null,null,null,null,0,null,null,null,null,null,null,null,null,null,null,0]
[null,null,null,null,null,0,null,null,null,null,null,null,null,null,null,null,0]
[null,null,null,null,null,{"$f":"SUM(D837:E837)","v":0},null,null,null,null,null,null,null,null,null,null,{"$f":"SUM(O837:P837)","v":0}]
[null,null,null,null,null,0,null,null,null,null,null,null,null,null,null,null,0]
[null,null,null,null,null,0,null,null,null,null,null,null,null,null,null,null,0]
[null,null,null,null,null,0,null,null,null,null,null,null,null,null,null,null,0]
[null,null,null,null,null,0,null,null,null,null,null,null,null,null,null,null,0]
[null,null,null,null,null,0,null,null,null,null,null,null,null,null,null,null,0]
[null,null,null,null,null,0,null,null,null,null,null,null,null,null,null,null,0]
[null,null,null,null,null,0,null,null,null,null,null,null,null,null,null,null,0]
[null,null,null,null,null,0,null,null,null,null,null,null,null,null,null,null,0]
[null,null,null,null,null,0,null,null,null,null,null,null,null,null,null,null,0]
[null,null,null,null,null,0,null,null,null,null,null,null,null,null,null,null,0]
[null,null,null,null,null,0,null,null,null,null,null,null,null,null,null,null,0]
[null,null,null,null,null,0,null,null,null,null,null,null,null,null,null,null,0]
[null,null,null,null,null,0,null,null,null,null,null,null,null,null,null,null,0]
[null,null,null,null,null,0,null,null,null,null,null,null,null,null,null,null,0]
[null,null,null,null,null,0,null,null,null,null,null,null,null,null,null,null,0]
[null,null,null,null,null,0,null,null,null,null,null,null,null,null,null,null,0]
[null,null,null,null,null,0,null,null,null,null,null,null,null,null,null,null,0]
[null,null,null,null,null,0,null,null,null,null,null,null,null,null,null,null,0]
[null,null,null,null,null,0,null,null,null,null,null,null,null,null,null,null,0]
[null,null,null,null,null,0,null,null,null,null,null,null,null,null,null,null,0]
[null,null,null,null,null,0,null,null,null,null,null,null,null,null,null,null,0]
[null,null,null,null,null,0,null,null,null,null,null,null,null,null,null,null,0]
[null,null,null,null,null,0,null,null,null,null,null,null,null,null,null,null,0]
[null,null,null,null,null,0,null,null,null,null,null,null,null,null,null,null,0]
[null,null,null,null,null,0,null,null,null,null,null,null,null,null,null,null,0]
[null,null,null,null,null,0,null,null,null,null,null,null,null,null,null,null,0]
[null,null,null,null,null,0,null,null,null,null,null,null,null,null,null,null,0]
[null,null,null,null,null,0,null,null,null,null,null,null,null,null,null,null,0]
[null,null,null,null,null,0,null,null,null,null,null,null,null,null,null,null,0]
[null,null,null,null,null,0,null,null,null,null,null,null,null,null,null,null,0]
[null,null,null,null,null,0,null,null,null,null,null,null,null,null,null,null,0]
[null,null,null,null,null,0,null,null,null,null,null,null,null,null,null,null,0]
[null,null,null,null,null,0,null,null,null,null,null,null,null,null,null,null,0]
[null,null,null,null,null,0,null,null,null,null,null,null,null,null,null,null,0]
[null,null,null,null,null,0,null,null,null,null,null,null,null,null,null,null,0]
[null,null,null,null,null,0,null,null,null,null,null,null,null,null,null,null,0]
[null,null,null,null,null,0,null,null,null,null,null,null,null,null,null,null,0]
[null,null,null,null,null,0,null,null,null,null,null,null,null,null,null,null,0]
[null,null,null,null,null,0,null,null,null,null,null,null,null,null,null,null,0]
[null,null,null,null,null,0,null,null,null,null,null,null,null,null,null,null,0]
[null,null,null,null,null,0,null,null,null,null,null,null,null,null,null,null,0]
[null,null,null,null,null,0,null,null,null,null,null,null,null,null,null,null,0]
[null,null,null,null,null,0,null,null,null,null,null,null,null,null,null,null,0]
[null,null,null,null,null,0,null,null,null,null,null,null,null,null,null,null,0]
[null,null,null,null,null,0,null,null,null,null,null,null,null,null,null,null,0]
[null,null,null,null,null,0,null,null,null,null,null,null,null,null,null,null,0]
[null,null,null,null,null,0,null,null,null,null,null,null,null,null,null,null,0]
[null,null,null,null,null,0,null,null,null,null,null,null,null,null,null,null,0]
[null,null,null,null,null,0,null,null,null,null,null,null,null,null,null,null,0]
[null,null,null,null,null,0,null,null,null,null,null,null,null,null,null,null,0]
[null,null,null,null,null,0,null,null,null,null,null,null,null,null,null,null,0]
[null,null,null,null,null,0,null,null,null,null,null,null,null,null,null,null,0]
[null,null,null,null,null,0,null,null,null,null,null,null,null,null,null,null,0]
[null,null,null,null,null,0,null,null,null,null,null,null,null,null,null,null,0]
[null,null,null,null,null,0,null,null,null,null,null,null,null,null,null,null,0]
[null,null,null,null,null,0,null,null,null,null,null,null,null,null,null,null,0]
[null,null,null,null,null,0,null,null,null,null,null,null,null,null,null,null,0]
[null,null,null,null,null,0,null,null,null,null,null,null,null,null,null,null,0]
[null,null,null,null,null,0,null,null,null,null,null,null,null,null,null,null,0]
[null,null,null,null,null,0,null,null,null,null,null,null,null,null,null,null,0]
[null,null,null,null,null,0,null,null,null,null,null,null,null,null,null,null,0]
[null,null,null,null,null,0,null,null,null,null,null,null,null,null,null,null,0]
[null,null,null,null,null,0,null,null,null,null,null,null,null,null,null,null,0]
[null,null,null,null,null,{"$f":"SUM(D901:E901)","v":0},null,null,null,null,null,null,null,null,null,null,{"$f":"SUM(O901:P901)","v":0}]
[null,null,null,null,null,0,null,null,null,null,null,null,null,null,null,null,0]
[null,null,null,null,null,0,null,null,null,null,null,null,null,null,null,null,0]
[null,null,null,null,null,0,null,null,null,null,null,null,null,null,null,null,0]
[null,null,null,null,null,0,null,null,null,null,null,null,null,null,null,null,0]
[null,null,null,null,null,0,null,null,null,null,null,null,null,null,null,null,0]
[null,null,null,null,null,0,null,null,null,null,null,null,null,null,null,null,0]
[null,null,null,null,null,0,null,null,null,null,null,null,null,null,null,null,0]
[null,null,null,null,null,0,null,null,null,null,null,null,null,null,null,null,0]
[null,null,null,null,null,0,null,null,null,null,null,null,null,null,null,null,0]
[null,null,null,null,null,0,null,null,null,null,null,null,null,null,null,null,0]
[null,null,null,null,null,0,null,null,null,null,null,null,null,null,null,null,0]
[null,null,null,null,null,0,null,null,null,null,null,null,null,null,null,null,0]
[null,null,null,null,null,0,null,null,null,null,null,null,null,null,null,null,0]
[null,null,null,null,null,0,null,null,null,null,null,null,null,null,null,null,0]
[null,null,null,null,null,0,null,null,null,null,null,null,null,null,null,null,0]
[null,null,null,null,null,0,null,null,null,null,null,null,null,null,null,null,0]
[null,null,null,null,null,0,null,null,null,null,null,null,null,null,null,null,0]
[null,null,null,null,null,0,null,null,null,null,null,null,null,null,null,null,0]
[null,null,null,null,null,0,null,null,null,null,null,null,null,null,null,null,0]
[null,null,null,null,null,0,null,null,null,null,null,null,null,null,null,null,0]
[null,null,null,null,null,0,null,null,null,null,null,null,null,null,null,null,0]
[null,null,null,null,null,0,null,null,null,null,null,null,null,null,null,null,0]
[null,null,null,null,null,0,null,null,null,null,null,null,null,null,null,null,0]
[null,null,null,null,null,0,null,null,null,null,null,null,null,null,null,null,0]
[null,null,null,null,null,0,null,null,null,null,null,null,null,null,null,null,0]
[null,null,null,null,null,0,null,null,null,null,null,null,null,null,null,null,0]
[null,null,null,null,null,0,null,null,null,null,null,null,null,null,null,null,0]
[null,null,null,null,null,0,null,null,null,null,null,null,null,null,null,null,0]
[null,null,null,null,null,0,null,null,null,null,null,null,null,null,null,null,0]
[null,null,null,null,null,0,null,null,null,null,null,null,null,null,null,null,0]
[null,null,null,null,null,0,null,null,null,null,null,null,null,null,null,null,0]
[null,null,null,null,null,0,null,null,null,null,null,null,null,null,null,null,0]
[null,null,null,null,null,0,null,null,null,null,null,null,null,null,null,null,0]
[null,null,null,null,null,0,null,null,null,null,null,null,null,null,null,null,0]
[null,null,null,null,null,0,null,null,null,null,null,null,null,null,null,null,0]
[null,null,null,null,null,0,null,null,null,null,null,null,null,null,null,null,0]
[null,null,null,null,null,0,null,null,null,null,null,null,null,null,null,null,0]
[null,null,null,null,null,0,null,null,null,null,null,null,null,null,null,null,0]
[null,null,null,null,null,0,null,null,null,null,null,null,null,null,null,null,0]
[null,null,null,null,null,0,null,null,null,null,null,null,null,null,null,null,0]
[null,null,null,null,null,0,null,null,null,null,null,null,null,null,null,null,0]
[null,null,null,null,null,0,null,null,null,null,null,null,null,null,null,null,0]
[null,null,null,null,null,0,null,null,null,null,null,null,null,null,null,null,0]
[null,null,null,null,null,0,null,null,null,null,null,null,null,null,null,null,0]
[null,null,null,null,null,0,null,null,null,null,null,null,null,null,null,null,0]
[null,null,null,null,null,0,null,null,null,null,null,null,null,null,null,null,0]
[null,null,null,null,null,0,null,null,null,null,null,null,null,null,null,null,0]
[null,null,null,null,null,0,null,null,null,null,null,null,null,null,null,null,0]
[null,null,null,null,null,0,null,null,null,null,null,null,null,null,null,null,0]
[null,null,null,null,null,0,null,null,null,null,null,null,null,null,null,null,0]
[null,null,null,null,null,0,null,null,null,null,null,null,null,null,null,null,0]
[null,null,null,null,null,0,null,null,null,null,null,null,null,null,null,null,0]
[null,null,null,null,null,0,null,null,null,null,null,null,null,null,null,null,0]
[null,null,null,null,null,0,null,null,null,null,null,null,null,null,null,null,0]
[null,null,null,null,null,0,null,null,null,null,null,null,null,null,null,null,0]
[null,null,null,null,null,0,null,null,null,null,null,null,null,null,null,null,0]
[null,null,null,null,null,0,null,null,null,null,null,null,null,null,null,null,0]
[null,null,null,null,null,0,null,null,null,null,null,null,null,null,null,null,0]
[null,null,null,null,null,0,null,null,null,null,null,null,null,null,null,null,0]
[null,null,null,null,null,0,null,null,null,null,null,null,null,null,null,null,0]
[null,null,null,null,null,0,null,null,null,null,null,null,null,null,null,null,0]
[null,null,null,null,null,0,null,null,null,null,null,null,null,null,null,null,0]
[null,null,null,null,null,0,null,null,null,null,null,null,null,null,null,null,0]
[null,null,null,null,null,{"$f":"SUM(D965:E965)","v":0},null,null,null,null,null,null,null,null,null,null,{"$f":"SUM(O965:P965)","v":0}]
[null,null,null,null,null,0,null,null,null,null,null,null,null,null,null,null,0]
[null,null,null,null,null,0,null,null,null,null,null,null,null,null,null,null,0]
[null,null,null,null,null,0,null,null,null,null,null,null,null,null,null,null,0]
[null,null,null,null,null,0,null,null,null,null,null,null,null,null,null,null,0]
[null,null,null,null,null,0,null,null,null,null,null,null,null,null,null,null,0]
[null,null,null,null,null,0,null,null,null,null,null,null,null,null,null,null,0]
[null,null,null,null,null,0,null,null,null,null,null,null,null,null,null,null,0]
[null,null,null,null,null,0,null,null,null,null,null,null,null,null,null,null,0]
[null,null,null,null,null,0,null,null,null,null,null,null,null,null,null,null,0]
[null,null,null,null,null,0,null,null,null,null,null,null,null,null,null,null,0]
[null,null,null,null,null,0,null,null,null,null,null,null,null,null,null,null,0]
[null,null,null,null,null,0,null,null,null,null,null,null,null,null,null,null,0]
[null,null,null,null,null,0,null,null,null,null,null,null,null,null,null,null,0]
[null,null,null,null,null,0,null,null,null,null,null,null,null,null,null,null,0]
[null,null,null,null,null,0,null,null,null,null,null,null,null,null,null,null,0]
[null,null,null,null,null,0,null,null,null,null,null,null,null,null,null,null,0]
[null,null,null,null,null,0,null,null,null,null,null,null,null,null,null,null,0]
[null,null,null,null,null,0,null,null,null,null,null,null,null,null,null,null,0]
[null,null,null,null,null,0,null,null,null,null,null,null,null,null,null,null,0]
[null,null,null,null,null,0,null,null,null,null,null,null,null,null,null,null,0]
[null,null,null,null,null,0,null,null,null,null,null,null,null,null,null,null,0]
[null,null,null,null,null,0,null,null,null,null,null,null,null,null,null,null,0]
[null,null,null,null,null,0,null,null,null,null,null,null,null,null,null,null,0]
[null,null,null,null,null,0,null,null,null,null,null,null,null,null,null,null,0]
[null,null,null,null,null,0,null,null,null,null,null,null,null,null,null,null,0]
[null,null,null,null,null,0,null,null,null,null,null,null,null,null,null,null,0]
[null,null,null,null,null,0,null,null,null,null,null,null,null,null,null,null,0]
[null,null,null,null,null,0,null,null,null,null,null,null,null,null,null,null,0]
[null,null,null,null,null,0,null,null,null,null,null,null,null,null,null,null,0]
[null,null,null,null,null,0,null,null,null,null,null,null,null,null,null,null,0]
[null,null,null,null,null,0,null,null,null,null,null,null,null,null,null,null,0]
[null,null,null,null,null,0,null,null,null,null,null,null,null,null,null,null,0]
[null,null,null,null,null,0,null,null,null,null,null,null,null,null,null,null,0]

{"sheet":"R001","index":4,"n_rows":154,"n_cols":11,"rows_kept":154,"cut":false,"hidden":false,"merged":[[153,1,153,4],[0,0,0,8],[1,0,1,8],[2,0,2,8],[102,1,102,4],[151,1,151,4],[152,1,152,4],[6,1,6,4],[5,1,5,4],[17,1,17,4],[71,2,71,4]]}
[{"$f":"\"งบประมาณทำการประจำปี \"&A_Budget_year","v":"งบประมาณทำการประจำปี 2567"},null,null,null,null,null,null,null,null,"งป.001"]
[{"$f":"Cover!C3","v":"ส่วนภูมิภาค"}]
["ประมาณการรายได้"]
[{"$f":"Unit_eng","v":"MB"},null,null,null,null,null,null,null,{"$f":"Head_division","v":"เขต: "},{"$f":"Head_division2","v":"กฟน.3 - 07"}]
[null,null,null,null,null,null,null,null,"หน่วย:","บาท"]
["(1)","(2)",null,null,null,"(3)","(4)","(5)","(6)","(7)"]
["รหัสบัญชี","ชื่อบัญชี",null,null,null,"รายได้จริง ","รายได้จริง ","วงเงินที่ได้รับ","ประมาณการ","คำชี้แจงประกอบ"]
[null,null,null,null,null,{"$f":"\"ปี \"&A_Budget_year-3","v":"ปี 2564"},{"$f":"\"ปี \"&A_Budget_year-2","v":"ปี 2565"},{"$f":"\"ปี \"&A_Budget_year-1","v":"ปี 2566"},{"$f":"\"ปี \"&A_Budget_year","v":"ปี 2567"}]
[null,"รายได้จากการดำเนินงาน",null,null,null,null,null,null,null,null,{"$f":"IF(SUM(K10:K17)>0,1,0)","v":1}]
[null,"รายได้จากการจำหน่ายกระแสไฟฟ้า ",null,null,null,null,null,null,null,null,{"$f":"IF(SUM(K11:K17)>0,1,0)","v":1}]
[41010010,null,null,"รายได้จากการจำหน่ายไฟฟ้า",null,{"$f":"IFERROR(VLOOKUP(A11,SAP!A:B,2,0),0)","v":1709067830.1900001},{"$f":"IFERROR(VLOOKUP(A11,SAP!C:F,4,0),0)","v":1871081298.8914285},{"$f":"IFERROR(VLOOKUP(A11,SAP!G:H,2,0),0)","v":0},{"$f":"IFERROR(VLOOKUP(A11,'R100'!A:J,10,0),0)","v":2065000000},null,{"$f":"IF(SUM(F11:I11)>0,1,0)","v":1}]
[41010020,null,null,"ปรับปรุงรายได้จากการจำหน่ายไฟฟ้า",null,{"$f":"IFERROR(VLOOKUP(A12,SAP!A:B,2,0),0)","v":168691.76},{"$f":"IFERROR(VLOOKUP(A12,SAP!C:F,4,0),0)","v":176715.87428571429},{"$f":"IFERROR(VLOOKUP(A12,SAP!G:H,2,0),0)","v":0},{"$f":"IFERROR(VLOOKUP(A12,'R100'!A:J,10,0),0)","v":193500},null,{"$f":"IF(SUM(F12:I12)>0,1,0)","v":1}]
[41010118,null,null,"รายได้จากการจำหน่ายไฟฟ้า ประเภทไฟชั่วคราวแบบเหมา",null,{"$f":"IFERROR(VLOOKUP(A13,SAP!A:B,2,0),0)","v":0},{"$f":"IFERROR(VLOOKUP(A13,SAP!C:F,4,0),0)","v":0},{"$f":"IFERROR(VLOOKUP(A13,SAP!G:H,2,0),0)","v":0},{"$f":"IFERROR(VLOOKUP(A13,'R100'!A:J,10,0),0)","v":0},null,0]
[41010990,null,null,"ปรับปรุงรายได้จากการจำหน่ายไฟฟ้า GL",null,{"$f":"IFERROR(VLOOKUP(A14,SAP!A:B,2,0),0)","v":0},{"$f":"IFERROR(VLOOKUP(A14,SAP!C:F,4,0),0)","v":0},{"$f":"IFERROR(VLOOKUP(A14,SAP!G:H,2,0),0)","v":0},{"$f":"IFERROR(VLOOKUP(A14,'R100'!A:J,10,0),0)","v":0},null,0]
[41011040,null,null,"รายได้จากการให้บริการสถานีอัดประจุไฟฟ้า",null,{"$f":"IFERROR(VLOOKUP(A15,SAP!A:B,2,0),0)","v":0},{"$f":"IFERROR(VLOOKUP(A15,SAP!C:F,4,0),0)","v":0},{"$f":"IFERROR(VLOOKUP(A15,SAP!G:H,2,0),0)","v":0},{"$f":"IFERROR(VLOOKUP(A15,'R100'!A:J,10,0),0)","v":0},null,0]
[41012010,null,null,"เงินชดเชยรายได้",null,{"$f":"IFERROR(VLOOKUP(A16,SAP!A:B,2,0),0)","v":38638591.75},{"$f":"IFERROR(VLOOKUP(A16,SAP!C:F,4,0),0)","v":40754531.537142858},{"$f":"IFERROR(VLOOKUP(A16,SAP!G:H,2,0),0)","v":0},{"$f":"IFERROR(VLOOKUP(A16,'R100'!A:J,10,0),0)","v":46000000},null,1]
[41012020,null,null,"เงินสนับสนุนมาตรการรัฐ",null,{"$f":"IFERROR(VLOOKUP(A17,SAP!A:B,2,0),0)","v":116722969.2},{"$f":"IFERROR(VLOOKUP(A17,SAP!C:F,4,0),0)","v":11724954.017142856},{"$f":"IFERROR(VLOOKUP(A17,SAP!G:H,2,0),0)","v":0},{"$f":"IFERROR(VLOOKUP(A17,'R100'!A:J,10,0),0)","v":13100000},null,{"$f":"IF(SUM(F17:I17)>0,1,0)","v":1}]
[null,"รวมรายได้จากการจำหน่ายไฟฟ้า",null,null,null,{"$f":"SUBTOTAL(109,F11:F17)","v":1864598082.9000001},{"$f":"SUBTOTAL(109,G11:G17)","v":1923737500.3199997},0,2124293500,null,{"$f":"K9","v":1}]
[null,"ส่วนลดค่าไฟฟ้า",null,null,null,null,null,null,null,null,{"$f":"IF(SUM(K20:K22)>0,1,0)","v":0}]
[41020030,null,null,"ส่วนลดค่าไฟฟ้า 3%",null,{"$f":"IFERROR(VLOOKUP(A20,SAP!A:B,2,0),0)","v":0},{"$f":"IFERROR(VLOOKUP(A20,SAP!C:F,4,0),0)","v":0},{"$f":"IFERROR(VLOOKUP(A20,SAP!G:H,2,0),0)","v":0},{"$f":"IFERROR(VLOOKUP(A20,'R100'!A:J,10,0),0)","v":0},null,{"$f":"IF(SUM(F20:I20)>0,1,0)","v":0}]
[41020040,null,null,"ส่วนลดหน่วยไฟฟ้า",null,{"$f":"IFERROR(VLOOKUP(A21,SAP!A:B,2,0),0)","v":-52011749.969999999},{"$f":"IFERROR(VLOOKUP(A21,SAP!C:F,4,0),0)","v":0},{"$f":"IFERROR(VLOOKUP(A21,SAP!G:H,2,0),0)","v":0},{"$f":"IFERROR(VLOOKUP(A21,'R100'!A:J,10,0),0)","v":0},null,0]
[41020050,null,null,"ส่วนลดหน่วยไฟฟ้าฟรี",null,{"$f":"IFERROR(VLOOKUP(A22,SAP!A:B,2,0),0)","v":-81116962.930000007},{"$f":"IFERROR(VLOOKUP(A22,SAP!C:F,4,0),0)","v":0},{"$f":"IFERROR(VLOOKUP(A22,SAP!G:H,2,0),0)","v":0},{"$f":"IFERROR(VLOOKUP(A22,'R100'!A:J,10,0),0)","v":0},null,0]
[null,"รายได้อื่นจากการดำเนินงาน",null,null,null,null,null,null,null,null,{"$f":"IF(SUM(K24:K102)>0,1,0)","v":1}]
[null,null,"รายได้จากการจำหน่ายอุปกรณ์ไฟฟ้า ",null,null,null,null,null,null,null,{"$f":"IF(SUM(K25:K30)>0,1,0)","v":1}]
[41030010,"(ส)",null,"รายได้จากการขายหม้อแปลง",null,{"$f":"IFERROR(VLOOKUP(A25,SAP!A:B,2,0),0)","v":0},{"$f":"IFERROR(VLOOKUP(A25,SAP!C:F,4,0),0)","v":0},{"$f":"IFERROR(VLOOKUP(A25,SAP!G:H,2,0),0)","v":0},{"$f":"IFERROR(VLOOKUP(A25,'R100'!A:J,10,0),0)","v":0},null,{"$f":"IF(SUM(F25:I25)>0,1,0)","v":0}]
[41030020,"(ส)",null,"รายได้จากการขายมิเตอร์",null,{"$f":"IFERROR(VLOOKUP(A26,SAP!A:B,2,0),0)","v":0},{"$f":"IFERROR(VLOOKUP(A26,SAP!C:F,4,0),0)","v":0},{"$f":"IFERROR(VLOOKUP(A26,SAP!G:H,2,0),0)","v":0},{"$f":"IFERROR(VLOOKUP(A26,'R100'!A:J,10,0),0)","v":0},null,0]
[41030030,"(ส)",null,"รายได้จากการขายคาปาซิเตอร์",null,{"$f":"IFERROR(VLOOKUP(A27,SAP!A:B,2,0),0)","v":0},{"$f":"IFERROR(VLOOKUP(A27,SAP!C:F,4,0),0)","v":0},{"$f":"IFERROR(VLOOKUP(A27,SAP!G:H,2,0),0)","v":0},{"$f":"IFERROR(VLOOKUP(A27,'R100'!A:J,10,0),0)","v":0},null,0]
[41030040,"(ส)",null,"รายได้จากการขายเสา",null,{"$f":"IFERROR(VLOOKUP(A28,SAP!A:B,2,0),0)","v":0},{"$f":"IFERROR(VLOOKUP(A28,SAP!C:F,4,0),0)","v":0},{"$f":"IFERROR(VLOOKUP(A28,SAP!G:H,2,0),0)","v":0},{"$f":"IFERROR(VLOOKUP(A28,'R100'!A:J,10,0),0)","v":0},null,0]
[41030050,"(ส)",null,"รายได้จากการจัดจำหน่ายผลิตภัณฑ์",null,{"$f":"IFERROR(VLOOKUP(A29,SAP!A:B,2,0),0)","v":0},{"$f":"IFERROR(VLOOKUP(A29,SAP!C:F,4,0),0)","v":0},{"$f":"IFERROR(VLOOKUP(A29,SAP!G:H,2,0),0)","v":0},{"$f":"IFERROR(VLOOKUP(A29,'R100'!A:J,10,0),0)","v":0},null,0]
[41030990,"(ส)",null,"รายได้จากการขายอุปกรณ์ไฟฟ้าอื่น ๆ",null,{"$f":"IFERROR(VLOOKUP(A30,SAP!A:B,2,0),0)","v":0},{"$f":"IFERROR(VLOOKUP(A30,SAP!C:F,4,0),0)","v":1754.6914285714288},{"$f":"IFERROR(VLOOKUP(A30,SAP!G:H,2,0),0)","v":0},{"$f":"IFERROR(VLOOKUP(A30,'R100'!A:J,10,0),0)","v":0},null,1]
[null,null,"รายได้จากการให้เช่าหรือใช้สินทรัพย์ ",null,null,null,null,null,null,null,{"$f":"IF(SUM(K32:K38)>0,1,0)","v":1}]
[41031010,"(ส)",null,"รายได้จากการให้ใช้เสาไฟฟ้า",null,{"$f":"IFERROR(VLOOKUP(A32,SAP!A:B,2,0),0)","v":7506364.7999999998},{"$f":"IFERROR(VLOOKUP(A32,SAP!C:F,4,0),0)","v":5886296.2457142863},{"$f":"IFERROR(VLOOKUP(A32,SAP!G:H,2,0),0)","v":0},{"$f":"IFERROR(VLOOKUP(A32,'R100'!A:J,10,0),0)","v":0},null,{"$f":"IF(SUM(F32:I32)>0,1,0)","v":1}]
[41031020,"(ส)",null,"รายได้จากการให้เช่าหม้อแปลง",null,{"$f":"IFERROR(VLOOKUP(A33,SAP!A:B,2,0),0)","v":81516.850000000006},{"$f":"IFERROR(VLOOKUP(A33,SAP!C:F,4,0),0)","v":75851.64},{"$f":"IFERROR(VLOOKUP(A33,SAP!G:H,2,0),0)","v":0},{"$f":"IFERROR(VLOOKUP(A33,'R100'!A:J,10,0),0)","v":0},null,1]
[41031030,"(ส)",null,"รายได้จากการให้เช่าชุดเครื่องยนต์กำเนิดไฟฟ้า",null,{"$f":"IFERROR(VLOOKUP(A34,SAP!A:B,2,0),0)","v":0},{"$f":"IFERROR(VLOOKUP(A34,SAP!C:F,4,0),0)","v":0},{"$f":"IFERROR(VLOOKUP(A34,SAP!G:H,2,0),0)","v":0},{"$f":"IFERROR(VLOOKUP(A34,'R100'!A:J,10,0),0)","v":0},null,0]
[41031040,"(ส)",null,"รายได้จากการให้ใช้บริการเส้นใยแก้วนำแสง",null,{"$f":"IFERROR(VLOOKUP(A35,SAP!A:B,2,0),0)","v":0},{"$f":"IFERROR(VLOOKUP(A35,SAP!C:F,4,0),0)","v":0},{"$f":"IFERROR(VLOOKUP(A35,SAP!G:H,2,0),0)","v":0},{"$f":"IFERROR(VLOOKUP(A35,'R100'!A:J,10,0),0)","v":0},null,0]
[41031050,"(ส)",null,"รายได้จากการให้เช่าอสังหาริมทรัพย์",null,{"$f":"IFERROR(VLOOKUP(A36,SAP!A:B,2,0),0)","v":0},{"$f":"IFERROR(VLOOKUP(A36,SAP!C:F,4,0),0)","v":0},{"$f":"IFERROR(VLOOKUP(A36,SAP!G:H,2,0),0)","v":0},{"$f":"IFERROR(VLOOKUP(A36,'R100'!A:J,10,0),0)","v":0},null,0]
[41031060,null,null,"รายได้จากการใช้ระบบโครงข่ายไฟฟ้า",null,{"$f":"IFERROR(VLOOKUP(A37,SAP!A:B,2,0),0)","v":0},{"$f":"IFERROR(VLOOKUP(A37,SAP!C:F,4,0),0)","v":0},{"$f":"IFERROR(VLOOKUP(A37,SAP!G:H,2,0),0)","v":0},{"$f":"IFERROR(VLOOKUP(A37,'R100'!A:J,10,0),0)","v":0},null,0]
[41031990,"(ส)",null,"รายได้จากการให้เช่าหรือใช้สินทรัพย์อื่น ๆ",null,{"$f":"IFERROR(VLOOKUP(A38,SAP!A:B,2,0),0)","v":1240},{"$f":"IFERROR(VLOOKUP(A38,SAP!C:F,4,0),0)","v":41760},{"$f":"IFERROR(VLOOKUP(A38,SAP!G:H,2,0),0)","v":0},{"$f":"IFERROR(VLOOKUP(A38,'R100'!A:J,10,0),0)","v":0},null,1]
[null,null,"รายได้ค่าติดตั้ง ตรวจการติดตั้งอุปกรณ์ไฟฟ้า ",null,null,null,null,null,null,null,{"$f":"IF(SUM(K40:K45)>0,1,0)","v":1}]
[41032010,null,null,"รายได้ติดตั้ง ตรวจการติดตั้งมิเตอร์",null,{"$f":"IFERROR(VLOOKUP(A40,SAP!A:B,2,0),0)","v":2074900},{"$f":"IFERROR(VLOOKUP(A40,SAP!C:F,4,0),0)","v":1719000},{"$f":"IFERROR(VLOOKUP(A40,SAP!G:H,2,0),0)","v":0},{"$f":"IFERROR(VLOOKUP(A40,'R100'!A:J,10,0),0)","v":2000000},null,{"$f":"IF(SUM(F40:I40)>0,1,0)","v":1}]
[41032019,null,null,"ปรับปรุงรายได้ติดตั้ง ตรวจการติดตั้งมิเตอร์",null,{"$f":"IFERROR(VLOOKUP(A41,SAP!A:B,2,0),0)","v":-82300},{"$f":"IFERROR(VLOOKUP(A41,SAP!C:F,4,0),0)","v":72171.42857142858},{"$f":"IFERROR(VLOOKUP(A41,SAP!G:H,2,0),0)","v":0},{"$f":"IFERROR(VLOOKUP(A41,'R100'!A:J,10,0),0)","v":83000},null,1]
[41032020,null,null,"รายได้ติดตั้งมิเตอร์ TOU/TOD",null,{"$f":"IFERROR(VLOOKUP(A42,SAP!A:B,2,0),0)","v":861080},{"$f":"IFERROR(VLOOKUP(A42,SAP!C:F,4,0),0)","v":524194.28571428574},{"$f":"IFERROR(VLOOKUP(A42,SAP!G:H,2,0),0)","v":0},{"$f":"IFERROR(VLOOKUP(A42,'R100'!A:J,10,0),0)","v":580000},null,1]
[41032029,null,null,"ปรับปรุงรายได้ติดตั้งมิเตอร์ TOU/TOD",null,{"$f":"IFERROR(VLOOKUP(A43,SAP!A:B,2,0),0)","v":-420080},{"$f":"IFERROR(VLOOKUP(A43,SAP!C:F,4,0),0)","v":38640},{"$f":"IFERROR(VLOOKUP(A43,SAP!G:H,2,0),0)","v":0},{"$f":"IFERROR(VLOOKUP(A43,'R100'!A:J,10,0),0)","v":40000},null,0]
[41032030,"(ส)",null,"รายได้ค่าบริการงานด้านฮอทไลน์และเชื่อมสายแรงสูง",null,{"$f":"IFERROR(VLOOKUP(A44,SAP!A:B,2,0),0)","v":1791290.58},{"$f":"IFERROR(VLOOKUP(A44,SAP!C:F,4,0),0)","v":1440453.4971428572},{"$f":"IFERROR(VLOOKUP(A44,SAP!G:H,2,0),0)","v":0},{"$f":"IFERROR(VLOOKUP(A44,'R100'!A:J,10,0),0)","v":0},null,1]
[41032039,null,null,"ปรับปรุงรายได้ค่าบริการงานด้านฮอทไลน์และเชื่อมสายแรงสูง",null,{"$f":"IFERROR(VLOOKUP(A45,SAP!A:B,2,0),0)","v":-157750.09},{"$f":"IFERROR(VLOOKUP(A45,SAP!C:F,4,0),0)","v":-289647.27428571426},{"$f":"IFERROR(VLOOKUP(A45,SAP!G:H,2,0),0)","v":0},{"$f":"IFERROR(VLOOKUP(A45,'R100'!A:J,10,0),0)","v":0},null,0]
[null,null,"รายได้ค่าทดสอบอุปกรณ์ไฟฟ้า ",null,null,null,null,null,null,null,{"$f":"IF(SUM(K47:K50)>0,1,0)","v":1}]
[41033010,"(ส)",null,"รายได้ค่าทดสอบผลิตภัณฑ์คอนกรีต",null,{"$f":"IFERROR(VLOOKUP(A47,SAP!A:B,2,0),0)","v":0},{"$f":"IFERROR(VLOOKUP(A47,SAP!C:F,4,0),0)","v":0},{"$f":"IFERROR(VLOOKUP(A47,SAP!G:H,2,0),0)","v":0},{"$f":"IFERROR(VLOOKUP(A47,'R100'!A:J,10,0),0)","v":0},null,{"$f":"IF(SUM(F47:I47)>0,1,0)","v":0}]
[41033019,null,null,"ปรับปรุงรายได้ค่าทดสอบผลิตภัณฑ์คอนกรีต",null,{"$f":"IFERROR(VLOOKUP(A48,SAP!A:B,2,0),0)","v":0},{"$f":"IFERROR(VLOOKUP(A48,SAP!C:F,4,0),0)","v":0},{"$f":"IFERROR(VLOOKUP(A48,SAP!G:H,2,0),0)","v":0},{"$f":"IFERROR(VLOOKUP(A48,'R100'!A:J,10,0),0)","v":0},null,0]
[41033020,"(ส)",null,"รายได้ค่าทดสอบอุปกรณ์ไฟฟ้า",null,{"$f":"IFERROR(VLOOKUP(A49,SAP!A:B,2,0),0)","v":50000},{"$f":"IFERROR(VLOOKUP(A49,SAP!C:F,4,0),0)","v":85714.28571428571},{"$f":"IFERROR(VLOOKUP(A49,SAP!G:H,2,0),0)","v":0},{"$f":"IFERROR(VLOOKUP(A49,'R100'!A:J,10,0),0)","v":0},null,1]
[41033029,null,null,"ปรับปรุงรายได้ค่าทดสอบอุปกรณ์ไฟฟ้า",null,{"$f":"IFERROR(VLOOKUP(A50,SAP!A:B,2,0),0)","v":0},{"$f":"IFERROR(VLOOKUP(A50,SAP!C:F,4,0),0)","v":0},{"$f":"IFERROR(VLOOKUP(A50,SAP!G:H,2,0),0)","v":0},{"$f":"IFERROR(VLOOKUP(A50,'R100'!A:J,10,0),0)","v":0},null,0]
[null,null,"รายได้ค่าธรรมเนียม",null,null,null,null,null,null,null,{"$f":"IF(SUM(K52:K56)>0,1,0)","v":1}]
[41034010,null,null,"รายได้ค่าธรรมเนียมต่อไฟ",null,{"$f":"IFERROR(VLOOKUP(A52,SAP!A:B,2,0),0)","v":0},{"$f":"IFERROR(VLOOKUP(A52,SAP!C:F,4,0),0)","v":0},{"$f":"IFERROR(VLOOKUP(A52,SAP!G:H,2,0),0)","v":0},{"$f":"IFERROR(VLOOKUP(A52,'R100'!A:J,10,0),0)","v":0},null,{"$f":"IF(SUM(F52:I52)>0,1,0)","v":0}]
[41034020,null,null,"รายได้ค่าธรรมเนียมพาดสายสื่อสารฯ",null,{"$f":"IFERROR(VLOOKUP(A53,SAP!A:B,2,0),0)","v":201280},{"$f":"IFERROR(VLOOKUP(A53,SAP!C:F,4,0),0)","v":243634.28571428571},{"$f":"IFERROR(VLOOKUP(A53,SAP!G:H,2,0),0)","v":0},{"$f":"IFERROR(VLOOKUP(A53,'R100'!A:J,10,0),0)","v":275000},null,1]
[41034030,null,null,"รายได้ค่าต่อกลับมิเตอร์",null,{"$f":"IFERROR(VLOOKUP(A54,SAP!A:B,2,0),0)","v":46000},{"$f":"IFERROR(VLOOKUP(A54,SAP!C:F,4,0),0)","v":952628.57142857148},{"$f":"IFERROR(VLOOKUP(A54,SAP!G:H,2,0),0)","v":0},{"$f":"IFERROR(VLOOKUP(A54,'R100'!A:J,10,0),0)","v":1060000},null,1]
[41034040,null,null,"รายได้ขอผ่อนผันการงดจ่ายไฟ",null,{"$f":"IFERROR(VLOOKUP(A55,SAP!A:B,2,0),0)","v":3750},{"$f":"IFERROR(VLOOKUP(A55,SAP!C:F,4,0),0)","v":79885.71428571429},{"$f":"IFERROR(VLOOKUP(A55,SAP!G:H,2,0),0)","v":0},{"$f":"IFERROR(VLOOKUP(A55,'R100'!A:J,10,0),0)","v":95000},null,1]
[41034990,null,null,"รายได้ค่าธรรมเนียมอื่น ๆ",null,{"$f":"IFERROR(VLOOKUP(A56,SAP!A:B,2,0),0)","v":-400},{"$f":"IFERROR(VLOOKUP(A56,SAP!C:F,4,0),0)","v":0},{"$f":"IFERROR(VLOOKUP(A56,SAP!G:H,2,0),0)","v":0},{"$f":"IFERROR(VLOOKUP(A56,'R100'!A:J,10,0),0)","v":0},null,0]
[null,null,"รายได้จากการก่อสร้างให้ผู้ใช้ไฟ ",null,null,null,null,null,null,null,{"$f":"IF(SUM(K58:K62)>0,1,0)","v":1}]
[41035010,"(ส)",null,"รายได้จากการก่อสร้างให้ผู้ใช้ไฟ",null,{"$f":"IFERROR(VLOOKUP(A58,SAP!A:B,2,0),0)","v":25345346.100000001},{"$f":"IFERROR(VLOOKUP(A58,SAP!C:F,4,0),0)","v":19871449.080000002},{"$f":"IFERROR(VLOOKUP(A58,SAP!G:H,2,0),0)","v":0},{"$f":"IFERROR(VLOOKUP(A58,'R100'!A:J,10,0),0)","v":0},null,{"$f":"IF(SUM(F58:I58)>0,1,0)","v":1}]
[41035017,null,null,"ปรับปรุงรายได้จากการก่อสร้างให้ผู้ใช้ไฟสิ้นงวด",null,{"$f":"IFERROR(VLOOKUP(A59,SAP!A:B,2,0),0)","v":0},{"$f":"IFERROR(VLOOKUP(A59,SAP!C:F,4,0),0)","v":0},{"$f":"IFERROR(VLOOKUP(A59,SAP!G:H,2,0),0)","v":0},{"$f":"IFERROR(VLOOKUP(A59,'R100'!A:J,10,0),0)","v":0},null,0]
[41035019,null,null,"ปรับปรุงรายได้จากการก่อสร้างให้ผู้ใช้ไฟ",null,{"$f":"IFERROR(VLOOKUP(A60,SAP!A:B,2,0),0)","v":2490010.67},{"$f":"IFERROR(VLOOKUP(A60,SAP!C:F,4,0),0)","v":967509.44571428571},{"$f":"IFERROR(VLOOKUP(A60,SAP!G:H,2,0),0)","v":0},{"$f":"IFERROR(VLOOKUP(A60,'R100'!A:J,10,0),0)","v":0},null,1]
[41035020,"(ส)",null,"รายได้ค่าบริการด้านวิศวกรรม",null,{"$f":"IFERROR(VLOOKUP(A61,SAP!A:B,2,0),0)","v":213247.34},{"$f":"IFERROR(VLOOKUP(A61,SAP!C:F,4,0),0)","v":1533835.8},{"$f":"IFERROR(VLOOKUP(A61,SAP!G:H,2,0),0)","v":0},{"$f":"IFERROR(VLOOKUP(A61,'R100'!A:J,10,0),0)","v":0},null,1]
[41035029,null,null,"ปรับปรุงรายได้ค่าบริการด้านวิศวกรรม",null,{"$f":"IFERROR(VLOOKUP(A62,SAP!A:B,2,0),0)","v":-41151},{"$f":"IFERROR(VLOOKUP(A62,SAP!C:F,4,0),0)","v":52963.714285714283},{"$f":"IFERROR(VLOOKUP(A62,SAP!G:H,2,0),0)","v":0},{"$f":"IFERROR(VLOOKUP(A62,'R100'!A:J,10,0),0)","v":0},null,1]
[null,null,"รายได้จากเงินช่วยเหลือเพื่อการก่อสร้าง ",null,null,null,null,null,null,null,{"$f":"IF(SUM(K64:K67)>0,1,0)","v":1}]
[41036010,null,null,"รายได้จากเงินช่วยเหลือเพื่อการก่อสร้าง",null,{"$f":"IFERROR(VLOOKUP(A64,SAP!A:B,2,0),0)","v":13605048.66},{"$f":"IFERROR(VLOOKUP(A64,SAP!C:F,4,0),0)","v":13737442.439999999},{"$f":"IFERROR(VLOOKUP(A64,SAP!G:H,2,0),0)","v":0},{"$f":"IFERROR(VLOOKUP(A64,'R100'!A:J,10,0),0)","v":0},null,{"$f":"IF(SUM(F64:I64)>0,1,0)","v":1}]
[41036017,null,null,"ปรับปรุงรายได้จากเงินช่วยเหลือเพื่อการก่อสร้าง",null,{"$f":"IFERROR(VLOOKUP(A65,SAP!A:B,2,0),0)","v":3828.93},{"$f":"IFERROR(VLOOKUP(A65,SAP!C:F,4,0),0)","v":-6563.8799999999992},{"$f":"IFERROR(VLOOKUP(A65,SAP!G:H,2,0),0)","v":0},{"$f":"IFERROR(VLOOKUP(A65,'R100'!A:J,10,0),0)","v":0},null,0]
[41036020,null,null,"รายได้ค่าส่วนเฉลี่ยการใช้พลังไฟฟ้า",null,{"$f":"IFERROR(VLOOKUP(A66,SAP!A:B,2,0),0)","v":0},{"$f":"IFERROR(VLOOKUP(A66,SAP!C:F,4,0),0)","v":0},{"$f":"IFERROR(VLOOKUP(A66,SAP!G:H,2,0),0)","v":0},{"$f":"IFERROR(VLOOKUP(A66,'R100'!A:J,10,0),0)","v":0},null,0]
[41036030,null,null,"รายได้จากเงินสมทบระบบจำหน่ายพาดสายสื่อสาร",null,{"$f":"IFERROR(VLOOKUP(A67,SAP!A:B,2,0),0)","v":1399662.45},{"$f":"IFERROR(VLOOKUP(A67,SAP!C:F,4,0),0)","v":811484.22857142857},{"$f":"IFERROR(VLOOKUP(A67,SAP!G:H,2,0),0)","v":0},{"$f":"IFERROR(VLOOKUP(A67,'R100'!A:J,10,0),0)","v":950000},null,1]
[null,null,"รายได้จากการให้บริการนวัตกรรม",null,null,null,null,null,null,null,{"$f":"IF(SUM(K69:K69)>0,1,0)","v":0}]
[41037010,"(ส)",null,"รายได้ค่าบริการแอปพลิเคชัน",null,{"$f":"IFERROR(VLOOKUP(A69,SAP!A:B,2,0),0)","v":0},{"$f":"IFERROR(VLOOKUP(A69,SAP!C:F,4,0),0)","v":0},{"$f":"IFERROR(VLOOKUP(A69,SAP!G:H,2,0),0)","v":0},{"$f":"IFERROR(VLOOKUP(A69,'R100'!A:J,10,0),0)","v":0},null,{"$f":"IF(SUM(F69:I69)>0,1,0)","v":0}]
[null,null,"รายได้จากการรับโอนสินทรัพย์ดำเนินงาน",null,null,null,null,null,null,null,{"$f":"IF(SUM(K71:K71)>0,1,0)","v":1}]
[41038010,null,null,"รายได้จากการรับโอนสินทรัพย์ดำเนินงาน",null,{"$f":"IFERROR(VLOOKUP(A71,SAP!A:B,2,0),0)","v":4037.28},{"$f":"IFERROR(VLOOKUP(A71,SAP!C:F,4,0),0)","v":4037.2799999999997},{"$f":"IFERROR(VLOOKUP(A71,SAP!G:H,2,0),0)","v":0},{"$f":"IFERROR(VLOOKUP(A71,'R100'!A:J,10,0),0)","v":5000},null,{"$f":"IF(SUM(F71:I71)>0,1,0)","v":1}]
[null,null,"รายได้อื่นจากการดำเนินงาน",null,null,null,null,null,null,null,{"$f":"IF(SUM(K73:K97)>0,1,0)","v":1}]
[41039010,null,null,"รายได้ค่าตรวจจุดเขียนผัง",null,{"$f":"IFERROR(VLOOKUP(A73,SAP!A:B,2,0),0)","v":235000},{"$f":"IFERROR(VLOOKUP(A73,SAP!C:F,4,0),0)","v":274285.71428571432},{"$f":"IFERROR(VLOOKUP(A73,SAP!G:H,2,0),0)","v":0},{"$f":"IFERROR(VLOOKUP(A73,'R100'!A:J,10,0),0)","v":330000},null,{"$f":"IF(SUM(F73:I73)>0,1,0)","v":1}]
[41039020,"(ส)",null,"รายได้ค่าตรวจสอบและบำรุงรักษาหม้อแปลง",null,{"$f":"IFERROR(VLOOKUP(A74,SAP!A:B,2,0),0)","v":44650.52},{"$f":"IFERROR(VLOOKUP(A74,SAP!C:F,4,0),0)","v":109492.16571428571},{"$f":"IFERROR(VLOOKUP(A74,SAP!G:H,2,0),0)","v":0},{"$f":"IFERROR(VLOOKUP(A74,'R100'!A:J,10,0),0)","v":0},null,1]
[41039029,null,null,"ปรับปรุงรายได้ค่าตรวจสอบและบำรุงรักษาหม้อแปลง",null,{"$f":"IFERROR(VLOOKUP(A75,SAP!A:B,2,0),0)","v":0},{"$f":"IFERROR(VLOOKUP(A75,SAP!C:F,4,0),0)","v":-5142.8571428571431},{"$f":"IFERROR(VLOOKUP(A75,SAP!G:H,2,0),0)","v":0},{"$f":"IFERROR(VLOOKUP(A75,'R100'!A:J,10,0),0)","v":0},null,0]
[41039030,"(ส)",null,"รายได้ค่าติดตั้ง รื้อถอน ซ่อมแซมหม้อแปลง",null,{"$f":"IFERROR(VLOOKUP(A76,SAP!A:B,2,0),0)","v":67010},{"$f":"IFERROR(VLOOKUP(A76,SAP!C:F,4,0),0)","v":24867.428571428572},{"$f":"IFERROR(VLOOKUP(A76,SAP!G:H,2,0),0)","v":0},{"$f":"IFERROR(VLOOKUP(A76,'R100'!A:J,10,0),0)","v":0},null,1]
[41039039,null,null,"ปรับปรุงรายได้ค่าติดตั้ง รื้อถอน ซ่อมแซมหม้อแปลง",null,{"$f":"IFERROR(VLOOKUP(A77,SAP!A:B,2,0),0)","v":-13656},{"$f":"IFERROR(VLOOKUP(A77,SAP!C:F,4,0),0)","v":36106.28571428571},{"$f":"IFERROR(VLOOKUP(A77,SAP!G:H,2,0),0)","v":0},{"$f":"IFERROR(VLOOKUP(A77,'R100'!A:J,10,0),0)","v":0},null,1]
[41039040,null,null,"รายได้ค่าละเมิดสิทธิ ",null,{"$f":"IFERROR(VLOOKUP(A78,SAP!A:B,2,0),0)","v":81000},{"$f":"IFERROR(VLOOKUP(A78,SAP!C:F,4,0),0)","v":802285.71428571432},{"$f":"IFERROR(VLOOKUP(A78,SAP!G:H,2,0),0)","v":0},{"$f":"IFERROR(VLOOKUP(A78,'R100'!A:J,10,0),0)","v":895000},null,1]
[41039050,null,null,"รายได้ค่าชดใช้มิเตอร์ชำรุดและอุปกรณ์ประกอบ",null,{"$f":"IFERROR(VLOOKUP(A79,SAP!A:B,2,0),0)","v":195761.2},{"$f":"IFERROR(VLOOKUP(A79,SAP!C:F,4,0),0)","v":266436.77142857143},{"$f":"IFERROR(VLOOKUP(A79,SAP!G:H,2,0),0)","v":0},{"$f":"IFERROR(VLOOKUP(A79,'R100'!A:J,10,0),0)","v":295000},null,1]
[41039060,null,null,"รายได้ชดใช้รถยนต์ชนเสา",null,{"$f":"IFERROR(VLOOKUP(A80,SAP!A:B,2,0),0)","v":199864.77},{"$f":"IFERROR(VLOOKUP(A80,SAP!C:F,4,0),0)","v":276496.4914285714},{"$f":"IFERROR(VLOOKUP(A80,SAP!G:H,2,0),0)","v":0},{"$f":"IFERROR(VLOOKUP(A80,'R100'!A:J,10,0),0)","v":320000},null,1]
[41039080,"(ส)",null,"รายได้ค่าตรวจสอบและบำรุงรักษาเคเบิลใต้ดิน",null,{"$f":"IFERROR(VLOOKUP(A81,SAP!A:B,2,0),0)","v":0},{"$f":"IFERROR(VLOOKUP(A81,SAP!C:F,4,0),0)","v":0},{"$f":"IFERROR(VLOOKUP(A81,SAP!G:H,2,0),0)","v":0},{"$f":"IFERROR(VLOOKUP(A81,'R100'!A:J,10,0),0)","v":0},null,0]
[41039089,null,null,"ปรับปรุงรายได้ค่าตรวจสอบและบำรุงรักษาเคเบิลใต้ดิน",null,{"$f":"IFERROR(VLOOKUP(A82,SAP!A:B,2,0),0)","v":0},{"$f":"IFERROR(VLOOKUP(A82,SAP!C:F,4,0),0)","v":0},{"$f":"IFERROR(VLOOKUP(A82,SAP!G:H,2,0),0)","v":0},{"$f":"IFERROR(VLOOKUP(A82,'R100'!A:J,10,0),0)","v":0},null,0]
[41039090,"(ส)",null,"รายได้ค่าติดตั้ง ตรวจสอบและค่าบำรุงรักษาระบบไฟฟ้า",null,{"$f":"IFERROR(VLOOKUP(A83,SAP!A:B,2,0),0)","v":299441.5},{"$f":"IFERROR(VLOOKUP(A83,SAP!C:F,4,0),0)","v":727420.8},{"$f":"IFERROR(VLOOKUP(A83,SAP!G:H,2,0),0)","v":0},{"$f":"IFERROR(VLOOKUP(A83,'R100'!A:J,10,0),0)","v":0},null,1]
[41039099,null,null,"ปรับปรุงรายได้ค่าติดตั้ง ตรวจสอบและค่าบำรุงรักษาระบบไฟฟ้า",null,{"$f":"IFERROR(VLOOKUP(A84,SAP!A:B,2,0),0)","v":0},{"$f":"IFERROR(VLOOKUP(A84,SAP!C:F,4,0),0)","v":-204685.71428571429},{"$f":"IFERROR(VLOOKUP(A84,SAP!G:H,2,0),0)","v":0},{"$f":"IFERROR(VLOOKUP(A84,'R100'!A:J,10,0),0)","v":0},null,0]
[41039100,"(ส)",null,"รายได้ค่าบำรุงรักษาระบบไฟฟ้าแบบครบวงจร",null,{"$f":"IFERROR(VLOOKUP(A85,SAP!A:B,2,0),0)","v":0},{"$f":"IFERROR(VLOOKUP(A85,SAP!C:F,4,0),0)","v":0},{"$f":"IFERROR(VLOOKUP(A85,SAP!G:H,2,0),0)","v":0},{"$f":"IFERROR(VLOOKUP(A85,'R100'!A:J,10,0),0)","v":0},null,0]
[41039109,null,null,"ปรับปรุงรายได้ค่าบำรุงรักษาระบบไฟฟ้าแบบครบวงจร",null,{"$f":"IFERROR(VLOOKUP(A86,SAP!A:B,2,0),0)","v":0},{"$f":"IFERROR(VLOOKUP(A86,SAP!C:F,4,0),0)","v":0},{"$f":"IFERROR(VLOOKUP(A86,SAP!G:H,2,0),0)","v":0},{"$f":"IFERROR(VLOOKUP(A86,'R100'!A:J,10,0),0)","v":0},null,0]
[41039110,null,null,"รายได้ค่าดำเนินการโครงการรับซื้อไฟฟ้าจากVSPP",null,{"$f":"IFERROR(VLOOKUP(A87,SAP!A:B,2,0),0)","v":11111462.83},{"$f":"IFERROR(VLOOKUP(A87,SAP!C:F,4,0),0)","v":11505063.445714286},{"$f":"IFERROR(VLOOKUP(A87,SAP!G:H,2,0),0)","v":0},{"$f":"IFERROR(VLOOKUP(A87,'R100'!A:J,10,0),0)","v":12804000},null,1]
[41039120,"(ส)",null,"รายได้ค่าบริการติดตั้งอุปกรณ์สื่อสาร",null,{"$f":"IFERROR(VLOOKUP(A88,SAP!A:B,2,0),0)","v":0},{"$f":"IFERROR(VLOOKUP(A88,SAP!C:F,4,0),0)","v":0},{"$f":"IFERROR(VLOOKUP(A88,SAP!G:H,2,0),0)","v":0},{"$f":"IFERROR(VLOOKUP(A88,'R100'!A:J,10,0),0)","v":0},null,0]
[41039129,null,null,"ปรับปรุงรายได้ค่าบริการติดตั้งอุปกรณ์สื่อสาร",null,{"$f":"IFERROR(VLOOKUP(A89,SAP!A:B,2,0),0)","v":0},{"$f":"IFERROR(VLOOKUP(A89,SAP!C:F,4,0),0)","v":0},{"$f":"IFERROR(VLOOKUP(A89,SAP!G:H,2,0),0)","v":0},{"$f":"IFERROR(VLOOKUP(A89,'R100'!A:J,10,0),0)","v":0},null,0]
[41039130,null,null,"รายได้ค่าพาดสายก่อนได้รับอนุญาต",null,{"$f":"IFERROR(VLOOKUP(A90,SAP!A:B,2,0),0)","v":567504.31000000006},{"$f":"IFERROR(VLOOKUP(A90,SAP!C:F,4,0),0)","v":0},{"$f":"IFERROR(VLOOKUP(A90,SAP!G:H,2,0),0)","v":0},{"$f":"IFERROR(VLOOKUP(A90,'R100'!A:J,10,0),0)","v":0},null,1]
[41039140,"(ส)",null,"รายได้ค่าบริการฝึกอบรม",null,{"$f":"IFERROR(VLOOKUP(A91,SAP!A:B,2,0),0)","v":0},{"$f":"IFERROR(VLOOKUP(A91,SAP!C:F,4,0),0)","v":0},{"$f":"IFERROR(VLOOKUP(A91,SAP!G:H,2,0),0)","v":0},{"$f":"IFERROR(VLOOKUP(A91,'R100'!A:J,10,0),0)","v":0},null,0]
[41039149,null,null,"ปรับปรุงรายได้ค่าบริการฝึกอบรม",null,{"$f":"IFERROR(VLOOKUP(A92,SAP!A:B,2,0),0)","v":0},{"$f":"IFERROR(VLOOKUP(A92,SAP!C:F,4,0),0)","v":0},{"$f":"IFERROR(VLOOKUP(A92,SAP!G:H,2,0),0)","v":0},{"$f":"IFERROR(VLOOKUP(A92,'R100'!A:J,10,0),0)","v":0},null,0]
[41039150,"(ส)",null,"รายได้บริการจัดการพลังงาน",null,{"$f":"IFERROR(VLOOKUP(A93,SAP!A:B,2,0),0)","v":0},{"$f":"IFERROR(VLOOKUP(A93,SAP!C:F,4,0),0)","v":0},{"$f":"IFERROR(VLOOKUP(A93,SAP!G:H,2,0),0)","v":0},{"$f":"IFERROR(VLOOKUP(A93,'R100'!A:J,10,0),0)","v":0},null,0]
[41039159,null,null,"ปรับปรุงรายได้บริการจัดการพลังงาน",null,{"$f":"IFERROR(VLOOKUP(A94,SAP!A:B,2,0),0)","v":0},{"$f":"IFERROR(VLOOKUP(A94,SAP!C:F,4,0),0)","v":0},{"$f":"IFERROR(VLOOKUP(A94,SAP!G:H,2,0),0)","v":0},{"$f":"IFERROR(VLOOKUP(A94,'R100'!A:J,10,0),0)","v":0},null,0]
[41039160,"(ส)",null,"รายได้ค่าบริการเชื่อมต่อระบบโครงข่ายไฟฟ้า",null,{"$f":"IFERROR(VLOOKUP(A95,SAP!A:B,2,0),0)","v":8000},{"$f":"IFERROR(VLOOKUP(A95,SAP!C:F,4,0),0)","v":3428.5714285714284},{"$f":"IFERROR(VLOOKUP(A95,SAP!G:H,2,0),0)","v":0},{"$f":"IFERROR(VLOOKUP(A95,'R100'!A:J,10,0),0)","v":0},null,1]
[41039169,null,null,"ปรับปรุงรายได้ค่าบริการเชื่อมต่อระบบโครงข่ายไฟฟ้า",null,{"$f":"IFERROR(VLOOKUP(A96,SAP!A:B,2,0),0)","v":-4000},{"$f":"IFERROR(VLOOKUP(A96,SAP!C:F,4,0),0)","v":3428.5714285714284},{"$f":"IFERROR(VLOOKUP(A96,SAP!G:H,2,0),0)","v":0},{"$f":"IFERROR(VLOOKUP(A96,'R100'!A:J,10,0),0)","v":0},null,0]
[41039990,null,null,"รายได้อื่น ๆ จากการดำเนินงาน",null,{"$f":"IFERROR(VLOOKUP(A97,SAP!A:B,2,0),0)","v":87618.76},{"$f":"IFERROR(VLOOKUP(A97,SAP!C:F,4,0),0)","v":333429.48},{"$f":"IFERROR(VLOOKUP(A97,SAP!G:H,2,0),0)","v":0},{"$f":"IFERROR(VLOOKUP(A97,'R100'!A:J,10,0),0)","v":380000},null,1]
[null,null,"รายได้เกี่ยวเนื่องจากการให้เช่าหรือใช้สินทรัพย์",null,null,null,null,null,null,null,{"$f":"IF(SUM(K99:K102)>0,1,0)","v":0}]
[41040010,null,null,"รายได้ค่าบริการสาธารณูปโภค",null,{"$f":"IFERROR(VLOOKUP(A99,SAP!A:B,2,0),0)","v":0},{"$f":"IFERROR(VLOOKUP(A99,SAP!C:F,4,0),0)","v":0},{"$f":"IFERROR(VLOOKUP(A99,SAP!G:H,2,0),0)","v":0},{"$f":"IFERROR(VLOOKUP(A99,'R100'!A:J,10,0),0)","v":0},null,0]
[41040020,null,null,"รายได้ค่าบริการบุคลากร",null,{"$f":"IFERROR(VLOOKUP(A100,SAP!A:B,2,0),0)","v":0},{"$f":"IFERROR(VLOOKUP(A100,SAP!C:F,4,0),0)","v":0},{"$f":"IFERROR(VLOOKUP(A100,SAP!G:H,2,0),0)","v":0},{"$f":"IFERROR(VLOOKUP(A100,'R100'!A:J,10,0),0)","v":0},null,0]
[41040030,null,null,"รายได้ค่าบริการภาษีโรงเรือนและที่ดิน",null,{"$f":"IFERROR(VLOOKUP(A101,SAP!A:B,2,0),0)","v":0},{"$f":"IFERROR(VLOOKUP(A101,SAP!C:F,4,0),0)","v":0},{"$f":"IFERROR(VLOOKUP(A101,SAP!G:H,2,0),0)","v":0},{"$f":"IFERROR(VLOOKUP(A101,'R100'!A:J,10,0),0)","v":0},null,0]
[41040090,null,null,"รายได้อื่นจากการให้เช่าหรือใช้สินทรัพย์",null,{"$f":"IFERROR(VLOOKUP(A102,SAP!A:B,2,0),0)","v":0},{"$f":"IFERROR(VLOOKUP(A102,SAP!C:F,4,0),0)","v":0},{"$f":"IFERROR(VLOOKUP(A102,SAP!G:H,2,0),0)","v":0},{"$f":"IFERROR(VLOOKUP(A102,'R100'!A:J,10,0),0)","v":0},null,0]
[null,"รวมรายได้จากการดำเนินงาน ",null,null,null,{"$f":"SUBTOTAL(109,F19:F102)","v":-65272132.44000002},{"$f":"SUBTOTAL(109,G19:G102)","v":61997408.34857142},{"$f":"SUBTOTAL(109,H19:H102)","v":0},{"$f":"SUBTOTAL(109,I19:I102)","v":20112000},null,{"$f":"K19+K23","v":1}]
[null,"รายได้ที่ไม่เกี่ยวกับการดำเนินงาน",null,null,null,null,null,null,null,null,{"$f":"IF(SUM(K105:K151)>0,1,0)","v":1}]
[null,"รายได้ดอกเบี้ย",null,null,null,null,null,null,null,null,{"$f":"IF(SUM(K106:K114)>0,1,0)","v":1}]
[49010010,null,null,"ดอกเบี้ยรับเงินฝากธนาคาร",null,{"$f":"IFERROR(VLOOKUP(A106,SAP!A:B,2,0),0)","v":11899.68},{"$f":"IFERROR(VLOOKUP(A106,SAP!C:F,4,0),0)","v":11090.82857142857},{"$f":"IFERROR(VLOOKUP(A106,SAP!G:H,2,0),0)","v":0},{"$f":"IFERROR(VLOOKUP(A106,'R100'!A:J,10,0),0)","v":20000},null,{"$f":"IF(SUM(F106:I106)>0,1,0)","v":1}]
[49010020,null,null,"ดอกเบี้ยรับเงินฝากธนาคาร-กองทุนเงินประกันการใช้ไฟฯ",null,{"$f":"IFERROR(VLOOKUP(A107,SAP!A:B,2,0),0)","v":0},{"$f":"IFERROR(VLOOKUP(A107,SAP!C:F,4,0),0)","v":0},{"$f":"IFERROR(VLOOKUP(A107,SAP!G:H,2,0),0)","v":0},{"$f":"IFERROR(VLOOKUP(A107,'R100'!A:J,10,0),0)","v":0},null,0]
[49010030,null,null,"ดอกเบี้ยรับเงินฝากธนาคาร-Kfw.",null,{"$f":"IFERROR(VLOOKUP(A108,SAP!A:B,2,0),0)","v":0},{"$f":"IFERROR(VLOOKUP(A108,SAP!C:F,4,0),0)","v":0},{"$f":"IFERROR(VLOOKUP(A108,SAP!G:H,2,0),0)","v":0},{"$f":"IFERROR(VLOOKUP(A108,'R100'!A:J,10,0),0)","v":0},null,0]
[49010040,null,null,"ดอกเบี้ยรับเงินฝากธนาคาร-ดอกผลกองทุนเงินประกันฯ",null,{"$f":"IFERROR(VLOOKUP(A109,SAP!A:B,2,0),0)","v":0},{"$f":"IFERROR(VLOOKUP(A109,SAP!C:F,4,0),0)","v":0},{"$f":"IFERROR(VLOOKUP(A109,SAP!G:H,2,0),0)","v":0},{"$f":"IFERROR(VLOOKUP(A109,'R100'!A:J,10,0),0)","v":0},null,0]
[49011010,null,null,"ดอกเบี้ยรับเงินให้กู้ซื้อ/สร้างบ้านฯ-หลักทรัพย์ประกัน",null,{"$f":"IFERROR(VLOOKUP(A110,SAP!A:B,2,0),0)","v":0},{"$f":"IFERROR(VLOOKUP(A110,SAP!C:F,4,0),0)","v":0},{"$f":"IFERROR(VLOOKUP(A110,SAP!G:H,2,0),0)","v":0},{"$f":"IFERROR(VLOOKUP(A110,'R100'!A:J,10,0),0)","v":0},null,0]
[49012010,null,null,"ผลตอบแทนจากการลงทุน",null,{"$f":"IFERROR(VLOOKUP(A111,SAP!A:B,2,0),0)","v":0},{"$f":"IFERROR(VLOOKUP(A111,SAP!C:F,4,0),0)","v":0},{"$f":"IFERROR(VLOOKUP(A111,SAP!G:H,2,0),0)","v":0},{"$f":"IFERROR(VLOOKUP(A111,'R100'!A:J,10,0),0)","v":0},null,0]
[49013010,null,null,"ดอกเบี้ยรับตามสัญญาบริการแบบผ่อนชำระ",null,{"$f":"IFERROR(VLOOKUP(A112,SAP!A:B,2,0),0)","v":0},{"$f":"IFERROR(VLOOKUP(A112,SAP!C:F,4,0),0)","v":0},{"$f":"IFERROR(VLOOKUP(A112,SAP!G:H,2,0),0)","v":0},{"$f":"IFERROR(VLOOKUP(A112,'R100'!A:J,10,0),0)","v":0},null,0]
[49013020,null,null,"ดอกเบี้ยรับตามสัญญาเช่า",null,{"$f":"IFERROR(VLOOKUP(A113,SAP!A:B,2,0),0)","v":0},{"$f":"IFERROR(VLOOKUP(A113,SAP!C:F,4,0),0)","v":0},{"$f":"IFERROR(VLOOKUP(A113,SAP!G:H,2,0),0)","v":0},{"$f":"IFERROR(VLOOKUP(A113,'R100'!A:J,10,0),0)","v":0},null,0]
[49019010,null,null,"ดอกเบี้ยรับชำระหนี้เกินกำหนด",null,{"$f":"IFERROR(VLOOKUP(A114,SAP!A:B,2,0),0)","v":1545287.51},{"$f":"IFERROR(VLOOKUP(A114,SAP!C:F,4,0),0)","v":1313438.6228571429},{"$f":"IFERROR(VLOOKUP(A114,SAP!G:H,2,0),0)","v":0},{"$f":"IFERROR(VLOOKUP(A114,'R100'!A:J,10,0),0)","v":1466000},null,1]
[null,"รายได้ค่าปรับ ค่าธรรมเนียม",null,null,null,null,null,null,null,null,{"$f":"IF(SUM(K116:K124)>0,1,0)","v":1}]
[null,null,"รายได้ค่าปรับผิดสัญญาและส่งของเกินกำหนด ",null,null,null,null,null,null,null,{"$f":"IF(SUM(K117:K124)>0,1,0)","v":1}]
[49020010,null,null,"รายได้ค่าปรับผิดสัญญาซื้อขาย",null,{"$f":"IFERROR(VLOOKUP(A117,SAP!A:B,2,0),0)","v":0},{"$f":"IFERROR(VLOOKUP(A117,SAP!C:F,4,0),0)","v":0},{"$f":"IFERROR(VLOOKUP(A117,SAP!G:H,2,0),0)","v":0},{"$f":"IFERROR(VLOOKUP(A117,'R100'!A:J,10,0),0)","v":0},null,{"$f":"IF(SUM(F117:I117)>0,1,0)","v":0}]
[49020020,null,null,"รายได้ค่าปรับผิดสัญญาจ้าง/ให้บริการ",null,{"$f":"IFERROR(VLOOKUP(A118,SAP!A:B,2,0),0)","v":99279.4},{"$f":"IFERROR(VLOOKUP(A118,SAP!C:F,4,0),0)","v":1058.6057142857144},{"$f":"IFERROR(VLOOKUP(A118,SAP!G:H,2,0),0)","v":0},{"$f":"IFERROR(VLOOKUP(A118,'R100'!A:J,10,0),0)","v":4000},null,1]
[49020030,null,null,"รายได้ค่าปรับผิดสัญญาตัวแทนจดหน่วย",null,{"$f":"IFERROR(VLOOKUP(A119,SAP!A:B,2,0),0)","v":0},{"$f":"IFERROR(VLOOKUP(A119,SAP!C:F,4,0),0)","v":0},{"$f":"IFERROR(VLOOKUP(A119,SAP!G:H,2,0),0)","v":0},{"$f":"IFERROR(VLOOKUP(A119,'R100'!A:J,10,0),0)","v":0},null,0]
[49020040,null,null,"รายได้ค่าปรับผิดสัญญาตัวแทนจดหน่วยแจ้งหนี้",null,{"$f":"IFERROR(VLOOKUP(A120,SAP!A:B,2,0),0)","v":26552.2},{"$f":"IFERROR(VLOOKUP(A120,SAP!C:F,4,0),0)","v":27668.571428571428},{"$f":"IFERROR(VLOOKUP(A120,SAP!G:H,2,0),0)","v":0},{"$f":"IFERROR(VLOOKUP(A120,'R100'!A:J,10,0),0)","v":35000},null,1]
[49020050,null,null,"รายได้ค่าปรับผิดสัญญาตัวแทนตัดและติดกลับมิเตอร์",null,{"$f":"IFERROR(VLOOKUP(A121,SAP!A:B,2,0),0)","v":0},{"$f":"IFERROR(VLOOKUP(A121,SAP!C:F,4,0),0)","v":0},{"$f":"IFERROR(VLOOKUP(A121,SAP!G:H,2,0),0)","v":0},{"$f":"IFERROR(VLOOKUP(A121,'R100'!A:J,10,0),0)","v":0},null,0]
[49020060,null,null,"รายได้ค่าปรับผิดสัญญาตัวแทนเก็บเงิน",null,{"$f":"IFERROR(VLOOKUP(A122,SAP!A:B,2,0),0)","v":0},{"$f":"IFERROR(VLOOKUP(A122,SAP!C:F,4,0),0)","v":0},{"$f":"IFERROR(VLOOKUP(A122,SAP!G:H,2,0),0)","v":0},{"$f":"IFERROR(VLOOKUP(A122,'R100'!A:J,10,0),0)","v":0},null,0]
[49020070,null,null,"รายได้ค่าปรับผิดสัญญาตัวแทนรับชำระค่าไฟฟ้า",null,{"$f":"IFERROR(VLOOKUP(A123,SAP!A:B,2,0),0)","v":0},{"$f":"IFERROR(VLOOKUP(A123,SAP!C:F,4,0),0)","v":0},{"$f":"IFERROR(VLOOKUP(A123,SAP!G:H,2,0),0)","v":0},{"$f":"IFERROR(VLOOKUP(A123,'R100'!A:J,10,0),0)","v":0},null,0]
[49020990,null,null,"รายได้ค่าปรับอื่น ๆ",null,{"$f":"IFERROR(VLOOKUP(A124,SAP!A:B,2,0),0)","v":39.450000000000003},{"$f":"IFERROR(VLOOKUP(A124,SAP!C:F,4,0),0)","v":0},{"$f":"IFERROR(VLOOKUP(A124,SAP!G:H,2,0),0)","v":0},{"$f":"IFERROR(VLOOKUP(A124,'R100'!A:J,10,0),0)","v":0},null,1]
[null,null,"รายได้จากการรับบริจาค",null,null,null,null,null,null,null,{"$f":"IF(SUM(K126:K126)>0,1,0)","v":0}]
[49030010,null,null,"รายได้จากการรับบริจาค",null,{"$f":"IFERROR(VLOOKUP(A126,SAP!A:B,2,0),0)","v":0},{"$f":"IFERROR(VLOOKUP(A126,SAP!C:F,4,0),0)","v":0},{"$f":"IFERROR(VLOOKUP(A126,SAP!G:H,2,0),0)","v":0},{"$f":"IFERROR(VLOOKUP(A126,'R100'!A:J,10,0),0)","v":0},null,{"$f":"IF(SUM(F126:I126)>0,1,0)","v":0}]
[null,null,"กำไร(ขาดทุน)จากการจำหน่ายเศษวัสดุ ",null,null,null,null,null,null,null,{"$f":"IF(SUM(K128:K130)>0,1,0)","v":1}]
[49040010,null,null,"กำไร(ขาดทุน)จากการขายเศษเหล็ก เศษวัสดุ",null,{"$f":"IFERROR(VLOOKUP(A128,SAP!A:B,2,0),0)","v":397729.11},{"$f":"IFERROR(VLOOKUP(A128,SAP!C:F,4,0),0)","v":0},{"$f":"IFERROR(VLOOKUP(A128,SAP!G:H,2,0),0)","v":0},{"$f":"IFERROR(VLOOKUP(A128,'R100'!A:J,10,0),0)","v":-23000},null,{"$f":"IF(SUM(F128:I128)>0,1,0)","v":1}]
[49040020,null,null,"กำไร(ขาดทุน)จากการตรวจนับ/ปป.วัสดุและสินค้าคงเหลือ",null,{"$f":"IFERROR(VLOOKUP(A129,SAP!A:B,2,0),0)","v":0},{"$f":"IFERROR(VLOOKUP(A129,SAP!C:F,4,0),0)","v":0},{"$f":"IFERROR(VLOOKUP(A129,SAP!G:H,2,0),0)","v":0},{"$f":"IFERROR(VLOOKUP(A129,'R100'!A:J,10,0),0)","v":0},null,0]
[49040030,null,null,"กำไร(ขาดทุน)จากการตัดจำหน่ายวัสดุ",null,{"$f":"IFERROR(VLOOKUP(A130,SAP!A:B,2,0),0)","v":0},{"$f":"IFERROR(VLOOKUP(A130,SAP!C:F,4,0),0)","v":0},{"$f":"IFERROR(VLOOKUP(A130,SAP!G:H,2,0),0)","v":0},{"$f":"IFERROR(VLOOKUP(A130,'R100'!A:J,10,0),0)","v":0},null,0]
[null,null,"กำไร(ขาดทุน)จากการจำหน่ายสินทรัพย์ถาวร ",null,null,null,null,null,null,null,{"$f":"IF(SUM(K132:K135)>0,1,0)","v":1}]
[49041010,null,null,"กำไร(ขาดทุน)จากการตัดจำหน่ายสินทรัพย์ถาวร",null,{"$f":"IFERROR(VLOOKUP(A132,SAP!A:B,2,0),0)","v":21184355.34},{"$f":"IFERROR(VLOOKUP(A132,SAP!C:F,4,0),0)","v":0},{"$f":"IFERROR(VLOOKUP(A132,SAP!G:H,2,0),0)","v":0},{"$f":"IFERROR(VLOOKUP(A132,'R100'!A:J,10,0),0)","v":-240000},null,{"$f":"IF(SUM(F132:I132)>0,1,0)","v":1}]
[49041020,null,null,"กำไร(ขาดทุน)จากการขายสินทรัพย์ถาวร",null,{"$f":"IFERROR(VLOOKUP(A133,SAP!A:B,2,0),0)","v":0},{"$f":"IFERROR(VLOOKUP(A133,SAP!C:F,4,0),0)","v":0},{"$f":"IFERROR(VLOOKUP(A133,SAP!G:H,2,0),0)","v":0},{"$f":"IFERROR(VLOOKUP(A133,'R100'!A:J,10,0),0)","v":0},null,0]
[49041040,null,null,"กำไร(ขาดทุน)จากการปรับค่าเสื่อมราคาสินทรัพย์ถาวร",null,{"$f":"IFERROR(VLOOKUP(A134,SAP!A:B,2,0),0)","v":0},{"$f":"IFERROR(VLOOKUP(A134,SAP!C:F,4,0),0)","v":0},{"$f":"IFERROR(VLOOKUP(A134,SAP!G:H,2,0),0)","v":0},{"$f":"IFERROR(VLOOKUP(A134,'R100'!A:J,10,0),0)","v":0},null,0]
[49041050,null,null,"กำไร(ขาดทุน)จากการปรับมูลค่าสินทรัพย์ถาวร",null,{"$f":"IFERROR(VLOOKUP(A135,SAP!A:B,2,0),0)","v":0},{"$f":"IFERROR(VLOOKUP(A135,SAP!C:F,4,0),0)","v":0},{"$f":"IFERROR(VLOOKUP(A135,SAP!G:H,2,0),0)","v":0},{"$f":"IFERROR(VLOOKUP(A135,'R100'!A:J,10,0),0)","v":0},null,0]
[null,"รายได้อื่นที่ไม่เกี่ยวกับการดำเนินงาน",null,null,null,null,null,null,null,null,{"$f":"IF(SUM(K137:K151)>0,1,0)","v":1}]
[49050010,null,null,"กำไร(ขาดทุน)ค่าปัดเศษจากการเก็บเงิน",null,{"$f":"IFERROR(VLOOKUP(A137,SAP!A:B,2,0),0)","v":97},{"$f":"IFERROR(VLOOKUP(A137,SAP!C:F,4,0),0)","v":0},{"$f":"IFERROR(VLOOKUP(A137,SAP!G:H,2,0),0)","v":0},{"$f":"IFERROR(VLOOKUP(A137,'R100'!A:J,10,0),0)","v":-2000},null,{"$f":"IF(SUM(F137:I137)>0,1,0)","v":0}]
[49050020,null,null,"รายได้เงินชดใช้ค่าเสียหาย",null,{"$f":"IFERROR(VLOOKUP(A138,SAP!A:B,2,0),0)","v":0},{"$f":"IFERROR(VLOOKUP(A138,SAP!C:F,4,0),0)","v":0},{"$f":"IFERROR(VLOOKUP(A138,SAP!G:H,2,0),0)","v":0},{"$f":"IFERROR(VLOOKUP(A138,'R100'!A:J,10,0),0)","v":0},null,0]
[49050040,null,null,"กำไร(ขาดทุน)จากอัตราแลกเปลี่ยนเกิดขึ้นจริง-เงินกู้",null,{"$f":"IFERROR(VLOOKUP(A139,SAP!A:B,2,0),0)","v":0},{"$f":"IFERROR(VLOOKUP(A139,SAP!C:F,4,0),0)","v":0},{"$f":"IFERROR(VLOOKUP(A139,SAP!G:H,2,0),0)","v":0},{"$f":"IFERROR(VLOOKUP(A139,'R100'!A:J,10,0),0)","v":0},null,0]
[49050050,null,null,"กำไร(ขาดทุน)จากอัตราแลกเปลี่ยนเกิดจริง-ลน./จน. ตปท.",null,{"$f":"IFERROR(VLOOKUP(A140,SAP!A:B,2,0),0)","v":0},{"$f":"IFERROR(VLOOKUP(A140,SAP!C:F,4,0),0)","v":0},{"$f":"IFERROR(VLOOKUP(A140,SAP!G:H,2,0),0)","v":0},{"$f":"IFERROR(VLOOKUP(A140,'R100'!A:J,10,0),0)","v":0},null,0]
[49050060,null,null,"กำไร(ขาดทุน)จากอัตราแลกเปลี่ยนยังไม่เกิดขึ้นจริง-เงินกู้",null,{"$f":"IFERROR(VLOOKUP(A141,SAP!A:B,2,0),0)","v":0},{"$f":"IFERROR(VLOOKUP(A141,SAP!C:F,4,0),0)","v":0},{"$f":"IFERROR(VLOOKUP(A141,SAP!G:H,2,0),0)","v":0},{"$f":"IFERROR(VLOOKUP(A141,'R100'!A:J,10,0),0)","v":0},null,0]
[49050070,null,null,"รายได้เงินประกันผู้ใช้ไฟไม่รับคืน",null,{"$f":"IFERROR(VLOOKUP(A142,SAP!A:B,2,0),0)","v":303037.68},{"$f":"IFERROR(VLOOKUP(A142,SAP!C:F,4,0),0)","v":739089.48},{"$f":"IFERROR(VLOOKUP(A142,SAP!G:H,2,0),0)","v":0},{"$f":"IFERROR(VLOOKUP(A142,'R100'!A:J,10,0),0)","v":820000},null,1]
[49050090,null,null,"กำไร(ขาดทุน)จากอัตราแลกเปลี่ยนเกิดจริง-เงินลงทุน",null,{"$f":"IFERROR(VLOOKUP(A143,SAP!A:B,2,0),0)","v":0},{"$f":"IFERROR(VLOOKUP(A143,SAP!C:F,4,0),0)","v":0},{"$f":"IFERROR(VLOOKUP(A143,SAP!G:H,2,0),0)","v":0},{"$f":"IFERROR(VLOOKUP(A143,'R100'!A:J,10,0),0)","v":0},null,0]
[49050100,null,null,"กำไร(ขาดทุน)จากอัตราแลกเปลี่ยนไม่เกิดจริง-เงินลงทุน",null,{"$f":"IFERROR(VLOOKUP(A144,SAP!A:B,2,0),0)","v":0},{"$f":"IFERROR(VLOOKUP(A144,SAP!C:F,4,0),0)","v":0},{"$f":"IFERROR(VLOOKUP(A144,SAP!G:H,2,0),0)","v":0},{"$f":"IFERROR(VLOOKUP(A144,'R100'!A:J,10,0),0)","v":0},null,0]
[49050110,null,null,"กำไร(ขาดทุน)อัตราแลกเปลี่ยนไม่เกิดจริง-ลน./จน. ตปท.",null,{"$f":"IFERROR(VLOOKUP(A145,SAP!A:B,2,0),0)","v":0},{"$f":"IFERROR(VLOOKUP(A145,SAP!C:F,4,0),0)","v":0},{"$f":"IFERROR(VLOOKUP(A145,SAP!G:H,2,0),0)","v":0},{"$f":"IFERROR(VLOOKUP(A145,'R100'!A:J,10,0),0)","v":0},null,0]
[49050120,null,null,"กำไร(ขาดทุน)จากอัตราแลกเปลี่ยนเกิดจริง-สัญญาอนุพันธ์",null,{"$f":"IFERROR(VLOOKUP(A146,SAP!A:B,2,0),0)","v":0},{"$f":"IFERROR(VLOOKUP(A146,SAP!C:F,4,0),0)","v":0},{"$f":"IFERROR(VLOOKUP(A146,SAP!G:H,2,0),0)","v":0},{"$f":"IFERROR(VLOOKUP(A146,'R100'!A:J,10,0),0)","v":0},null,0]
[49050130,null,null,"กำไร(ขาดทุน)จากอัตราแลกเปลี่ยนยังไม่เกิดจริง-สัญญาอนุพันธ์",null,{"$f":"IFERROR(VLOOKUP(A147,SAP!A:B,2,0),0)","v":0},{"$f":"IFERROR(VLOOKUP(A147,SAP!C:F,4,0),0)","v":0},{"$f":"IFERROR(VLOOKUP(A147,SAP!G:H,2,0),0)","v":0},{"$f":"IFERROR(VLOOKUP(A147,'R100'!A:J,10,0),0)","v":0},null,0]
[49050140,null,null,"กำไร(ขาดทุน)จากจากการผลิตผลิตภัณฑ์คอนกรีต",null,{"$f":"IFERROR(VLOOKUP(A148,SAP!A:B,2,0),0)","v":0},{"$f":"IFERROR(VLOOKUP(A148,SAP!C:F,4,0),0)","v":0},{"$f":"IFERROR(VLOOKUP(A148,SAP!G:H,2,0),0)","v":0},{"$f":"IFERROR(VLOOKUP(A148,'R100'!A:J,10,0),0)","v":0},null,0]
[49050150,null,null,"กำไร(ขาดทุน)จากการผลิตพัสดุรับเข้าคลัง",null,{"$f":"IFERROR(VLOOKUP(A149,SAP!A:B,2,0),0)","v":0},{"$f":"IFERROR(VLOOKUP(A149,SAP!C:F,4,0),0)","v":0},{"$f":"IFERROR(VLOOKUP(A149,SAP!G:H,2,0),0)","v":0},{"$f":"IFERROR(VLOOKUP(A149,'R100'!A:J,10,0),0)","v":0},null,0]
[49050160,null,null,"กำไร(ขาดทุน)จากการประมาณการรื้อถอน",null,{"$f":"IFERROR(VLOOKUP(A150,SAP!A:B,2,0),0)","v":0},{"$f":"IFERROR(VLOOKUP(A150,SAP!C:F,4,0),0)","v":0},{"$f":"IFERROR(VLOOKUP(A150,SAP!G:H,2,0),0)","v":0},{"$f":"IFERROR(VLOOKUP(A150,'R100'!A:J,10,0),0)","v":0},null,0]
[49059990,null,null,"รายได้อื่นที่ไม่เกี่ยวกับการดำเนินงาน",null,{"$f":"IFERROR(VLOOKUP(A151,SAP!A:B,2,0),0)","v":60111.45},{"$f":"IFERROR(VLOOKUP(A151,SAP!C:F,4,0),0)","v":97102.525714285715},{"$f":"IFERROR(VLOOKUP(A151,SAP!G:H,2,0),0)","v":0},{"$f":"IFERROR(VLOOKUP(A151,'R100'!A:J,10,0),0)","v":115000},null,1]
[null,"รวมรายได้ที่ไม่เกี่ยวกับการดำเนินงาน",null,null,null,{"$f":"SUBTOTAL(109,F106:F151)","v":23628388.819999997},{"$f":"SUBTOTAL(109,G106:G151)","v":2189448.6342857145},0,2195000,null,{"$f":"K104","v":1}]
[null,"รวมรายได้ทั้งสิ้น",null,null,null,{"$f":"SUBTOTAL(109,F11:F152)","v":1822954339.28},{"$f":"SUBTOTAL(109,G11:G152)","v":1987924357.3028564},{"$f":"SUBTOTAL(109,H11:H152)","v":0},{"$f":"SUBTOTAL(109,I11:I152)","v":2146600500}]
[null,"รวมรายได้ธุรกิจเสริม (บัญชีที่ระบุ \"ส\")",null,null,null,{"$f":"SUMIF($B$9:$B$153,\"(ส)\",F$9:F$153)","v":35408107.690000005},{"$f":"SUMIF($B$9:$B$153,\"(ส)\",G$9:G$153)","v":29802324.205714289},{"$f":"SUMIF($B$9:$B$153,\"(ส)\",H$9:H$153)","v":0},{"$f":"SUMIF($B$9:$B$153,\"(ส)\",I$9:I$153)","v":0}]

{"sheet":"E001","index":5,"n_rows":306,"n_cols":14,"rows_kept":306,"cut":false,"hidden":false,"merged":[[305,1,305,4],[5,8,5,11],[6,8,6,11],[0,0,0,11],[1,0,1,11],[2,0,2,11],[6,1,6,4],[5,1,5,4]]}
[{"$f":"\"งบประมาณทำการประจำปี \"&A_Budget_year","v":"งบประมาณทำการประจำปี 2567"},null,null,null,null,null,null,null,null,null,null,null,"งป.002"]
[{"$f":"Cover!C3","v":"ส่วนภูมิภาค"}]
["ประมาณการรายจ่าย"]
[{"$f":"Unit_eng","v":"MB"},null,null,null,null,null,null,null,null,null,null,{"$f":"Head_division","v":"เขต: "},{"$f":"Head_division2","v":"กฟน.3 - 07"}]
[null,null,null,null,null,null,null,null,null,null,null,"หน่วย:","บาท"]
["(1)","(2)",null,null,null,"(3)","(4)","(5)","(6)",null,null,null,"(7)"]
["รหัสบัญชี","ชื่อบัญชี",null,null,null,"ค่าใช้จ่ายจริง ","ค่าใช้จ่ายจริง ","วงเงินที่ได้รับ",{"$f":"\"ประมาณการค่าใช้จ่ายปี \"&A_Budget_year","v":"ประมาณการค่าใช้จ่ายปี 2567"},null,null,null,"คำชี้แจงประกอบ"]
[null,null,null,null,null,{"$f":"\"ปี \"&A_Budget_year-3","v":"ปี 2564"},{"$f":"\"ปี \"&A_Budget_year-2","v":"ปี 2565"},{"$f":"\"ปี \"&A_Budget_year-1","v":"ปี 2566"},"งานประจำ","งานตามแผนฯ","ธุรกิจเสริม","รวม"]
[null,"ต้นทุนและค่าใช้จ่ายบริหาร"]
[null,"ต้นทุนผลิตและต้นทุนขาย",null,null,null,null,null,null,null,null,null,null,null,{"$f":"IF(SUM(N11:N30)>0,1,0)","v":1}]
[null,null,"ต้นทุนค่าไฟฟ้า",null,null,null,null,null,null,null,null,null,null,{"$f":"IF(SUM(N12:N25)>0,1,0)","v":1}]
[51010010,null,null,"ค่าซื้อไฟฟ้า-การไฟฟ้าฝ่ายผลิตแห่งประเทศไทย",null,{"$f":"IFERROR(VLOOKUP(A12,SAP!L:M,2,0),0)","v":716066114.13999999},{"$f":"IFERROR(VLOOKUP(A12,SAP!N:Q,4,0),0)","v":923726517.12000012},{"$f":"IFERROR(VLOOKUP(A12,SAP!R:S,2,0),0)","v":0},{"$f":"IFERROR(VLOOKUP(A12,'R100'!A:J,10,0),0)","v":1401000000},{"$f":"ROUNDUP(SUMIF('E200'!A:A,A12,'E200'!E:E),-1)","v":0},{"$f":"ROUNDUP(SUMIF('E300'!A:A,A12,'E300'!J:J),-1)","v":0},{"$f":"SUM(I12:K12)","v":1401000000},null,{"$f":"IF(SUM(F12:K12)>0,1,0)","v":1}]
[51010018,null,null,"ปรับปรุงค่าซื้อไฟฟ้า",null,{"$f":"IFERROR(VLOOKUP(A13,SAP!L:M,2,0),0)","v":-1474036.77},{"$f":"IFERROR(VLOOKUP(A13,SAP!N:Q,4,0),0)","v":-1719993.3085714285},{"$f":"IFERROR(VLOOKUP(A13,SAP!R:S,2,0),0)","v":0},{"$f":"IFERROR(VLOOKUP(A13,'R100'!A:J,10,0),0)","v":0},{"$f":"ROUNDUP(SUMIF('E200'!A:A,A13,'E200'!E:E),-1)","v":0},{"$f":"ROUNDUP(SUMIF('E300'!A:A,A13,'E300'!J:J),-1)","v":0},0,null,0]
[51010020,null,null,"ค่าซื้อไฟฟ้า-กรมพัฒนาพลังงานทดแทนฯ(พพ.)",null,{"$f":"IFERROR(VLOOKUP(A14,SAP!L:M,2,0),0)","v":0},{"$f":"IFERROR(VLOOKUP(A14,SAP!N:Q,4,0),0)","v":0},{"$f":"IFERROR(VLOOKUP(A14,SAP!R:S,2,0),0)","v":0},{"$f":"IFERROR(VLOOKUP(A14,'R100'!A:J,10,0),0)","v":0},{"$f":"ROUNDUP(SUMIF('E200'!A:A,A14,'E200'!E:E),-1)","v":0},{"$f":"ROUNDUP(SUMIF('E300'!A:A,A14,'E300'!J:J),-1)","v":0},0,null,0]
[51010030,null,null,"ค่าซื้อไฟฟ้า-ผู้ผลิตไฟฟ้าขนาดเล็กมาก",null,{"$f":"IFERROR(VLOOKUP(A15,SAP!L:M,2,0),0)","v":815580809.80999994},{"$f":"IFERROR(VLOOKUP(A15,SAP!N:Q,4,0),0)","v":823740175.91999996},{"$f":"IFERROR(VLOOKUP(A15,SAP!R:S,2,0),0)","v":0},{"$f":"IFERROR(VLOOKUP(A15,'R100'!A:J,10,0),0)","v":877650000},{"$f":"ROUNDUP(SUMIF('E200'!A:A,A15,'E200'!E:E),-1)","v":0},{"$f":"ROUNDUP(SUMIF('E300'!A:A,A15,'E300'!J:J),-1)","v":0},877650000,null,1]
[51010060,null,null,"ค่าซื้อไฟฟ้า-พลังงานแสงอาทิตย์",null,{"$f":"IFERROR(VLOOKUP(A16,SAP!L:M,2,0),0)","v":2119853.04},{"$f":"IFERROR(VLOOKUP(A16,SAP!N:Q,4,0),0)","v":2151593.3828571429},{"$f":"IFERROR(VLOOKUP(A16,SAP!R:S,2,0),0)","v":0},{"$f":"IFERROR(VLOOKUP(A16,'R100'!A:J,10,0),0)","v":2318000},{"$f":"ROUNDUP(SUMIF('E200'!A:A,A16,'E200'!E:E),-1)","v":0},{"$f":"ROUNDUP(SUMIF('E300'!A:A,A16,'E300'!J:J),-1)","v":0},2318000,null,1]
[51010070,null,null,"ค่าชดเชยโครงการ Demand Response",null,{"$f":"IFERROR(VLOOKUP(A17,SAP!L:M,2,0),0)","v":0},{"$f":"IFERROR(VLOOKUP(A17,SAP!N:Q,4,0),0)","v":0},{"$f":"IFERROR(VLOOKUP(A17,SAP!R:S,2,0),0)","v":0},{"$f":"IFERROR(VLOOKUP(A17,'R100'!A:J,10,0),0)","v":0},{"$f":"ROUNDUP(SUMIF('E200'!A:A,A17,'E200'!E:E),-1)","v":0},{"$f":"ROUNDUP(SUMIF('E300'!A:A,A17,'E300'!J:J),-1)","v":0},0,null,0]
[51010080,null,null,"เงินนำส่งกองทุนพัฒนาไฟฟ้าจากการผลิตไฟฟ้า",null,{"$f":"IFERROR(VLOOKUP(A18,SAP!L:M,2,0),0)","v":0},{"$f":"IFERROR(VLOOKUP(A18,SAP!N:Q,4,0),0)","v":0},{"$f":"IFERROR(VLOOKUP(A18,SAP!R:S,2,0),0)","v":0},{"$f":"IFERROR(VLOOKUP(A18,'R100'!A:J,10,0),0)","v":0},{"$f":"ROUNDUP(SUMIF('E200'!A:A,A18,'E200'!E:E),-1)","v":0},{"$f":"ROUNDUP(SUMIF('E300'!A:A,A18,'E300'!J:J),-1)","v":0},0,null,0]
[51010090,null,null,"เงินนำส่งกองทุนพัฒนาไฟฟ้าเพื่อพลังงานหมุนเวียน",null,{"$f":"IFERROR(VLOOKUP(A19,SAP!L:M,2,0),0)","v":2374880.69},{"$f":"IFERROR(VLOOKUP(A19,SAP!N:Q,4,0),0)","v":2031474.5828571429},{"$f":"IFERROR(VLOOKUP(A19,SAP!R:S,2,0),0)","v":0},{"$f":"IFERROR(VLOOKUP(A19,'R100'!A:J,10,0),0)","v":2110000},{"$f":"ROUNDUP(SUMIF('E200'!A:A,A19,'E200'!E:E),-1)","v":0},{"$f":"ROUNDUP(SUMIF('E300'!A:A,A19,'E300'!J:J),-1)","v":0},2110000,null,1]
[51010100,null,null,"เงินนำส่งกองทุนพัฒนาไฟฟ้าเพื่อส่งเสริมสังคม",null,{"$f":"IFERROR(VLOOKUP(A20,SAP!L:M,2,0),0)","v":949952.27},{"$f":"IFERROR(VLOOKUP(A20,SAP!N:Q,4,0),0)","v":812589.85714285716},{"$f":"IFERROR(VLOOKUP(A20,SAP!R:S,2,0),0)","v":0},{"$f":"IFERROR(VLOOKUP(A20,'R100'!A:J,10,0),0)","v":852000},{"$f":"ROUNDUP(SUMIF('E200'!A:A,A20,'E200'!E:E),-1)","v":0},{"$f":"ROUNDUP(SUMIF('E300'!A:A,A20,'E300'!J:J),-1)","v":0},852000,null,1]
[51010110,null,null,"ค่าปรับจากการลงทุนที่ต่ำกว่าแผน",null,{"$f":"IFERROR(VLOOKUP(A21,SAP!L:M,2,0),0)","v":0},{"$f":"IFERROR(VLOOKUP(A21,SAP!N:Q,4,0),0)","v":0},{"$f":"IFERROR(VLOOKUP(A21,SAP!R:S,2,0),0)","v":0},{"$f":"IFERROR(VLOOKUP(A21,'R100'!A:J,10,0),0)","v":0},{"$f":"ROUNDUP(SUMIF('E200'!A:A,A21,'E200'!E:E),-1)","v":0},{"$f":"ROUNDUP(SUMIF('E300'!A:A,A21,'E300'!J:J),-1)","v":0},0,null,0]
[51010120,null,null,"เงินคืนรายได้",null,{"$f":"IFERROR(VLOOKUP(A22,SAP!L:M,2,0),0)","v":0},{"$f":"IFERROR(VLOOKUP(A22,SAP!N:Q,4,0),0)","v":0},{"$f":"IFERROR(VLOOKUP(A22,SAP!R:S,2,0),0)","v":0},{"$f":"IFERROR(VLOOKUP(A22,'R100'!A:J,10,0),0)","v":0},{"$f":"ROUNDUP(SUMIF('E200'!A:A,A22,'E200'!E:E),-1)","v":0},{"$f":"ROUNDUP(SUMIF('E300'!A:A,A22,'E300'!J:J),-1)","v":0},0,null,0]
[51010130,null,null,"ต้นทุนจำหน่ายไฟฟ้าของสถานีอัดประจุ",null,{"$f":"IFERROR(VLOOKUP(A23,SAP!L:M,2,0),0)","v":0},{"$f":"IFERROR(VLOOKUP(A23,SAP!N:Q,4,0),0)","v":0},{"$f":"IFERROR(VLOOKUP(A23,SAP!R:S,2,0),0)","v":0},{"$f":"IFERROR(VLOOKUP(A23,'R100'!A:J,10,0),0)","v":0},{"$f":"ROUNDUP(SUMIF('E200'!A:A,A23,'E200'!E:E),-1)","v":0},{"$f":"ROUNDUP(SUMIF('E300'!A:A,A23,'E300'!J:J),-1)","v":0},{"$f":"SUM(I23:K23)","v":0},null,{"$f":"IF(SUM(F23:K23)>0,1,0)","v":0}]
[51011010,null,null,"ค่าเชื้อเพลิงผลิตกระแสไฟฟ้า",null,{"$f":"IFERROR(VLOOKUP(A24,SAP!L:M,2,0),0)","v":17905.23},{"$f":"IFERROR(VLOOKUP(A24,SAP!N:Q,4,0),0)","v":127152},{"$f":"IFERROR(VLOOKUP(A24,SAP!R:S,2,0),0)","v":0},{"$f":"IFERROR(VLOOKUP(A24,'R100'!A:J,10,0),0)","v":30000},{"$f":"ROUNDUP(SUMIF('E200'!A:A,A24,'E200'!E:E),-1)","v":0},{"$f":"ROUNDUP(SUMIF('E300'!A:A,A24,'E300'!J:J),-1)","v":0},{"$f":"SUM(I24:K24)","v":30000},null,{"$f":"IF(SUM(F24:K24)>0,1,0)","v":1}]
[51011020,null,null,"ค่าสารหล่อลื่นผลิตกระแสไฟฟ้า",null,{"$f":"IFERROR(VLOOKUP(A25,SAP!L:M,2,0),0)","v":0},{"$f":"IFERROR(VLOOKUP(A25,SAP!N:Q,4,0),0)","v":0},{"$f":"IFERROR(VLOOKUP(A25,SAP!R:S,2,0),0)","v":0},{"$f":"IFERROR(VLOOKUP(A25,'R100'!A:J,10,0),0)","v":0},{"$f":"ROUNDUP(SUMIF('E200'!A:A,A25,'E200'!E:E),-1)","v":0},{"$f":"ROUNDUP(SUMIF('E300'!A:A,A25,'E300'!J:J),-1)","v":0},{"$f":"SUM(I25:K25)","v":0},null,{"$f":"IF(SUM(F25:K25)>0,1,0)","v":0}]
[null,null,"ต้นทุนขายและบริการอื่น",null,null,null,null,null,null,null,null,null,null,{"$f":"IF(SUM(N27:N30)>0,1,0)","v":1}]
[51020010,null,null,"ต้นทุนจากการจำหน่ายอุปกรณ์ไฟฟ้า",null,{"$f":"IFERROR(VLOOKUP(A27,SAP!L:M,2,0),0)","v":0},{"$f":"IFERROR(VLOOKUP(A27,SAP!N:Q,4,0),0)","v":0},{"$f":"IFERROR(VLOOKUP(A27,SAP!R:S,2,0),0)","v":0},{"$f":"IFERROR(VLOOKUP(A27,'R100'!A:J,10,0),0)","v":0},{"$f":"ROUNDUP(SUMIF('E200'!A:A,A27,'E200'!E:E),-1)","v":0},{"$f":"ROUNDUP(SUMIF('E300'!A:A,A27,'E300'!J:J),-1)","v":0},{"$f":"SUM(I27:K27)","v":0},null,{"$f":"IF(SUM(F27:K27)>0,1,0)","v":0}]
[51020020,null,null,"ต้นทุนผลิตภัณฑ์คอนกรีต",null,{"$f":"IFERROR(VLOOKUP(A28,SAP!L:M,2,0),0)","v":0},{"$f":"IFERROR(VLOOKUP(A28,SAP!N:Q,4,0),0)","v":0},{"$f":"IFERROR(VLOOKUP(A28,SAP!R:S,2,0),0)","v":0},{"$f":"IFERROR(VLOOKUP(A28,'R100'!A:J,10,0),0)","v":0},{"$f":"ROUNDUP(SUMIF('E200'!A:A,A28,'E200'!E:E),-1)","v":0},{"$f":"ROUNDUP(SUMIF('E300'!A:A,A28,'E300'!J:J),-1)","v":0},{"$f":"SUM(I28:K28)","v":0},null,{"$f":"IF(SUM(F28:K28)>0,1,0)","v":0}]
[51020040,null,null,"ต้นทุนจากการจัดจำหน่ายผลิตภัณฑ์",null,{"$f":"IFERROR(VLOOKUP(A29,SAP!L:M,2,0),0)","v":0},{"$f":"IFERROR(VLOOKUP(A29,SAP!N:Q,4,0),0)","v":0},{"$f":"IFERROR(VLOOKUP(A29,SAP!R:S,2,0),0)","v":0},{"$f":"IFERROR(VLOOKUP(A29,'R100'!A:J,10,0),0)","v":0},{"$f":"ROUNDUP(SUMIF('E200'!A:A,A29,'E200'!E:E),-1)","v":0},{"$f":"ROUNDUP(SUMIF('E300'!A:A,A29,'E300'!J:J),-1)","v":0},{"$f":"SUM(I29:K29)","v":0},null,{"$f":"IF(SUM(F29:K29)>0,1,0)","v":0}]
[51021010,null,null,"ผลต่างราคาพัสดุ",null,{"$f":"IFERROR(VLOOKUP(A30,SAP!L:M,2,0),0)","v":8597.49},{"$f":"IFERROR(VLOOKUP(A30,SAP!N:Q,4,0),0)","v":79787.674285714282},{"$f":"IFERROR(VLOOKUP(A30,SAP!R:S,2,0),0)","v":0},{"$f":"IFERROR(VLOOKUP(A30,'R100'!A:J,10,0),0)","v":0},{"$f":"ROUNDUP(SUMIF('E200'!A:A,A30,'E200'!E:E),-1)","v":0},{"$f":"ROUNDUP(SUMIF('E300'!A:A,A30,'E300'!J:J),-1)","v":0},{"$f":"SUM(I30:K30)","v":0},null,{"$f":"IF(SUM(F30:K30)>0,1,0)","v":1}]
[null,"รวมต้นทุนจากการจำหน่ายกระแสไฟฟ้าและบริการ",null,null,null,{"$f":"SUBTOTAL(109,F9:F30)","v":1535644075.8999999},1750949297.2285714,0,2283960000,0,0,2283960000,null,{"$f":"N10","v":1}]
[null,"ค่าใช้จ่ายเกี่ยวกับบุคคลากร",null,null,null,null,null,null,null,null,null,null,null,{"$f":"IF(SUM(N33:N87)>0,1,0)","v":1}]
[null,"เงินเดือน ค่าจ้าง ค่าตอบแทนพนักงาน ",null,null,null,null,null,null,null,null,null,null,null,{"$f":"IF(SUM(N34:N58)>0,1,0)","v":1}]
[null,null,"เงินเดือน ค่าจ้าง ค่าตอบแทน",null,null,null,null,null,null,null,null,null,null,{"$f":"IF(SUM(N35:N42)>0,1,0)","v":1}]
[52010010,null,null,"เงินเดือนพนักงาน",null,{"$f":"IFERROR(VLOOKUP(A35,SAP!L:M,2,0),0)","v":48754049.030000001},{"$f":"IFERROR(VLOOKUP(A35,SAP!N:Q,4,0),0)","v":45584540.468571432},{"$f":"IFERROR(VLOOKUP(A35,SAP!R:S,2,0),0)","v":0},{"$f":"IFERROR(VLOOKUP(A35,'E110'!A:I,9,0),0)","v":47812890},{"$f":"ROUNDUP(SUMIF('E200'!A:A,A35,'E200'!E:E),-1)","v":0},{"$f":"ROUNDUP(SUMIF('E300'!A:A,A35,'E300'!J:J),-1)","v":0},{"$f":"SUM(I35:K35)","v":47812890},null,{"$f":"IF(SUM(F35:K35)>0,1,0)","v":1}]
[52010020,null,null,"ค่าจ้างรายเดือนลูกจ้าง",null,{"$f":"IFERROR(VLOOKUP(A36,SAP!L:M,2,0),0)","v":5925441.9199999999},{"$f":"IFERROR(VLOOKUP(A36,SAP!N:Q,4,0),0)","v":6073437.1371428575},{"$f":"IFERROR(VLOOKUP(A36,SAP!R:S,2,0),0)","v":0},{"$f":"IFERROR(VLOOKUP(A36,'E110'!A:I,9,0),0)","v":6744160},{"$f":"ROUNDUP(SUMIF('E200'!A:A,A36,'E200'!E:E),-1)","v":0},{"$f":"ROUNDUP(SUMIF('E300'!A:A,A36,'E300'!J:J),-1)","v":0},6744160,null,1]
[52010030,null,null,"ค่าล่วงเวลาพนักงาน",null,{"$f":"IFERROR(VLOOKUP(A37,SAP!L:M,2,0),0)","v":1176645.52},{"$f":"IFERROR(VLOOKUP(A37,SAP!N:Q,4,0),0)","v":1319060.9828571428},{"$f":"IFERROR(VLOOKUP(A37,SAP!R:S,2,0),0)","v":0},{"$f":"IFERROR(VLOOKUP(A37,'E110'!A:I,9,0),0)","v":700000},{"$f":"ROUNDUP(SUMIF('E200'!A:A,A37,'E200'!E:E),-1)","v":0},{"$f":"ROUNDUP(SUMIF('E300'!A:A,A37,'E300'!J:J),-1)","v":0},700000,null,1]
[52010040,null,null,"ค่าตอบแทนอยู่เวรแก้ไฟฟ้าขัดข้อง",null,{"$f":"IFERROR(VLOOKUP(A38,SAP!L:M,2,0),0)","v":645800},{"$f":"IFERROR(VLOOKUP(A38,SAP!N:Q,4,0),0)","v":594137.14285714284},{"$f":"IFERROR(VLOOKUP(A38,SAP!R:S,2,0),0)","v":0},{"$f":"IFERROR(VLOOKUP(A38,'E110'!A:I,9,0),0)","v":673320},{"$f":"ROUNDUP(SUMIF('E200'!A:A,A38,'E200'!E:E),-1)","v":0},{"$f":"ROUNDUP(SUMIF('E300'!A:A,A38,'E300'!J:J),-1)","v":0},673320,null,1]
[52010050,null,null,"เงินโบนัสพนักงาน",null,{"$f":"IFERROR(VLOOKUP(A39,SAP!L:M,2,0),0)","v":0},{"$f":"IFERROR(VLOOKUP(A39,SAP!N:Q,4,0),0)","v":0},{"$f":"IFERROR(VLOOKUP(A39,SAP!R:S,2,0),0)","v":0},0,0,0,0,"ไม่ต้องตั้งงบประมาณ",0]
[52010060,null,null,"ค่าครองชีพพนักงาน",null,{"$f":"IFERROR(VLOOKUP(A40,SAP!L:M,2,0),0)","v":0},{"$f":"IFERROR(VLOOKUP(A40,SAP!N:Q,4,0),0)","v":0},{"$f":"IFERROR(VLOOKUP(A40,SAP!R:S,2,0),0)","v":0},0,0,0,{"$f":"SUM(I40:K40)","v":0},"ไม่ต้องตั้งงบประมาณ",0]
[52010070,null,null,"สวัสดิการและค่าตอบแทนอื่น- ลูกจ้าง ",null,{"$f":"IFERROR(VLOOKUP(A41,SAP!L:M,2,0),0)","v":1247788.75},{"$f":"IFERROR(VLOOKUP(A41,SAP!N:Q,4,0),0)","v":1688068.7485714287},{"$f":"IFERROR(VLOOKUP(A41,SAP!R:S,2,0),0)","v":0},{"$f":"IFERROR(VLOOKUP(A41,'E110'!A:I,9,0),0)","v":675000},{"$f":"ROUNDUP(SUMIF('E200'!A:A,A41,'E200'!E:E),-1)","v":0},{"$f":"ROUNDUP(SUMIF('E300'!A:A,A41,'E300'!J:J),-1)","v":0},675000,null,1]
[52010990,null,null,"ค่าตอบแทนอื่น-พนักงาน",null,{"$f":"IFERROR(VLOOKUP(A42,SAP!L:M,2,0),0)","v":158194.82},{"$f":"IFERROR(VLOOKUP(A42,SAP!N:Q,4,0),0)","v":248571.42857142858},{"$f":"IFERROR(VLOOKUP(A42,SAP!R:S,2,0),0)","v":0},{"$f":"IFERROR(VLOOKUP(A42,'E110'!A:I,9,0),0)","v":24000},{"$f":"ROUNDUP(SUMIF('E200'!A:A,A42,'E200'!E:E),-1)","v":0},{"$f":"ROUNDUP(SUMIF('E300'!A:A,A42,'E300'!J:J),-1)","v":0},24000,null,1]
[null,null,"เงินจ่ายสมทบกองทุน",null,null,null,null,null,null,null,null,null,null,{"$f":"IF(SUM(N44:N45)>0,1,0)","v":1}]
[52011010,null,null,"เงินสมทบกองทุนสงเคราะห์ผู้ปฏิบัติงาน กฟภ.",null,{"$f":"IFERROR(VLOOKUP(A44,SAP!L:M,2,0),0)","v":0},{"$f":"IFERROR(VLOOKUP(A44,SAP!N:Q,4,0),0)","v":0},{"$f":"IFERROR(VLOOKUP(A44,SAP!R:S,2,0),0)","v":0},{"$f":"IFERROR(VLOOKUP(A44,'E110'!A:I,9,0),0)","v":0},{"$f":"ROUNDUP(SUMIF('E200'!A:A,A44,'E200'!E:E),-1)","v":0},{"$f":"ROUNDUP(SUMIF('E300'!A:A,A44,'E300'!J:J),-1)","v":0},{"$f":"SUM(I44:K44)","v":0},null,{"$f":"IF(SUM(F44:K44)>0,1,0)","v":0}]
[52011020,null,null,"เงินสมทบกองทุนสำรองเลี้ยงชีพ",null,{"$f":"IFERROR(VLOOKUP(A45,SAP!L:M,2,0),0)","v":5103364.2300000004},{"$f":"IFERROR(VLOOKUP(A45,SAP!N:Q,4,0),0)","v":4744441.9542857148},{"$f":"IFERROR(VLOOKUP(A45,SAP!R:S,2,0),0)","v":0},{"$f":"IFERROR(VLOOKUP(A45,'E110'!A:I,9,0),0)","v":5020360},{"$f":"ROUNDUP(SUMIF('E200'!A:A,A45,'E200'!E:E),-1)","v":0},{"$f":"ROUNDUP(SUMIF('E300'!A:A,A45,'E300'!J:J),-1)","v":0},{"$f":"SUM(I45:K45)","v":5020360},null,1]
[null,null,"เงินเพิ่มพิเศษ ",null,null,null,null,null,null,null,null,null,null,{"$f":"IF(SUM(N47:N54)>0,1,0)","v":1}]
[52012010,null,null,"เงินเพิ่มพิเศษวิชาชีพ",null,{"$f":"IFERROR(VLOOKUP(A47,SAP!L:M,2,0),0)","v":52956},{"$f":"IFERROR(VLOOKUP(A47,SAP!N:Q,4,0),0)","v":56700},{"$f":"IFERROR(VLOOKUP(A47,SAP!R:S,2,0),0)","v":0},{"$f":"IFERROR(VLOOKUP(A47,'E110'!A:I,9,0),0)","v":114000},{"$f":"ROUNDUP(SUMIF('E200'!A:A,A47,'E200'!E:E),-1)","v":0},{"$f":"ROUNDUP(SUMIF('E300'!A:A,A47,'E300'!J:J),-1)","v":0},{"$f":"SUM(I47:K47)","v":114000},null,{"$f":"IF(SUM(F47:K47)>0,1,0)","v":1}]
[52012020,null,null,"เงินเพิ่มฮอทไลน์",null,{"$f":"IFERROR(VLOOKUP(A48,SAP!L:M,2,0),0)","v":503850},{"$f":"IFERROR(VLOOKUP(A48,SAP!N:Q,4,0),0)","v":445885.71428571426},{"$f":"IFERROR(VLOOKUP(A48,SAP!R:S,2,0),0)","v":0},{"$f":"IFERROR(VLOOKUP(A48,'E110'!A:I,9,0),0)","v":636750},{"$f":"ROUNDUP(SUMIF('E200'!A:A,A48,'E200'!E:E),-1)","v":0},{"$f":"ROUNDUP(SUMIF('E300'!A:A,A48,'E300'!J:J),-1)","v":0},{"$f":"SUM(I48:K48)","v":636750},null,{"$f":"IF(SUM(F48:K48)>0,1,0)","v":1}]
[52012030,null,null,"เงินเพิ่มสู้รบ (พสร.)",null,{"$f":"IFERROR(VLOOKUP(A49,SAP!L:M,2,0),0)","v":0},{"$f":"IFERROR(VLOOKUP(A49,SAP!N:Q,4,0),0)","v":0},{"$f":"IFERROR(VLOOKUP(A49,SAP!R:S,2,0),0)","v":0},{"$f":"IFERROR(VLOOKUP(A49,'E110'!A:I,9,0),0)","v":0},{"$f":"ROUNDUP(SUMIF('E200'!A:A,A49,'E200'!E:E),-1)","v":0},{"$f":"ROUNDUP(SUMIF('E300'!A:A,A49,'E300'!J:J),-1)","v":0},0,null,0]
[52012040,null,null,"เงินยังชีพ (14 จังหวัดภาคใต้)",null,{"$f":"IFERROR(VLOOKUP(A50,SAP!L:M,2,0),0)","v":0},{"$f":"IFERROR(VLOOKUP(A50,SAP!N:Q,4,0),0)","v":0},{"$f":"IFERROR(VLOOKUP(A50,SAP!R:S,2,0),0)","v":0},{"$f":"IFERROR(VLOOKUP(A50,'E110'!A:I,9,0),0)","v":0},{"$f":"ROUNDUP(SUMIF('E200'!A:A,A50,'E200'!E:E),-1)","v":0},{"$f":"ROUNDUP(SUMIF('E300'!A:A,A50,'E300'!J:J),-1)","v":0},0,null,0]
[52012050,null,null,"เงินเพิ่มพิเศษสำหรับผู้ทำงานอยู่กะ",null,{"$f":"IFERROR(VLOOKUP(A51,SAP!L:M,2,0),0)","v":636361.82999999996},{"$f":"IFERROR(VLOOKUP(A51,SAP!N:Q,4,0),0)","v":612397.44000000006},{"$f":"IFERROR(VLOOKUP(A51,SAP!R:S,2,0),0)","v":0},{"$f":"IFERROR(VLOOKUP(A51,'E110'!A:I,9,0),0)","v":0},{"$f":"ROUNDUP(SUMIF('E200'!A:A,A51,'E200'!E:E),-1)","v":0},{"$f":"ROUNDUP(SUMIF('E300'!A:A,A51,'E300'!J:J),-1)","v":0},0,null,1]
[52012060,null,null,"ค่าโทรศัพท์บ้านพัก- ผู้บริหาร",null,{"$f":"IFERROR(VLOOKUP(A52,SAP!L:M,2,0),0)","v":0},{"$f":"IFERROR(VLOOKUP(A52,SAP!N:Q,4,0),0)","v":0},{"$f":"IFERROR(VLOOKUP(A52,SAP!R:S,2,0),0)","v":0},{"$f":"IFERROR(VLOOKUP(A52,'E110'!A:I,9,0),0)","v":19200},{"$f":"ROUNDUP(SUMIF('E200'!A:A,A52,'E200'!E:E),-1)","v":0},{"$f":"ROUNDUP(SUMIF('E300'!A:A,A52,'E300'!J:J),-1)","v":0},19200,null,1]
[52012070,null,null,"ค่าโทรศัพท์เคลื่อนที่ -ผู้บริหาร",null,{"$f":"IFERROR(VLOOKUP(A53,SAP!L:M,2,0),0)","v":60000},{"$f":"IFERROR(VLOOKUP(A53,SAP!N:Q,4,0),0)","v":62400},{"$f":"IFERROR(VLOOKUP(A53,SAP!R:S,2,0),0)","v":0},{"$f":"IFERROR(VLOOKUP(A53,'E110'!A:I,9,0),0)","v":62400},{"$f":"ROUNDUP(SUMIF('E200'!A:A,A53,'E200'!E:E),-1)","v":0},{"$f":"ROUNDUP(SUMIF('E300'!A:A,A53,'E300'!J:J),-1)","v":0},62400,null,1]
[52012990,null,null,"เงินเพิ่มพิเศษอื่น",null,{"$f":"IFERROR(VLOOKUP(A54,SAP!L:M,2,0),0)","v":0},{"$f":"IFERROR(VLOOKUP(A54,SAP!N:Q,4,0),0)","v":0},{"$f":"IFERROR(VLOOKUP(A54,SAP!R:S,2,0),0)","v":0},{"$f":"IFERROR(VLOOKUP(A54,'E110'!A:I,9,0),0)","v":0},{"$f":"ROUNDUP(SUMIF('E200'!A:A,A54,'E200'!E:E),-1)","v":0},{"$f":"ROUNDUP(SUMIF('E300'!A:A,A54,'E300'!J:J),-1)","v":0},0,null,0]
[null,null,"เงินชดเชย ",null,null,null,null,null,null,null,null,null,null,{"$f":"IF(SUM(N56:N58)>0,1,0)","v":0}]
[52013010,null,null,"เงินชดเชยตามกฎหมาย-พนักงานเกษียณอายุหรือให้ออก",null,{"$f":"IFERROR(VLOOKUP(A56,SAP!L:M,2,0),0)","v":0},{"$f":"IFERROR(VLOOKUP(A56,SAP!N:Q,4,0),0)","v":0},{"$f":"IFERROR(VLOOKUP(A56,SAP!R:S,2,0),0)","v":0},0,0,0,{"$f":"SUM(I56:K56)","v":0},"ไม่ต้องตั้งงบประมาณ",{"$f":"IF(SUM(F56:K56)>0,1,0)","v":0}]
[52013020,null,null,"เงินตอบแทนพิเศษ-พนักงานเกษียณก่อนอายุ",null,{"$f":"IFERROR(VLOOKUP(A57,SAP!L:M,2,0),0)","v":0},{"$f":"IFERROR(VLOOKUP(A57,SAP!N:Q,4,0),0)","v":0},{"$f":"IFERROR(VLOOKUP(A57,SAP!R:S,2,0),0)","v":0},0,0,0,0,"ไม่ต้องตั้งงบประมาณ",0]
[52013030,null,null,"เงินชดเชย-พนักงานเกษียณก่อนอายุ",null,{"$f":"IFERROR(VLOOKUP(A58,SAP!L:M,2,0),0)","v":0},{"$f":"IFERROR(VLOOKUP(A58,SAP!N:Q,4,0),0)","v":0},{"$f":"IFERROR(VLOOKUP(A58,SAP!R:S,2,0),0)","v":0},0,0,0,0,"ไม่ต้องตั้งงบประมาณ",0]
[null,"สวัสดิการพนักงาน",null,null,null,null,null,null,null,null,null,null,null,{"$f":"IF(SUM(N60:N80)>0,1,0)","v":1}]
[null,null,"เงินช่วยเหลือพนักงาน ",null,null,null,null,null,null,null,null,null,null,{"$f":"IF(SUM(N61:N65)>0,1,0)","v":1}]
[52020010,null,null,"เงินช่วยเหลือค่าไฟฟ้า",null,{"$f":"IFERROR(VLOOKUP(A61,SAP!L:M,2,0),0)","v":8476113.8300000001},{"$f":"IFERROR(VLOOKUP(A61,SAP!N:Q,4,0),0)","v":8742477.5828571431},{"$f":"IFERROR(VLOOKUP(A61,SAP!R:S,2,0),0)","v":0},{"$f":"IFERROR(VLOOKUP(A61,'E110'!A:I,9,0),0)","v":9477330},{"$f":"ROUNDUP(SUMIF('E200'!A:A,A61,'E200'!E:E),-1)","v":0},{"$f":"ROUNDUP(SUMIF('E300'!A:A,A61,'E300'!J:J),-1)","v":0},{"$f":"SUM(I61:K61)","v":9477330},null,{"$f":"IF(SUM(F61:K61)>0,1,0)","v":1}]
[52020020,null,null,"เงินช่วยเหลือค่าเครื่องแบบพนักงาน",null,{"$f":"IFERROR(VLOOKUP(A62,SAP!L:M,2,0),0)","v":6000},{"$f":"IFERROR(VLOOKUP(A62,SAP!N:Q,4,0),0)","v":0},{"$f":"IFERROR(VLOOKUP(A62,SAP!R:S,2,0),0)","v":0},{"$f":"IFERROR(VLOOKUP(A62,'E110'!A:I,9,0),0)","v":12000},{"$f":"ROUNDUP(SUMIF('E200'!A:A,A62,'E200'!E:E),-1)","v":0},{"$f":"ROUNDUP(SUMIF('E300'!A:A,A62,'E300'!J:J),-1)","v":0},{"$f":"SUM(I62:K62)","v":12000},null,{"$f":"IF(SUM(F62:K62)>0,1,0)","v":1}]
[52020030,null,null,"เงินช่วยเหลือค่าเล่าเรียนบุตร",null,{"$f":"IFERROR(VLOOKUP(A63,SAP!L:M,2,0),0)","v":316635},{"$f":"IFERROR(VLOOKUP(A63,SAP!N:Q,4,0),0)","v":389642.57142857142},{"$f":"IFERROR(VLOOKUP(A63,SAP!R:S,2,0),0)","v":0},{"$f":"IFERROR(VLOOKUP(A63,'E110'!A:I,9,0),0)","v":603100},{"$f":"ROUNDUP(SUMIF('E200'!A:A,A63,'E200'!E:E),-1)","v":0},{"$f":"ROUNDUP(SUMIF('E300'!A:A,A63,'E300'!J:J),-1)","v":0},{"$f":"SUM(I63:K63)","v":603100},null,{"$f":"IF(SUM(F63:K63)>0,1,0)","v":1}]
[52020040,null,null,"เงินช่วยเหลือบุตร",null,{"$f":"IFERROR(VLOOKUP(A64,SAP!L:M,2,0),0)","v":266500},{"$f":"IFERROR(VLOOKUP(A64,SAP!N:Q,4,0),0)","v":278571.42857142858},{"$f":"IFERROR(VLOOKUP(A64,SAP!R:S,2,0),0)","v":0},{"$f":"IFERROR(VLOOKUP(A64,'E110'!A:I,9,0),0)","v":360000},{"$f":"ROUNDUP(SUMIF('E200'!A:A,A64,'E200'!E:E),-1)","v":0},{"$f":"ROUNDUP(SUMIF('E300'!A:A,A64,'E300'!J:J),-1)","v":0},{"$f":"SUM(I64:K64)","v":360000},null,{"$f":"IF(SUM(F64:K64)>0,1,0)","v":1}]
[52020990,null,null,"เงินช่วยเหลืออื่น",null,{"$f":"IFERROR(VLOOKUP(A65,SAP!L:M,2,0),0)","v":131440},{"$f":"IFERROR(VLOOKUP(A65,SAP!N:Q,4,0),0)","v":2057.1428571428569},{"$f":"IFERROR(VLOOKUP(A65,SAP!R:S,2,0),0)","v":0},{"$f":"IFERROR(VLOOKUP(A65,'E110'!A:I,9,0),0)","v":20000},{"$f":"ROUNDUP(SUMIF('E200'!A:A,A65,'E200'!E:E),-1)","v":0},{"$f":"ROUNDUP(SUMIF('E300'!A:A,A65,'E300'!J:J),-1)","v":0},{"$f":"SUM(I65:K65)","v":20000},null,{"$f":"IF(SUM(F65:K65)>0,1,0)","v":1}]
[null,null,"ค่ารักษาพยาบาล",null,null,null,null,null,null,null,null,null,null,{"$f":"IF(SUM(N67:N68)>0,1,0)","v":1}]
[52021010,null,null,"ค่ารักษาพยาบาล-พนักงาน",null,{"$f":"IFERROR(VLOOKUP(A67,SAP!L:M,2,0),0)","v":4017411.68},{"$f":"IFERROR(VLOOKUP(A67,SAP!N:Q,4,0),0)","v":2880899.6228571432},{"$f":"IFERROR(VLOOKUP(A67,SAP!R:S,2,0),0)","v":0},{"$f":"IFERROR(VLOOKUP(A67,'E110'!A:I,9,0),0)","v":1897200},{"$f":"ROUNDUP(SUMIF('E200'!A:A,A67,'E200'!E:E),-1)","v":0},{"$f":"ROUNDUP(SUMIF('E300'!A:A,A67,'E300'!J:J),-1)","v":0},{"$f":"SUM(I67:K67)","v":1897200},null,{"$f":"IF(SUM(F67:K67)>0,1,0)","v":1}]
[52021020,null,null,"ค่ารักษาพยาบาล-ครอบครัวพนักงาน",null,{"$f":"IFERROR(VLOOKUP(A68,SAP!L:M,2,0),0)","v":3334101.42},{"$f":"IFERROR(VLOOKUP(A68,SAP!N:Q,4,0),0)","v":2090182.8},{"$f":"IFERROR(VLOOKUP(A68,SAP!R:S,2,0),0)","v":0},{"$f":"IFERROR(VLOOKUP(A68,'E110'!A:I,9,0),0)","v":1938000},{"$f":"ROUNDUP(SUMIF('E200'!A:A,A68,'E200'!E:E),-1)","v":0},{"$f":"ROUNDUP(SUMIF('E300'!A:A,A68,'E300'!J:J),-1)","v":0},{"$f":"SUM(I68:K68)","v":1938000},null,{"$f":"IF(SUM(F68:K68)>0,1,0)","v":1}]
[null,null,"ค่าพาหนะ เบี้ยเลี้ยงเดินทาง ",null,null,null,null,null,null,null,null,null,null,{"$f":"IF(SUM(N70:N77)>0,1,0)","v":1}]
[52022010,null,null,"ค่าพาหนะเดินทางไปปฏิบัติงานต่างท้องที่-พนักงาน",null,{"$f":"IFERROR(VLOOKUP(A70,SAP!L:M,2,0),0)","v":22588},{"$f":"IFERROR(VLOOKUP(A70,SAP!N:Q,4,0),0)","v":29216.571428571428},{"$f":"IFERROR(VLOOKUP(A70,SAP!R:S,2,0),0)","v":0},{"$f":"IFERROR(VLOOKUP(A70,'E110'!A:I,9,0),0)","v":127000},{"$f":"ROUNDUP(SUMIF('E200'!A:A,A70,'E200'!E:E),-1)","v":0},{"$f":"ROUNDUP(SUMIF('E300'!A:A,A70,'E300'!J:J),-1)","v":0},{"$f":"SUM(I70:K70)","v":127000},null,{"$f":"IF(SUM(F70:K70)>0,1,0)","v":1}]
[52022020,null,null,"ค่าเบี้ยเลี้ยง-พนักงาน",null,{"$f":"IFERROR(VLOOKUP(A71,SAP!L:M,2,0),0)","v":517290},{"$f":"IFERROR(VLOOKUP(A71,SAP!N:Q,4,0),0)","v":726128.57142857136},{"$f":"IFERROR(VLOOKUP(A71,SAP!R:S,2,0),0)","v":0},{"$f":"IFERROR(VLOOKUP(A71,'E110'!A:I,9,0),0)","v":802320},{"$f":"ROUNDUP(SUMIF('E200'!A:A,A71,'E200'!E:E),-1)","v":0},{"$f":"ROUNDUP(SUMIF('E300'!A:A,A71,'E300'!J:J),-1)","v":0},802320,null,1]
[52022030,null,null,"ค่าที่พัก-พนักงาน",null,{"$f":"IFERROR(VLOOKUP(A72,SAP!L:M,2,0),0)","v":1058580},{"$f":"IFERROR(VLOOKUP(A72,SAP!N:Q,4,0),0)","v":1530265.7142857143},{"$f":"IFERROR(VLOOKUP(A72,SAP!R:S,2,0),0)","v":0},{"$f":"IFERROR(VLOOKUP(A72,'E110'!A:I,9,0),0)","v":1575880},{"$f":"ROUNDUP(SUMIF('E200'!A:A,A72,'E200'!E:E),-1)","v":0},{"$f":"ROUNDUP(SUMIF('E300'!A:A,A72,'E300'!J:J),-1)","v":0},1575880,null,1]
[52022040,null,null,"ค่าเครื่องแต่งกายสำหรับปฏิบัติงานต่างประเทศ",null,{"$f":"IFERROR(VLOOKUP(A73,SAP!L:M,2,0),0)","v":0},{"$f":"IFERROR(VLOOKUP(A73,SAP!N:Q,4,0),0)","v":0},{"$f":"IFERROR(VLOOKUP(A73,SAP!R:S,2,0),0)","v":0},0,0,0,{"$f":"SUM(I73:K73)","v":0},"ไม่ต้องตั้งงบประมาณ",0]
[52022050,null,null,"ค่าชดเชยการใช้ยานพาหนะส่วนตัว",null,{"$f":"IFERROR(VLOOKUP(A74,SAP!L:M,2,0),0)","v":0},{"$f":"IFERROR(VLOOKUP(A74,SAP!N:Q,4,0),0)","v":0},{"$f":"IFERROR(VLOOKUP(A74,SAP!R:S,2,0),0)","v":0},{"$f":"IFERROR(VLOOKUP(A74,'E110'!A:I,9,0),0)","v":0},{"$f":"ROUNDUP(SUMIF('E200'!A:A,A74,'E200'!E:E),-1)","v":0},{"$f":"ROUNDUP(SUMIF('E300'!A:A,A74,'E300'!J:J),-1)","v":0},0,null,0]
[52022060,null,null,"ค่าพาหนะเดินทางไปปฏิบัติงานต่างท้องที่-ลูกจ้าง",null,{"$f":"IFERROR(VLOOKUP(A75,SAP!L:M,2,0),0)","v":832},{"$f":"IFERROR(VLOOKUP(A75,SAP!N:Q,4,0),0)","v":678.85714285714289},{"$f":"IFERROR(VLOOKUP(A75,SAP!R:S,2,0),0)","v":0},{"$f":"IFERROR(VLOOKUP(A75,'E110'!A:I,9,0),0)","v":32500},{"$f":"ROUNDUP(SUMIF('E200'!A:A,A75,'E200'!E:E),-1)","v":0},{"$f":"ROUNDUP(SUMIF('E300'!A:A,A75,'E300'!J:J),-1)","v":0},32500,null,1]
[52022070,null,null,"ค่าเบี้ยเลี้ยง-ลูกจ้าง",null,{"$f":"IFERROR(VLOOKUP(A76,SAP!L:M,2,0),0)","v":4845},{"$f":"IFERROR(VLOOKUP(A76,SAP!N:Q,4,0),0)","v":2622.8571428571431},{"$f":"IFERROR(VLOOKUP(A76,SAP!R:S,2,0),0)","v":0},{"$f":"IFERROR(VLOOKUP(A76,'E110'!A:I,9,0),0)","v":32500},{"$f":"ROUNDUP(SUMIF('E200'!A:A,A76,'E200'!E:E),-1)","v":0},{"$f":"ROUNDUP(SUMIF('E300'!A:A,A76,'E300'!J:J),-1)","v":0},32500,null,1]
[52022080,null,null,"ค่าที่พัก-ลูกจ้าง",null,{"$f":"IFERROR(VLOOKUP(A77,SAP!L:M,2,0),0)","v":2670},{"$f":"IFERROR(VLOOKUP(A77,SAP!N:Q,4,0),0)","v":1525.7142857142858},{"$f":"IFERROR(VLOOKUP(A77,SAP!R:S,2,0),0)","v":0},{"$f":"IFERROR(VLOOKUP(A77,'E110'!A:I,9,0),0)","v":32500},{"$f":"ROUNDUP(SUMIF('E200'!A:A,A77,'E200'!E:E),-1)","v":0},{"$f":"ROUNDUP(SUMIF('E300'!A:A,A77,'E300'!J:J),-1)","v":0},32500,null,1]
[null,null,"ค่าสวัสดิการอื่นๆ",null,null,null,null,null,null,null,null,null,null,{"$f":"IF(SUM(N79:N80)>0,1,0)","v":1}]
[52029010,null,null,"ค่าเช่าบ้าน",null,{"$f":"IFERROR(VLOOKUP(A79,SAP!L:M,2,0),0)","v":599550},{"$f":"IFERROR(VLOOKUP(A79,SAP!N:Q,4,0),0)","v":473142.85714285716},{"$f":"IFERROR(VLOOKUP(A79,SAP!R:S,2,0),0)","v":0},{"$f":"IFERROR(VLOOKUP(A79,'E110'!A:I,9,0),0)","v":804000},{"$f":"ROUNDUP(SUMIF('E200'!A:A,A79,'E200'!E:E),-1)","v":0},{"$f":"ROUNDUP(SUMIF('E300'!A:A,A79,'E300'!J:J),-1)","v":0},{"$f":"SUM(I79:K79)","v":804000},null,{"$f":"IF(SUM(F79:K79)>0,1,0)","v":1}]
[52029990,null,null,"ค่าสวัสดิการอื่น ๆ",null,{"$f":"IFERROR(VLOOKUP(A80,SAP!L:M,2,0),0)","v":0},{"$f":"IFERROR(VLOOKUP(A80,SAP!N:Q,4,0),0)","v":0},{"$f":"IFERROR(VLOOKUP(A80,SAP!R:S,2,0),0)","v":0},{"$f":"IFERROR(VLOOKUP(A80,'E110'!A:I,9,0),0)","v":0},{"$f":"ROUNDUP(SUMIF('E200'!A:A,A80,'E200'!E:E),-1)","v":0},{"$f":"ROUNDUP(SUMIF('E300'!A:A,A80,'E300'!J:J),-1)","v":0},{"$f":"SUM(I80:K80)","v":0},null,{"$f":"IF(SUM(F80:K80)>0,1,0)","v":0}]
[null,"ค่าใช้จ่ายในการพัฒนาบุคคลากร ",null,null,null,null,null,null,null,null,null,null,null,{"$f":"IF(SUM(N82:N84)>0,1,0)","v":1}]
[52030010,null,null,"ค่าใช้จ่ายในการอบรมสัมมนา-ในแผน",null,{"$f":"IFERROR(VLOOKUP(A82,SAP!L:M,2,0),0)","v":0},{"$f":"IFERROR(VLOOKUP(A82,SAP!N:Q,4,0),0)","v":0},{"$f":"IFERROR(VLOOKUP(A82,SAP!R:S,2,0),0)","v":0},{"$f":"IFERROR(IF(Head_division2=\"ฝพบ.\",VLOOKUP(A82,'E110'!A:I,9,0),0),0)","v":0},{"$f":"IF(Head_division2=\"ฝพบ.\",ROUNDUP(SUMIF('E200'!A:A,A82,'E200'!E:E),-1),0)","v":0},{"$f":"IF(Head_division2=\"ฝพบ.\",ROUNDUP(SUMIF('E300'!A:A,A82,'E300'!J:J),-1),0)","v":0},{"$f":"SUM(I82:K82)","v":0},"เฉพาะ ฝพบ. เท่านั้น",{"$f":"IF(SUM(F82:K82)>0,1,0)","v":0}]
[52030020,null,null,"ค่าใช้จ่ายในการอบรมสัมมนา-นอกแผน",null,{"$f":"IFERROR(VLOOKUP(A83,SAP!L:M,2,0),0)","v":3183},{"$f":"IFERROR(VLOOKUP(A83,SAP!N:Q,4,0),0)","v":9017.1428571428569},{"$f":"IFERROR(VLOOKUP(A83,SAP!R:S,2,0),0)","v":0},{"$f":"IFERROR(VLOOKUP(A83,'E110'!A:I,9,0),0)","v":224400},{"$f":"SUMIF('E200'!$A$33:A51,A83,'E200'!$E$33:E51)","v":0},{"$f":"ROUNDUP(SUMIF('E300'!A:A,A83,'E300'!J:J),-1)","v":0},{"$f":"SUM(I83:K83)","v":224400},null,{"$f":"IF(SUM(F83:K83)>0,1,0)","v":1}]
[52030030,null,null,"ค่าใช้จ่ายในการประชุมชี้แจง",null,{"$f":"IFERROR(VLOOKUP(A84,SAP!L:M,2,0),0)","v":9375},{"$f":"IFERROR(VLOOKUP(A84,SAP!N:Q,4,0),0)","v":23811.428571428572},{"$f":"IFERROR(VLOOKUP(A84,SAP!R:S,2,0),0)","v":0},{"$f":"IFERROR(VLOOKUP(A84,'E110'!A:I,9,0),0)","v":20000},{"$f":"'E220'!F26","v":0},{"$f":"ROUNDUP(SUMIF('E300'!A:A,A84,'E300'!J:J),-1)","v":0},{"$f":"SUM(I84:K84)","v":20000},null,{"$f":"IF(SUM(F84:K84)>0,1,0)","v":1}]
[null,"ต้นทุนผลประโยชน์พนักงาน",null,null,null,null,null,null,null,null,null,null,null,{"$f":"IF(SUM(N86:N87)>0,1,0)","v":1}]
[52040010,null,null,"ค่าใช้จ่ายผลประโยชน์พนักงาน-เงินชดเชยตามกฎหมาย",null,{"$f":"IFERROR(VLOOKUP(A86,SAP!L:M,2,0),0)","v":5773175},{"$f":"IFERROR(VLOOKUP(A86,SAP!N:Q,4,0),0)","v":5246331.84},{"$f":"IFERROR(VLOOKUP(A86,SAP!R:S,2,0),0)","v":0},0,0,0,{"$f":"SUM(I86:K86)","v":0},"ไม่ต้องตั้งงบประมาณ",{"$f":"IF(SUM(F86:K86)>0,1,0)","v":1}]
[52040020,null,null,"ค่าใช้จ่ายผลประโยชน์พนักงาน-ค่าของที่ระลึก",null,{"$f":"IFERROR(VLOOKUP(A87,SAP!L:M,2,0),0)","v":162709},{"$f":"IFERROR(VLOOKUP(A87,SAP!N:Q,4,0),0)","v":139181.04},{"$f":"IFERROR(VLOOKUP(A87,SAP!R:S,2,0),0)","v":0},0,0,0,0,"ไม่ต้องตั้งงบประมาณ",1]
[null,"รวมค่าใช้จ่ายเกี่ยวกับบุคคลากร",null,null,null,{"$f":"SUBTOTAL(109,F32:F87)","v":88967451.030000016},83995394.760000005,0,80440810,0,0,{"$f":"SUBTOTAL(109,L32:L87)","v":80440810},null,{"$f":"N32","v":1}]
[null,"ค่าใช้จ่ายในการดำเนินงาน",null,null,null,null,null,null,null,null,null,null,null,{"$f":"IF(SUM(N90:N304)>0,1,0)","v":1}]
[null,"ค่าใช้จ่ายตอบแทนบุคคลภายนอก",null,null,null,null,null,null,null,null,null,null,null,{"$f":"IF(SUM(N91:N114)>0,1,0)","v":1}]
[null,null,"ค่าตอบแทนบุคคลภายนอก-เกี่ยวกับการดำเนินงาน",null,null,null,null,null,null,null,null,null,null,{"$f":"IF(SUM(N92:N101)>0,1,0)","v":1}]
[53010010,null,null,"ค่าตอบแทน-การจดหน่วยการใช้ไฟฟ้า",null,{"$f":"IFERROR(VLOOKUP(A92,SAP!L:M,2,0),0)","v":0},{"$f":"IFERROR(VLOOKUP(A92,SAP!N:Q,4,0),0)","v":0},{"$f":"IFERROR(VLOOKUP(A92,SAP!R:S,2,0),0)","v":0},{"$f":"IFERROR(VLOOKUP(A92,'E120'!A:J,10,0),0)","v":0},{"$f":"ROUNDUP(SUMIF('E200'!A:A,A92,'E200'!E:E),-1)","v":0},{"$f":"ROUNDUP(SUMIF('E300'!A:A,A92,'E300'!J:J),-1)","v":0},{"$f":"SUM(I92:K92)","v":0},null,{"$f":"IF(SUM(F92:K92)>0,1,0)","v":0}]
[53010020,null,null,"ค่าตอบแทน-การจดหน่วยพร้อมแจ้งค่าไฟฟ้า",null,{"$f":"IFERROR(VLOOKUP(A93,SAP!L:M,2,0),0)","v":9267551.1999999993},{"$f":"IFERROR(VLOOKUP(A93,SAP!N:Q,4,0),0)","v":8617821.9428571425},{"$f":"IFERROR(VLOOKUP(A93,SAP!R:S,2,0),0)","v":0},{"$f":"IFERROR(VLOOKUP(A93,'E120'!A:J,10,0),0)","v":10290000},{"$f":"ROUNDUP(SUMIF('E200'!A:A,A93,'E200'!E:E),-1)","v":0},{"$f":"ROUNDUP(SUMIF('E300'!A:A,A93,'E300'!J:J),-1)","v":0},10290000,null,1]
[53010030,null,null,"ค่าตอบแทน-การเก็บเงินค่าไฟฟ้า",null,{"$f":"IFERROR(VLOOKUP(A94,SAP!L:M,2,0),0)","v":0},{"$f":"IFERROR(VLOOKUP(A94,SAP!N:Q,4,0),0)","v":0},{"$f":"IFERROR(VLOOKUP(A94,SAP!R:S,2,0),0)","v":0},{"$f":"IFERROR(VLOOKUP(A94,'E120'!A:J,10,0),0)","v":0},{"$f":"ROUNDUP(SUMIF('E200'!A:A,A94,'E200'!E:E),-1)","v":0},{"$f":"ROUNDUP(SUMIF('E300'!A:A,A94,'E300'!J:J),-1)","v":0},0,null,0]
[53010040,null,null,"ค่าจ้างเหมางานงดจ่ายไฟและต่อกลับมิเตอร์",null,{"$f":"IFERROR(VLOOKUP(A95,SAP!L:M,2,0),0)","v":121838},{"$f":"IFERROR(VLOOKUP(A95,SAP!N:Q,4,0),0)","v":1926502.2857142857},{"$f":"IFERROR(VLOOKUP(A95,SAP!R:S,2,0),0)","v":0},{"$f":"IFERROR(VLOOKUP(A95,'E120'!A:J,10,0),0)","v":3788000},{"$f":"ROUNDUP(SUMIF('E200'!A:A,A95,'E200'!E:E),-1)","v":0},{"$f":"ROUNDUP(SUMIF('E300'!A:A,A95,'E300'!J:J),-1)","v":0},3788000,null,1]
[53010050,null,null,"ค่าตอบแทน-บริการโฆษณา",null,{"$f":"IFERROR(VLOOKUP(A96,SAP!L:M,2,0),0)","v":0},{"$f":"IFERROR(VLOOKUP(A96,SAP!N:Q,4,0),0)","v":0},{"$f":"IFERROR(VLOOKUP(A96,SAP!R:S,2,0),0)","v":0},0,0,0,{"$f":"SUM(I96:K96)","v":0},"ไม่ต้องตั้งงบประมาณ",0]
[53010060,null,null,"ค่าแรงคนงานรายวัน/ค่าจ้างเหมาแรงงานก่อสร้าง",null,{"$f":"IFERROR(VLOOKUP(A97,SAP!L:M,2,0),0)","v":0},{"$f":"IFERROR(VLOOKUP(A97,SAP!N:Q,4,0),0)","v":0},{"$f":"IFERROR(VLOOKUP(A97,SAP!R:S,2,0),0)","v":0},0,0,0,0,"ไม่ต้องตั้งงบประมาณ",0]
[53010070,null,null,"ค่าแรงคนงานรายวันงานบำรุงรักษา",null,{"$f":"IFERROR(VLOOKUP(A98,SAP!L:M,2,0),0)","v":9640247.8000000007},{"$f":"IFERROR(VLOOKUP(A98,SAP!N:Q,4,0),0)","v":9695872.457142856},{"$f":"IFERROR(VLOOKUP(A98,SAP!R:S,2,0),0)","v":0},{"$f":"IFERROR(VLOOKUP(A98,'E120'!A:J,10,0),0)","v":10200000},{"$f":"ROUNDUP(SUMIF('E200'!A:A,A98,'E200'!E:E),-1)","v":0},{"$f":"ROUNDUP(SUMIF('E300'!A:A,A98,'E300'!J:J),-1)","v":0},10200000,null,1]
[53010080,null,null,"ค่าแรงคนงานรายวันงานบริการ/ค่าจ้างเหมางานมิเตอร์",null,{"$f":"IFERROR(VLOOKUP(A99,SAP!L:M,2,0),0)","v":2819236},{"$f":"IFERROR(VLOOKUP(A99,SAP!N:Q,4,0),0)","v":2713285.7142857146},{"$f":"IFERROR(VLOOKUP(A99,SAP!R:S,2,0),0)","v":0},{"$f":"IFERROR(VLOOKUP(A99,'E120'!A:J,10,0),0)","v":3085000},{"$f":"ROUNDUP(SUMIF('E200'!A:A,A99,'E200'!E:E),-1)","v":0},{"$f":"ROUNDUP(SUMIF('E300'!A:A,A99,'E300'!J:J),-1)","v":0},3085000,null,1]
[53010090,null,null,"ค่าแรง/ค่าจ้างเหมาคนงานรายวันทั่วไป",null,{"$f":"IFERROR(VLOOKUP(A100,SAP!L:M,2,0),0)","v":5200754.6500000004},{"$f":"IFERROR(VLOOKUP(A100,SAP!N:Q,4,0),0)","v":5536444.6285714284},{"$f":"IFERROR(VLOOKUP(A100,SAP!R:S,2,0),0)","v":0},{"$f":"IFERROR(VLOOKUP(A100,'E120'!A:J,10,0),0)","v":6575000},{"$f":"ROUNDUP(SUMIF('E200'!A:A,A100,'E200'!E:E),-1)","v":0},{"$f":"ROUNDUP(SUMIF('E300'!A:A,A100,'E300'!J:J),-1)","v":0},6575000,null,1]
[53010100,null,null,"ค่าจ้างส่งหนังสือแจ้งเตือนก่อนงดจ่ายไฟฟ้า",null,{"$f":"IFERROR(VLOOKUP(A101,SAP!L:M,2,0),0)","v":2281008.7000000002},{"$f":"IFERROR(VLOOKUP(A101,SAP!N:Q,4,0),0)","v":1849934.88},{"$f":"IFERROR(VLOOKUP(A101,SAP!R:S,2,0),0)","v":0},{"$f":"IFERROR(VLOOKUP(A101,'E120'!A:J,10,0),0)","v":2100000},{"$f":"ROUNDUP(SUMIF('E200'!A:A,A101,'E200'!E:E),-1)","v":0},{"$f":"ROUNDUP(SUMIF('E300'!A:A,A101,'E300'!J:J),-1)","v":0},2100000,null,1]
[null,null,"ค่าตอบแทน-ผู้ว่าการ",null,null,null,null,null,null,null,null,null,null,{"$f":"IF(SUM(N103:N107)>0,1,0)","v":0}]
[53011010,null,null,"ค่าตอบแทนรายเดือน-ผวก.",null,{"$f":"IFERROR(VLOOKUP(A103,SAP!L:M,2,0),0)","v":0},{"$f":"IFERROR(VLOOKUP(A103,SAP!N:Q,4,0),0)","v":0},{"$f":"IFERROR(VLOOKUP(A103,SAP!R:S,2,0),0)","v":0},{"$f":"IFERROR(IF(Head_division2=\"ผวก.\",VLOOKUP(A103,'E120'!A:J,10,0),0),0)","v":0},{"$f":"IF(Head_division2=\"ผวก.\",ROUNDUP(SUMIF('E200'!A:A,A103,'E200'!E:E),-1),0)","v":0},{"$f":"IF(Head_division2=\"ผวก.\",ROUNDUP(SUMIF('E300'!A:A,A103,'E300'!J:J),-1),0)","v":0},{"$f":"SUM(I103:K103)","v":0},"เฉพาะ ผวก. เท่านั้น",{"$f":"IF(SUM(F103:K103)>0,1,0)","v":0}]
[53011020,null,null,"ค่ารับรอง-ผวก.",null,{"$f":"IFERROR(VLOOKUP(A104,SAP!L:M,2,0),0)","v":0},{"$f":"IFERROR(VLOOKUP(A104,SAP!N:Q,4,0),0)","v":0},{"$f":"IFERROR(VLOOKUP(A104,SAP!R:S,2,0),0)","v":0},{"$f":"IFERROR(IF(Head_division2=\"ผวก.\",VLOOKUP(A104,'E120'!A:J,10,0),0),0)","v":0},{"$f":"IF(Head_division2=\"ผวก.\",ROUNDUP(SUMIF('E200'!A:A,A104,'E200'!E:E),-1),0)","v":0},{"$f":"IF(Head_division2=\"ผวก.\",ROUNDUP(SUMIF('E300'!A:A,A104,'E300'!J:J),-1),0)","v":0},{"$f":"SUM(I104:K104)","v":0},"เฉพาะ ผวก. เท่านั้น",0]
[53011030,null,null,"ค่าพาหนะเบี้ยเลี้ยงและที่พัก-ผวก.",null,{"$f":"IFERROR(VLOOKUP(A105,SAP!L:M,2,0),0)","v":0},{"$f":"IFERROR(VLOOKUP(A105,SAP!N:Q,4,0),0)","v":0},{"$f":"IFERROR(VLOOKUP(A105,SAP!R:S,2,0),0)","v":0},{"$f":"IFERROR(IF(Head_division2=\"ผวก.\",VLOOKUP(A105,'E120'!A:J,10,0),0),0)","v":0},{"$f":"IF(Head_division2=\"ผวก.\",ROUNDUP(SUMIF('E200'!A:A,A105,'E200'!E:E),-1),0)","v":0},{"$f":"IF(Head_division2=\"ผวก.\",ROUNDUP(SUMIF('E300'!A:A,A105,'E300'!J:J),-1),0)","v":0},{"$f":"SUM(I105:K105)","v":0},"เฉพาะ ผวก. เท่านั้น",0]
[53011040,null,null,"ค่าใช้จ่ายเกี่ยวกับเครื่องมือสื่อสาร-ผวก.",null,{"$f":"IFERROR(VLOOKUP(A106,SAP!L:M,2,0),0)","v":0},{"$f":"IFERROR(VLOOKUP(A106,SAP!N:Q,4,0),0)","v":0},{"$f":"IFERROR(VLOOKUP(A106,SAP!R:S,2,0),0)","v":0},{"$f":"IFERROR(IF(Head_division2=\"ผวก.\",VLOOKUP(A106,'E120'!A:J,10,0),0),0)","v":0},{"$f":"IF(Head_division2=\"ผวก.\",ROUNDUP(SUMIF('E200'!A:A,A106,'E200'!E:E),-1),0)","v":0},{"$f":"IF(Head_division2=\"ผวก.\",ROUNDUP(SUMIF('E300'!A:A,A106,'E300'!J:J),-1),0)","v":0},{"$f":"SUM(I106:K106)","v":0},"เฉพาะ ผวก. เท่านั้น",0]
[53011990,null,null,"ค่าตอบแทนอื่น-ผวก.",null,{"$f":"IFERROR(VLOOKUP(A107,SAP!L:M,2,0),0)","v":0},{"$f":"IFERROR(VLOOKUP(A107,SAP!N:Q,4,0),0)","v":0},{"$f":"IFERROR(VLOOKUP(A107,SAP!R:S,2,0),0)","v":0},{"$f":"IFERROR(IF(Head_division2=\"ผวก.\",VLOOKUP(A107,'E120'!A:J,10,0),0),0)","v":0},{"$f":"IF(Head_division2=\"ผวก.\",ROUNDUP(SUMIF('E200'!A:A,A107,'E200'!E:E),-1),0)","v":0},{"$f":"IF(Head_division2=\"ผวก.\",ROUNDUP(SUMIF('E300'!A:A,A107,'E300'!J:J),-1),0)","v":0},{"$f":"SUM(I107:K107)","v":0},"เฉพาะ ผวก. เท่านั้น",0]
[null,null,"ค่าตอบแทน-คณะกรรมการ กฟภ. ",null,null,null,null,null,null,null,null,null,null,{"$f":"IF(SUM(N109:N112)>0,1,0)","v":0}]
[53012010,null,null,"ค่าเบี้ยประชุมคณะกรรมการ กฟภ.",null,{"$f":"IFERROR(VLOOKUP(A109,SAP!L:M,2,0),0)","v":0},{"$f":"IFERROR(VLOOKUP(A109,SAP!N:Q,4,0),0)","v":0},{"$f":"IFERROR(VLOOKUP(A109,SAP!R:S,2,0),0)","v":0},{"$f":"IFERROR(IF(HO=\"HO\",VLOOKUP(A109,'E120'!A:J,10,0),0),0)","v":0},{"$f":"IF(HO=\"HO\",ROUNDUP(SUMIF('E200'!A:A,A109,'E200'!E:E),-1),0)","v":0},{"$f":"IF(HO=\"HO\",ROUNDUP(SUMIF('E300'!A:A,A109,'E300'!J:J),-1),0)","v":0},{"$f":"SUM(I109:K109)","v":0},"เฉพาะ สนญ เท่านั้น",{"$f":"IF(SUM(F109:K109)>0,1,0)","v":0}]
[53012030,null,null,"เงินโบนัสคณะกรรมการ",null,{"$f":"IFERROR(VLOOKUP(A110,SAP!L:M,2,0),0)","v":0},{"$f":"IFERROR(VLOOKUP(A110,SAP!N:Q,4,0),0)","v":0},{"$f":"IFERROR(VLOOKUP(A110,SAP!R:S,2,0),0)","v":0},{"$f":"IFERROR(IF(Head_division2=\"ผวก.\",VLOOKUP(A110,'E120'!A:J,10,0),0),0)","v":0},{"$f":"IF(Head_division2=\"ผวก.\",ROUNDUP(SUMIF('E200'!A:A,A110,'E200'!E:E),-1),0)","v":0},{"$f":"IF(Head_division2=\"ผวก.\",ROUNDUP(SUMIF('E300'!A:A,A110,'E300'!J:J),-1),0)","v":0},{"$f":"SUM(I110:K110)","v":0},"เฉพาะ ผวก. เท่านั้น",0]
[53012040,null,null,"ค่าตอบแทนรายเดือนคณะกรรมการ กฟภ.",null,{"$f":"IFERROR(VLOOKUP(A111,SAP!L:M,2,0),0)","v":0},{"$f":"IFERROR(VLOOKUP(A111,SAP!N:Q,4,0),0)","v":0},{"$f":"IFERROR(VLOOKUP(A111,SAP!R:S,2,0),0)","v":0},{"$f":"IFERROR(IF(HO=\"HO\",VLOOKUP(A111,'E120'!A:J,10,0),0),0)","v":0},{"$f":"IF(HO=\"HO\",ROUNDUP(SUMIF('E200'!A:A,A111,'E200'!E:E),-1),0)","v":0},{"$f":"IF(HO=\"HO\",ROUNDUP(SUMIF('E300'!A:A,A111,'E300'!J:J),-1),0)","v":0},{"$f":"SUM(I111:K111)","v":0},"เฉพาะ สนญ เท่านั้น",0]
[53012990,null,null,"ค่าตอบแทนอื่น-คณะกรรมการ กฟภ.",null,{"$f":"IFERROR(VLOOKUP(A112,SAP!L:M,2,0),0)","v":0},{"$f":"IFERROR(VLOOKUP(A112,SAP!N:Q,4,0),0)","v":0},{"$f":"IFERROR(VLOOKUP(A112,SAP!R:S,2,0),0)","v":0},{"$f":"IFERROR(IF(HO=\"HO\",VLOOKUP(A112,'E120'!A:J,10,0),0),0)","v":0},{"$f":"IF(HO=\"HO\",ROUNDUP(SUMIF('E200'!A:A,A112,'E200'!E:E),-1),0)","v":0},{"$f":"IF(HO=\"HO\",ROUNDUP(SUMIF('E300'!A:A,A112,'E300'!J:J),-1),0)","v":0},{"$f":"SUM(I112:K112)","v":0},"เฉพาะ สนญ เท่านั้น",0]
[null,null,"ค่าตอบแทนอื่นๆ",null,null,null,null,null,null,null,null,null,null,{"$f":"IF(SUM(N114)>0,1,0)","v":1}]
[53019990,null,null,"ค่าตอบแทนอื่น ๆ",null,{"$f":"IFERROR(VLOOKUP(A114,SAP!L:M,2,0),0)","v":1500},{"$f":"IFERROR(VLOOKUP(A114,SAP!N:Q,4,0),0)","v":0},{"$f":"IFERROR(VLOOKUP(A114,SAP!R:S,2,0),0)","v":0},{"$f":"IFERROR(VLOOKUP(A114,'E120'!A:J,10,0),0)","v":0},{"$f":"ROUNDUP(SUMIF('E200'!A:A,A114,'E200'!E:E),-1)","v":0},{"$f":"ROUNDUP(SUMIF('E300'!A:A,A114,'E300'!J:J),-1)","v":0},{"$f":"SUM(I114:K114)","v":0},null,{"$f":"IF(SUM(F114:K114)>0,1,0)","v":1}]
[null,"ค่าโฆษณาประชาสัมพันธ์",null,null,null,null,null,null,null,null,null,null,null,{"$f":"IF(SUM(N116:N119)>0,1,0)","v":1}]
[null,null,"ค่าประชาสัมพันธ์ ",null,null,null,null,null,null,null,null,null,null,{"$f":"IF(SUM(N117:N119)>0,1,0)","v":1}]
[53021010,null,null,"ค่าป้ายประชาสัมพันธ์",null,{"$f":"IFERROR(VLOOKUP(A117,SAP!L:M,2,0),0)","v":39066.67},{"$f":"IFERROR(VLOOKUP(A117,SAP!N:Q,4,0),0)","v":59919.428571428572},{"$f":"IFERROR(VLOOKUP(A117,SAP!R:S,2,0),0)","v":0},{"$f":"IFERROR(VLOOKUP(A117,'E120'!A:J,10,0),0)","v":80000},{"$f":"'E230'!F27","v":0},{"$f":"ROUNDUP(SUMIF('E300'!A:A,A117,'E300'!J:J),-1)","v":0},{"$f":"SUM(I117:K117)","v":80000},null,{"$f":"IF(SUM(F117:K117)>0,1,0)","v":1}]
[53021020,null,null,"ค่าประชาสัมพันธ์อื่น",null,{"$f":"IFERROR(VLOOKUP(A118,SAP!L:M,2,0),0)","v":145289.26999999999},{"$f":"IFERROR(VLOOKUP(A118,SAP!N:Q,4,0),0)","v":142636.14857142855},{"$f":"IFERROR(VLOOKUP(A118,SAP!R:S,2,0),0)","v":0},{"$f":"IFERROR(VLOOKUP(A118,'E120'!A:J,10,0),0)","v":75000},{"$f":"'E230'!G27","v":0},{"$f":"ROUNDUP(SUMIF('E300'!A:A,A118,'E300'!J:J),-1)","v":0},{"$f":"SUM(I118:K118)","v":75000},null,{"$f":"IF(SUM(F118:K118)>0,1,0)","v":1}]
[53021030,null,null,"ค่าประชาสัมพันธ์ทางสื่อ",null,{"$f":"IFERROR(VLOOKUP(A119,SAP!L:M,2,0),0)","v":0},{"$f":"IFERROR(VLOOKUP(A119,SAP!N:Q,4,0),0)","v":36360},{"$f":"IFERROR(VLOOKUP(A119,SAP!R:S,2,0),0)","v":0},{"$f":"IFERROR(VLOOKUP(A119,'E120'!A:J,10,0),0)","v":20000},{"$f":"'E230'!H27","v":0},{"$f":"ROUNDUP(SUMIF('E300'!A:A,A119,'E300'!J:J),-1)","v":0},{"$f":"SUM(I119:K119)","v":20000},null,{"$f":"IF(SUM(F119:K119)>0,1,0)","v":1}]
[null,"ค่าใช้จ่ายเกี่ยวกับสำนักงาน ",null,null,null,null,null,null,null,null,null,null,null,{"$f":"IF(SUM(N121:N154)>0,1,0)","v":1}]
[null,null,"ค่าวัสดุใช้ไป ",null,null,null,null,null,null,null,null,null,null,{"$f":"IF(SUM(N122:N123)>0,1,0)","v":1}]
[53030010,null,null,"ค่าวัสดุสำนักงาน",null,{"$f":"IFERROR(VLOOKUP(A122,SAP!L:M,2,0),0)","v":894144.09},{"$f":"IFERROR(VLOOKUP(A122,SAP!N:Q,4,0),0)","v":933539.96571428573},{"$f":"IFERROR(VLOOKUP(A122,SAP!R:S,2,0),0)","v":0},{"$f":"IFERROR(VLOOKUP(A122,'E120'!A:J,10,0),0)","v":1149000},{"$f":"ROUNDUP(SUMIF('E200'!A:A,A122,'E200'!E:E),-1)","v":0},{"$f":"ROUNDUP(SUMIF('E300'!A:A,A122,'E300'!J:J),-1)","v":0},{"$f":"SUM(I122:K122)","v":1149000},null,{"$f":"IF(SUM(F122:K122)>0,1,0)","v":1}]
[53030030,null,null,"ค่าวัสดุเบ็ดเตล็ดในสำนักงาน",null,{"$f":"IFERROR(VLOOKUP(A123,SAP!L:M,2,0),0)","v":197570.46},{"$f":"IFERROR(VLOOKUP(A123,SAP!N:Q,4,0),0)","v":138823.4914285714},{"$f":"IFERROR(VLOOKUP(A123,SAP!R:S,2,0),0)","v":0},{"$f":"IFERROR(VLOOKUP(A123,'E120'!A:J,10,0),0)","v":252000},{"$f":"ROUNDUP(SUMIF('E200'!A:A,A123,'E200'!E:E),-1)","v":0},{"$f":"ROUNDUP(SUMIF('E300'!A:A,A123,'E300'!J:J),-1)","v":0},{"$f":"SUM(I123:K123)","v":252000},null,1]
[null,null,"ค่าสาธารณูปโภค ",null,null,null,null,null,null,null,null,null,null,{"$f":"IF(SUM(N125:N127)>0,1,0)","v":1}]
[53031010,null,null,"ค่าน้ำดื่ม",null,{"$f":"IFERROR(VLOOKUP(A125,SAP!L:M,2,0),0)","v":91630.92},{"$f":"IFERROR(VLOOKUP(A125,SAP!N:Q,4,0),0)","v":85865.52},{"$f":"IFERROR(VLOOKUP(A125,SAP!R:S,2,0),0)","v":0},{"$f":"IFERROR(VLOOKUP(A125,'E120'!A:J,10,0),0)","v":108000},{"$f":"ROUNDUP(SUMIF('E200'!A:A,A125,'E200'!E:E),-1)","v":0},{"$f":"ROUNDUP(SUMIF('E300'!A:A,A125,'E300'!J:J),-1)","v":0},{"$f":"SUM(I125:K125)","v":108000},null,{"$f":"IF(SUM(F125:K125)>0,1,0)","v":1}]
[53031020,null,null,"ค่าน้ำประปา",null,{"$f":"IFERROR(VLOOKUP(A126,SAP!L:M,2,0),0)","v":273038.75},{"$f":"IFERROR(VLOOKUP(A126,SAP!N:Q,4,0),0)","v":160403.57142857142},{"$f":"IFERROR(VLOOKUP(A126,SAP!R:S,2,0),0)","v":0},{"$f":"IFERROR(VLOOKUP(A126,'E120'!A:J,10,0),0)","v":188000},{"$f":"ROUNDUP(SUMIF('E200'!A:A,A126,'E200'!E:E),-1)","v":0},{"$f":"ROUNDUP(SUMIF('E300'!A:A,A126,'E300'!J:J),-1)","v":0},{"$f":"SUM(I126:K126)","v":188000},null,1]
[53031030,null,null,"ค่าไฟฟ้า",null,{"$f":"IFERROR(VLOOKUP(A127,SAP!L:M,2,0),0)","v":856874.47},{"$f":"IFERROR(VLOOKUP(A127,SAP!N:Q,4,0),0)","v":956828.94857142854},{"$f":"IFERROR(VLOOKUP(A127,SAP!R:S,2,0),0)","v":0},{"$f":"IFERROR(VLOOKUP(A127,'E120'!A:J,10,0),0)","v":1142000},{"$f":"ROUNDUP(SUMIF('E200'!A:A,A127,'E200'!E:E),-1)","v":0},{"$f":"ROUNDUP(SUMIF('E300'!A:A,A127,'E300'!J:J),-1)","v":0},{"$f":"SUM(I127:K127)","v":1142000},null,1]
[null,null,"ค่าใช้จ่ายในการติดต่อสื่อสาร ",null,null,null,null,null,null,null,null,null,null,{"$f":"IF(SUM(N129:N136)>0,1,0)","v":1}]
[53032010,null,null,"ค่าใช้บริการโทรศัพท์",null,{"$f":"IFERROR(VLOOKUP(A129,SAP!L:M,2,0),0)","v":10126.11},{"$f":"IFERROR(VLOOKUP(A129,SAP!N:Q,4,0),0)","v":7331.1428571428569},{"$f":"IFERROR(VLOOKUP(A129,SAP!R:S,2,0),0)","v":0},{"$f":"IFERROR(VLOOKUP(A129,'E120'!A:J,10,0),0)","v":83000},{"$f":"ROUNDUP(SUMIF('E200'!A:A,A129,'E200'!E:E),-1)","v":0},{"$f":"ROUNDUP(SUMIF('E300'!A:A,A129,'E300'!J:J),-1)","v":0},{"$f":"SUM(I129:K129)","v":83000},null,{"$f":"IF(SUM(F129:K129)>0,1,0)","v":1}]
[53032020,null,null,"ค่าบำรุงรักษาคู่สายโทรศัพท์",null,{"$f":"IFERROR(VLOOKUP(A130,SAP!L:M,2,0),0)","v":47464.09},{"$f":"IFERROR(VLOOKUP(A130,SAP!N:Q,4,0),0)","v":44211.428571428572},{"$f":"IFERROR(VLOOKUP(A130,SAP!R:S,2,0),0)","v":0},{"$f":"IFERROR(VLOOKUP(A130,'E120'!A:J,10,0),0)","v":45000},{"$f":"ROUNDUP(SUMIF('E200'!A:A,A130,'E200'!E:E),-1)","v":0},{"$f":"ROUNDUP(SUMIF('E300'!A:A,A130,'E300'!J:J),-1)","v":0},45000,null,1]
[53032030,null,null,"ค่าบริการโทรศัพท์เคลื่อนที่",null,{"$f":"IFERROR(VLOOKUP(A131,SAP!L:M,2,0),0)","v":0},{"$f":"IFERROR(VLOOKUP(A131,SAP!N:Q,4,0),0)","v":0},{"$f":"IFERROR(VLOOKUP(A131,SAP!R:S,2,0),0)","v":0},{"$f":"IFERROR(VLOOKUP(A131,'E120'!A:J,10,0),0)","v":0},{"$f":"ROUNDUP(SUMIF('E200'!A:A,A131,'E200'!E:E),-1)","v":0},{"$f":"ROUNDUP(SUMIF('E300'!A:A,A131,'E300'!J:J),-1)","v":0},0,null,0]
[53032050,null,null,"ค่าเช่าวงจรสื่อสาร",null,{"$f":"IFERROR(VLOOKUP(A132,SAP!L:M,2,0),0)","v":9880},{"$f":"IFERROR(VLOOKUP(A132,SAP!N:Q,4,0),0)","v":0},{"$f":"IFERROR(VLOOKUP(A132,SAP!R:S,2,0),0)","v":0},{"$f":"IFERROR(VLOOKUP(A132,'E120'!A:J,10,0),0)","v":5000},{"$f":"ROUNDUP(SUMIF('E200'!A:A,A132,'E200'!E:E),-1)","v":0},{"$f":"ROUNDUP(SUMIF('E300'!A:A,A132,'E300'!J:J),-1)","v":0},5000,null,1]
[53032060,null,null,"ค่าจัดส่งเอกสารและพัสดุภัณฑ์",null,{"$f":"IFERROR(VLOOKUP(A133,SAP!L:M,2,0),0)","v":127842},{"$f":"IFERROR(VLOOKUP(A133,SAP!N:Q,4,0),0)","v":81378.857142857145},{"$f":"IFERROR(VLOOKUP(A133,SAP!R:S,2,0),0)","v":0},{"$f":"IFERROR(VLOOKUP(A133,'E120'!A:J,10,0),0)","v":108500},{"$f":"ROUNDUP(SUMIF('E200'!A:A,A133,'E200'!E:E),-1)","v":0},{"$f":"ROUNDUP(SUMIF('E300'!A:A,A133,'E300'!J:J),-1)","v":0},108500,null,1]
[53032070,null,null,"ค่าติดตั้งอุปกรณ์สื่อสาร",null,{"$f":"IFERROR(VLOOKUP(A134,SAP!L:M,2,0),0)","v":0},{"$f":"IFERROR(VLOOKUP(A134,SAP!N:Q,4,0),0)","v":0},{"$f":"IFERROR(VLOOKUP(A134,SAP!R:S,2,0),0)","v":0},{"$f":"IFERROR(VLOOKUP(A134,'E120'!A:J,10,0),0)","v":0},{"$f":"ROUNDUP(SUMIF('E200'!A:A,A134,'E200'!E:E),-1)","v":0},{"$f":"ROUNDUP(SUMIF('E300'!A:A,A134,'E300'!J:J),-1)","v":0},0,null,0]
[53032080,null,null,"ค่าใช้จ่ายในการใช้อินเตอร์เน็ต",null,{"$f":"IFERROR(VLOOKUP(A135,SAP!L:M,2,0),0)","v":38767},{"$f":"IFERROR(VLOOKUP(A135,SAP!N:Q,4,0),0)","v":36510.857142857145},{"$f":"IFERROR(VLOOKUP(A135,SAP!R:S,2,0),0)","v":0},{"$f":"IFERROR(VLOOKUP(A135,'E120'!A:J,10,0),0)","v":36000},{"$f":"ROUNDUP(SUMIF('E200'!A:A,A135,'E200'!E:E),-1)","v":0},{"$f":"ROUNDUP(SUMIF('E300'!A:A,A135,'E300'!J:J),-1)","v":0},36000,null,1]
[53032990,null,null,"ค่าใช้จ่ายในการติดต่อสื่อสารประเภทอี่น",null,{"$f":"IFERROR(VLOOKUP(A136,SAP!L:M,2,0),0)","v":19950},{"$f":"IFERROR(VLOOKUP(A136,SAP!N:Q,4,0),0)","v":16416},{"$f":"IFERROR(VLOOKUP(A136,SAP!R:S,2,0),0)","v":0},{"$f":"IFERROR(VLOOKUP(A136,'E120'!A:J,10,0),0)","v":10500},{"$f":"ROUNDUP(SUMIF('E200'!A:A,A136,'E200'!E:E),-1)","v":0},{"$f":"ROUNDUP(SUMIF('E300'!A:A,A136,'E300'!J:J),-1)","v":0},10500,null,1]
[null,null,"ค่าเช่า ",null,null,null,null,null,null,null,null,null,null,{"$f":"IF(SUM(N138:N145)>0,1,0)","v":1}]
[53033010,null,null,"ค่าเช่าที่ดิน",null,{"$f":"IFERROR(VLOOKUP(A138,SAP!L:M,2,0),0)","v":73000},{"$f":"IFERROR(VLOOKUP(A138,SAP!N:Q,4,0),0)","v":41142.857142857145},{"$f":"IFERROR(VLOOKUP(A138,SAP!R:S,2,0),0)","v":0},{"$f":"IFERROR(VLOOKUP(A138,'E120'!A:J,10,0),0)","v":0},{"$f":"ROUNDUP(SUMIF('E200'!A:A,A138,'E200'!E:E),-1)","v":0},{"$f":"ROUNDUP(SUMIF('E300'!A:A,A138,'E300'!J:J),-1)","v":0},{"$f":"SUM(I138:K138)","v":0},null,{"$f":"IF(SUM(F138:K138)>0,1,0)","v":1}]
[53033020,null,null,"ค่าเช่าสิ่งปลูกสร้าง",null,{"$f":"IFERROR(VLOOKUP(A139,SAP!L:M,2,0),0)","v":0},{"$f":"IFERROR(VLOOKUP(A139,SAP!N:Q,4,0),0)","v":0},{"$f":"IFERROR(VLOOKUP(A139,SAP!R:S,2,0),0)","v":0},{"$f":"IFERROR(VLOOKUP(A139,'E120'!A:J,10,0),0)","v":0},{"$f":"ROUNDUP(SUMIF('E200'!A:A,A139,'E200'!E:E),-1)","v":0},{"$f":"ROUNDUP(SUMIF('E300'!A:A,A139,'E300'!J:J),-1)","v":0},0,null,0]
[53033030,null,null,"ค่าเช่าเครื่องคอมพิวเตอร์",null,{"$f":"IFERROR(VLOOKUP(A140,SAP!L:M,2,0),0)","v":0},{"$f":"IFERROR(VLOOKUP(A140,SAP!N:Q,4,0),0)","v":0},{"$f":"IFERROR(VLOOKUP(A140,SAP!R:S,2,0),0)","v":0},{"$f":"IFERROR(VLOOKUP(A140,'E120'!A:J,10,0),0)","v":0},{"$f":"ROUNDUP(SUMIF('E200'!A:A,A140,'E200'!E:E),-1)","v":0},{"$f":"ROUNDUP(SUMIF('E300'!A:A,A140,'E300'!J:J),-1)","v":0},0,null,0]
[53033040,null,null,"ค่าเช่าเครื่องถ่ายเอกสาร",null,{"$f":"IFERROR(VLOOKUP(A141,SAP!L:M,2,0),0)","v":0},{"$f":"IFERROR(VLOOKUP(A141,SAP!N:Q,4,0),0)","v":0},{"$f":"IFERROR(VLOOKUP(A141,SAP!R:S,2,0),0)","v":0},{"$f":"IFERROR(VLOOKUP(A141,'E120'!A:J,10,0),0)","v":0},{"$f":"ROUNDUP(SUMIF('E200'!A:A,A141,'E200'!E:E),-1)","v":0},{"$f":"ROUNDUP(SUMIF('E300'!A:A,A141,'E300'!J:J),-1)","v":0},0,null,0]
[53033050,null,null,"ค่าเช่ายานพาหนะ",null,{"$f":"IFERROR(VLOOKUP(A142,SAP!L:M,2,0),0)","v":0},{"$f":"IFERROR(VLOOKUP(A142,SAP!N:Q,4,0),0)","v":0},{"$f":"IFERROR(VLOOKUP(A142,SAP!R:S,2,0),0)","v":0},{"$f":"IFERROR(VLOOKUP(A142,'E120'!A:J,10,0),0)","v":0},{"$f":"ROUNDUP(SUMIF('E200'!A:A,A142,'E200'!E:E),-1)","v":0},{"$f":"ROUNDUP(SUMIF('E300'!A:A,A142,'E300'!J:J),-1)","v":0},0,null,0]
[53033060,null,null,"ค่าเช่าโปรแกรมสำเร็จรูป",null,{"$f":"IFERROR(VLOOKUP(A143,SAP!L:M,2,0),0)","v":0},{"$f":"IFERROR(VLOOKUP(A143,SAP!N:Q,4,0),0)","v":0},{"$f":"IFERROR(VLOOKUP(A143,SAP!R:S,2,0),0)","v":0},{"$f":"IFERROR(VLOOKUP(A143,'E120'!A:J,10,0),0)","v":0},{"$f":"ROUNDUP(SUMIF('E200'!A:A,A143,'E200'!E:E),-1)","v":0},{"$f":"ROUNDUP(SUMIF('E300'!A:A,A143,'E300'!J:J),-1)","v":0},0,null,0]
[53033070,null,null,"ค่าเช่าเครื่องบันทึกข้อมูลการเดินทางของรถ",null,{"$f":"IFERROR(VLOOKUP(A144,SAP!L:M,2,0),0)","v":5000},{"$f":"IFERROR(VLOOKUP(A144,SAP!N:Q,4,0),0)","v":6857.1428571428569},{"$f":"IFERROR(VLOOKUP(A144,SAP!R:S,2,0),0)","v":0},{"$f":"IFERROR(VLOOKUP(A144,'E120'!A:J,10,0),0)","v":6000},{"$f":"ROUNDUP(SUMIF('E200'!A:A,A144,'E200'!E:E),-1)","v":0},{"$f":"ROUNDUP(SUMIF('E300'!A:A,A144,'E300'!J:J),-1)","v":0},6000,null,1]
[53033990,null,null,"ค่าเช่าสินทรัพย์อื่นๆ ",null,{"$f":"IFERROR(VLOOKUP(A145,SAP!L:M,2,0),0)","v":0},{"$f":"IFERROR(VLOOKUP(A145,SAP!N:Q,4,0),0)","v":0},{"$f":"IFERROR(VLOOKUP(A145,SAP!R:S,2,0),0)","v":0},{"$f":"IFERROR(VLOOKUP(A145,'E120'!A:J,10,0),0)","v":0},{"$f":"ROUNDUP(SUMIF('E200'!A:A,A145,'E200'!E:E),-1)","v":0},{"$f":"ROUNDUP(SUMIF('E300'!A:A,A145,'E300'!J:J),-1)","v":0},0,null,0]
[null,null,"ค่าใช้จ่ายในการดูแลสถานที่ ",null,null,null,null,null,null,null,null,null,null,{"$f":"IF(SUM(N147:N150)>0,1,0)","v":1}]
[53034010,null,null,"ค่าจ้างเหมาทำความสะอาด",null,{"$f":"IFERROR(VLOOKUP(A147,SAP!L:M,2,0),0)","v":609956},{"$f":"IFERROR(VLOOKUP(A147,SAP!N:Q,4,0),0)","v":560547.42857142864},{"$f":"IFERROR(VLOOKUP(A147,SAP!R:S,2,0),0)","v":0},{"$f":"IFERROR(VLOOKUP(A147,'E120'!A:J,10,0),0)","v":719550},{"$f":"ROUNDUP(SUMIF('E200'!A:A,A147,'E200'!E:E),-1)","v":0},{"$f":"ROUNDUP(SUMIF('E300'!A:A,A147,'E300'!J:J),-1)","v":0},{"$f":"SUM(I147:K147)","v":719550},null,{"$f":"IF(SUM(F147:K147)>0,1,0)","v":1}]
[53034020,null,null,"ค่ารักษาความปลอดภัย",null,{"$f":"IFERROR(VLOOKUP(A148,SAP!L:M,2,0),0)","v":2378000},{"$f":"IFERROR(VLOOKUP(A148,SAP!N:Q,4,0),0)","v":2249142.8571428573},{"$f":"IFERROR(VLOOKUP(A148,SAP!R:S,2,0),0)","v":0},{"$f":"IFERROR(VLOOKUP(A148,'E120'!A:J,10,0),0)","v":2468000},{"$f":"ROUNDUP(SUMIF('E200'!A:A,A148,'E200'!E:E),-1)","v":0},{"$f":"ROUNDUP(SUMIF('E300'!A:A,A148,'E300'!J:J),-1)","v":0},{"$f":"SUM(I148:K148)","v":2468000},null,1]
[53034030,null,null,"ค่าจ้างบำรุงรักษาสวน",null,{"$f":"IFERROR(VLOOKUP(A149,SAP!L:M,2,0),0)","v":16285},{"$f":"IFERROR(VLOOKUP(A149,SAP!N:Q,4,0),0)","v":14571.428571428571},{"$f":"IFERROR(VLOOKUP(A149,SAP!R:S,2,0),0)","v":0},{"$f":"IFERROR(VLOOKUP(A149,'E120'!A:J,10,0),0)","v":64000},{"$f":"ROUNDUP(SUMIF('E200'!A:A,A149,'E200'!E:E),-1)","v":0},{"$f":"ROUNDUP(SUMIF('E300'!A:A,A149,'E300'!J:J),-1)","v":0},{"$f":"SUM(I149:K149)","v":64000},null,1]
[53034040,null,null,"ค่าบำรุงรักษาบริเวณสำนักงาน",null,{"$f":"IFERROR(VLOOKUP(A150,SAP!L:M,2,0),0)","v":143853.01},{"$f":"IFERROR(VLOOKUP(A150,SAP!N:Q,4,0),0)","v":207305.91428571427},{"$f":"IFERROR(VLOOKUP(A150,SAP!R:S,2,0),0)","v":0},{"$f":"IFERROR(VLOOKUP(A150,'E120'!A:J,10,0),0)","v":220000},{"$f":"ROUNDUP(SUMIF('E200'!A:A,A150,'E200'!E:E),-1)","v":0},{"$f":"ROUNDUP(SUMIF('E300'!A:A,A150,'E300'!J:J),-1)","v":0},{"$f":"SUM(I150:K150)","v":220000},null,1]
[null,null,"ค่าใช้จ่ายอื่นเกี่ยวกับสำนักงาน ",null,null,null,null,null,null,null,null,null,null,{"$f":"IF(SUM(N152:N154)>0,1,0)","v":1}]
[53039010,null,null,"ค่าเชื้อเพลิงยานพาหนะ",null,{"$f":"IFERROR(VLOOKUP(A152,SAP!L:M,2,0),0)","v":3846217.63},{"$f":"IFERROR(VLOOKUP(A152,SAP!N:Q,4,0),0)","v":4483224.2571428567},{"$f":"IFERROR(VLOOKUP(A152,SAP!R:S,2,0),0)","v":0},{"$f":"IFERROR(VLOOKUP(A152,'E120'!A:J,10,0),0)","v":7035000},{"$f":"ROUNDUP(SUMIF('E200'!A:A,A152,'E200'!E:E),-1)","v":0},{"$f":"ROUNDUP(SUMIF('E300'!A:A,A152,'E300'!J:J),-1)","v":0},{"$f":"SUM(I152:K152)","v":7035000},null,{"$f":"IF(SUM(F152:K152)>0,1,0)","v":1}]
[53039020,null,null,"ค่าหนังสือและสื่อความรู้",null,{"$f":"IFERROR(VLOOKUP(A153,SAP!L:M,2,0),0)","v":7580},{"$f":"IFERROR(VLOOKUP(A153,SAP!N:Q,4,0),0)","v":0},{"$f":"IFERROR(VLOOKUP(A153,SAP!R:S,2,0),0)","v":0},{"$f":"IFERROR(VLOOKUP(A153,'E120'!A:J,10,0),0)","v":11000},{"$f":"ROUNDUP(SUMIF('E200'!A:A,A153,'E200'!E:E),-1)","v":0},{"$f":"ROUNDUP(SUMIF('E300'!A:A,A153,'E300'!J:J),-1)","v":0},{"$f":"SUM(I153:K153)","v":11000},null,1]
[53039990,null,null,"ค่าใช้จ่ายเบ็ดเตล็ด",null,{"$f":"IFERROR(VLOOKUP(A154,SAP!L:M,2,0),0)","v":135913.54},{"$f":"IFERROR(VLOOKUP(A154,SAP!N:Q,4,0),0)","v":60377.674285714282},{"$f":"IFERROR(VLOOKUP(A154,SAP!R:S,2,0),0)","v":0},{"$f":"IFERROR(VLOOKUP(A154,'E120'!A:J,10,0),0)","v":100000},{"$f":"ROUNDUP(SUMIF('E200'!A:A,A154,'E200'!E:E),-1)","v":0},{"$f":"ROUNDUP(SUMIF('E300'!A:A,A154,'E300'!J:J),-1)","v":0},{"$f":"SUM(I154:K154)","v":100000},null,1]
[null,"ค่าใช้จ่ายเพื่อการวิจัย",null,null,null,null,null,null,null,null,null,null,null,{"$f":"IF(SUM(N156:N157)>0,1,0)","v":0}]
[53040010,null,null,"ค่าใช้จ่ายในการวิจัย",null,{"$f":"IFERROR(VLOOKUP(A156,SAP!L:M,2,0),0)","v":0},{"$f":"IFERROR(VLOOKUP(A156,SAP!N:Q,4,0),0)","v":0},{"$f":"IFERROR(VLOOKUP(A156,SAP!R:S,2,0),0)","v":0},{"$f":"IFERROR(VLOOKUP(A156,'E120'!A:J,10,0),0)","v":0},{"$f":"'E250'!I26","v":0},{"$f":"ROUNDUP(SUMIF('E300'!A:A,A156,'E300'!J:J),-1)","v":0},{"$f":"SUM(I156:K156)","v":0},null,{"$f":"IF(SUM(F156:K156)>0,1,0)","v":0}]
[53040020,null,null,"ค่าใช้จ่ายที่ได้รับสนับสนุนจากหน่วยงานภายนอก",null,{"$f":"IFERROR(VLOOKUP(A157,SAP!L:M,2,0),0)","v":0},{"$f":"IFERROR(VLOOKUP(A157,SAP!N:Q,4,0),0)","v":0},{"$f":"IFERROR(VLOOKUP(A157,SAP!R:S,2,0),0)","v":0},{"$f":"IFERROR(VLOOKUP(A157,'E120'!A:J,10,0),0)","v":0},{"$f":"ROUNDUP(SUMIF('E200'!A:A,A157,'E200'!E:E),-1)","v":0},{"$f":"ROUNDUP(SUMIF('E300'!A:A,A157,'E300'!J:J),-1)","v":0},{"$f":"SUM(I157:K157)","v":0},null,{"$f":"IF(SUM(F157:K157)>0,1,0)","v":0}]
[null,"ค่าป้องกัน ซ่อมแซมบำรุงรักษา และก่อสร้าง ",null,null,null,null,null,null,null,null,null,null,null,{"$f":"IF(SUM(N159:N185)>0,1,0)","v":1}]
[53050010,null,null,"ค่าป้องกันระบบไฟฟ้าและระบบควบคุม",null,{"$f":"IFERROR(VLOOKUP(A159,SAP!L:M,2,0),0)","v":1201085},{"$f":"IFERROR(VLOOKUP(A159,SAP!N:Q,4,0),0)","v":1924174.2857142857},{"$f":"IFERROR(VLOOKUP(A159,SAP!R:S,2,0),0)","v":0},{"$f":"IFERROR(VLOOKUP(A159,'E120'!A:J,10,0),0)","v":0},{"$f":"ROUNDUP(SUMIF('E200'!A:A,A159,'E200'!E:E),-1)","v":0},{"$f":"ROUNDUP(SUMIF('E300'!A:A,A159,'E300'!J:J),-1)","v":0},{"$f":"SUM(I159:K159)","v":0},null,{"$f":"IF(SUM(F159:K159)>0,1,0)","v":1}]
[53050020,null,null,"ค่าจ้างเหมาตัดต้นไม้",null,{"$f":"IFERROR(VLOOKUP(A160,SAP!L:M,2,0),0)","v":6882369.2999999998},{"$f":"IFERROR(VLOOKUP(A160,SAP!N:Q,4,0),0)","v":6063603},{"$f":"IFERROR(VLOOKUP(A160,SAP!R:S,2,0),0)","v":0},{"$f":"IFERROR(VLOOKUP(A160,'E120'!A:J,10,0),0)","v":0},{"$f":"ROUNDUP(SUMIF('E200'!A:A,A160,'E200'!E:E),-1)","v":0},{"$f":"ROUNDUP(SUMIF('E300'!A:A,A160,'E300'!J:J),-1)","v":0},{"$f":"SUM(I160:K160)","v":0},null,{"$f":"IF(SUM(F160:K160)>0,1,0)","v":1}]
[null,null,"ค่าซ่อมแซมบำรุงรักษา ",null,null,null,null,null,null,null,null,null,null,{"$f":"IF(SUM(N162:N176)>0,1,0)","v":1}]
[53051010,null,null,"ค่าวัสดุเบิกจากคลังเพื่อซ่อมแซม บำรุงรักษาและบริการ",null,{"$f":"IFERROR(VLOOKUP(A162,SAP!L:M,2,0),0)","v":3805580.46},{"$f":"IFERROR(VLOOKUP(A162,SAP!N:Q,4,0),0)","v":4858388.6742857145},{"$f":"IFERROR(VLOOKUP(A162,SAP!R:S,2,0),0)","v":0},{"$f":"IFERROR(VLOOKUP(A162,'E120'!A:J,10,0),0)","v":1000000},{"$f":"ROUNDUP(SUMIF('E200'!A:A,A162,'E200'!E:E),-1)","v":0},{"$f":"ROUNDUP(SUMIF('E300'!A:A,A162,'E300'!J:J),-1)","v":0},{"$f":"SUM(I162:K162)","v":1000000},null,{"$f":"IF(SUM(F162:K162)>0,1,0)","v":1}]
[53051020,null,null,"ค่าวัสดุเบิกจากคลังเพื่อเปลี่ยนแทนและก่อสร้าง",null,{"$f":"IFERROR(VLOOKUP(A163,SAP!L:M,2,0),0)","v":0},{"$f":"IFERROR(VLOOKUP(A163,SAP!N:Q,4,0),0)","v":0},{"$f":"IFERROR(VLOOKUP(A163,SAP!R:S,2,0),0)","v":0},0,0,0,{"$f":"SUM(I163:K163)","v":0},"ไม่ต้องตั้งงบประมาณ",0]
[53051030,null,null,"ค่าซ่อมแซมบำรุงรักษา-ระบบไฟฟ้าและระบบควบคุม",null,{"$f":"IFERROR(VLOOKUP(A164,SAP!L:M,2,0),0)","v":392320},{"$f":"IFERROR(VLOOKUP(A164,SAP!N:Q,4,0),0)","v":0},{"$f":"IFERROR(VLOOKUP(A164,SAP!R:S,2,0),0)","v":0},{"$f":"IFERROR(VLOOKUP(A164,'E120'!A:J,10,0),0)","v":105000},{"$f":"ROUNDUP(SUMIF('E200'!A:A,A164,'E200'!E:E),-1)","v":0},{"$f":"ROUNDUP(SUMIF('E300'!A:A,A164,'E300'!J:J),-1)","v":0},105000,null,1]
[53051040,null,null,"ค่าซ่อมแซมบำรุงรักษา-อาคาร",null,{"$f":"IFERROR(VLOOKUP(A165,SAP!L:M,2,0),0)","v":149586.45000000001},{"$f":"IFERROR(VLOOKUP(A165,SAP!N:Q,4,0),0)","v":311682.85714285716},{"$f":"IFERROR(VLOOKUP(A165,SAP!R:S,2,0),0)","v":0},{"$f":"IFERROR(VLOOKUP(A165,'E120'!A:J,10,0),0)","v":320000},{"$f":"ROUNDUP(SUMIF('E200'!A:A,A165,'E200'!E:E),-1)","v":0},{"$f":"ROUNDUP(SUMIF('E300'!A:A,A165,'E300'!J:J),-1)","v":0},320000,null,1]
[53051050,null,null,"ค่าซ่อมแซมบำรุงรักษา-ยานพาหนะ",null,{"$f":"IFERROR(VLOOKUP(A166,SAP!L:M,2,0),0)","v":1883396.61},{"$f":"IFERROR(VLOOKUP(A166,SAP!N:Q,4,0),0)","v":1093366.7485714285},{"$f":"IFERROR(VLOOKUP(A166,SAP!R:S,2,0),0)","v":0},{"$f":"IFERROR(VLOOKUP(A166,'E120'!A:J,10,0),0)","v":1748000},{"$f":"ROUNDUP(SUMIF('E200'!A:A,A166,'E200'!E:E),-1)","v":0},{"$f":"ROUNDUP(SUMIF('E300'!A:A,A166,'E300'!J:J),-1)","v":0},1748000,null,1]
[53051060,null,null,"ค่าซ่อมแซมบำรุงรักษา-คอมฯ&อุปกรณ์ต่อพ่วง",null,{"$f":"IFERROR(VLOOKUP(A167,SAP!L:M,2,0),0)","v":7965.1},{"$f":"IFERROR(VLOOKUP(A167,SAP!N:Q,4,0),0)","v":2239.4571428571426},{"$f":"IFERROR(VLOOKUP(A167,SAP!R:S,2,0),0)","v":0},{"$f":"IFERROR(VLOOKUP(A167,'E120'!A:J,10,0),0)","v":133920},{"$f":"ROUNDUP(SUMIF('E200'!A:A,A167,'E200'!E:E),-1)","v":0},{"$f":"ROUNDUP(SUMIF('E300'!A:A,A167,'E300'!J:J),-1)","v":0},133920,null,1]
[53051070,null,null,"ค่าปรับปรุงระบบจำหน่ายที่พระตำหนัก",null,{"$f":"IFERROR(VLOOKUP(A168,SAP!L:M,2,0),0)","v":0},{"$f":"IFERROR(VLOOKUP(A168,SAP!N:Q,4,0),0)","v":0},{"$f":"IFERROR(VLOOKUP(A168,SAP!R:S,2,0),0)","v":0},{"$f":"IFERROR(VLOOKUP(A168,'E120'!A:J,10,0),0)","v":0},{"$f":"ROUNDUP(SUMIF('E200'!A:A,A168,'E200'!E:E),-1)","v":0},{"$f":"ROUNDUP(SUMIF('E300'!A:A,A168,'E300'!J:J),-1)","v":0},0,null,0]
[53051080,null,null,"ค่าวัสดุซื้อตรงเข้างานก่อสร้าง",null,{"$f":"IFERROR(VLOOKUP(A169,SAP!L:M,2,0),0)","v":0},{"$f":"IFERROR(VLOOKUP(A169,SAP!N:Q,4,0),0)","v":0},{"$f":"IFERROR(VLOOKUP(A169,SAP!R:S,2,0),0)","v":0},0,0,0,{"$f":"SUM(I169:K169)","v":0},"ไม่ต้องตั้งงบประมาณ",0]
[53051090,null,null,"ค่าวัสดุเบ็ดเตล็ดด้านช่าง",null,{"$f":"IFERROR(VLOOKUP(A170,SAP!L:M,2,0),0)","v":189997.09},{"$f":"IFERROR(VLOOKUP(A170,SAP!N:Q,4,0),0)","v":91251.188571428575},{"$f":"IFERROR(VLOOKUP(A170,SAP!R:S,2,0),0)","v":0},{"$f":"IFERROR(VLOOKUP(A170,'E120'!A:J,10,0),0)","v":250000},{"$f":"ROUNDUP(SUMIF('E200'!A:A,A170,'E200'!E:E),-1)","v":0},{"$f":"ROUNDUP(SUMIF('E300'!A:A,A170,'E300'!J:J),-1)","v":0},250000,null,1]
[53051100,null,null,"ค่าซ่อมแซมบำรุงรักษา-อุปกรณ์ในสำนักงาน",null,{"$f":"IFERROR(VLOOKUP(A171,SAP!L:M,2,0),0)","v":296754.71999999997},{"$f":"IFERROR(VLOOKUP(A171,SAP!N:Q,4,0),0)","v":84344.297142857133},{"$f":"IFERROR(VLOOKUP(A171,SAP!R:S,2,0),0)","v":0},{"$f":"IFERROR(VLOOKUP(A171,'E120'!A:J,10,0),0)","v":297000},{"$f":"ROUNDUP(SUMIF('E200'!A:A,A171,'E200'!E:E),-1)","v":0},{"$f":"ROUNDUP(SUMIF('E300'!A:A,A171,'E300'!J:J),-1)","v":0},297000,null,1]
[53051110,null,null,"ค่าซ่อมแซมบำรุงรักษา-ระบบสื่อสารเคเบิลใยแก้วนำแสง",null,{"$f":"IFERROR(VLOOKUP(A172,SAP!L:M,2,0),0)","v":0},{"$f":"IFERROR(VLOOKUP(A172,SAP!N:Q,4,0),0)","v":0},{"$f":"IFERROR(VLOOKUP(A172,SAP!R:S,2,0),0)","v":0},{"$f":"IFERROR(VLOOKUP(A172,'E120'!A:J,10,0),0)","v":0},{"$f":"ROUNDUP(SUMIF('E200'!A:A,A172,'E200'!E:E),-1)","v":0},{"$f":"ROUNDUP(SUMIF('E300'!A:A,A172,'E300'!J:J),-1)","v":0},0,null,0]
[53051120,null,null,"ค่าอุปกรณ์ความปลอดภัย ",null,{"$f":"IFERROR(VLOOKUP(A173,SAP!L:M,2,0),0)","v":0},{"$f":"IFERROR(VLOOKUP(A173,SAP!N:Q,4,0),0)","v":0},{"$f":"IFERROR(VLOOKUP(A173,SAP!R:S,2,0),0)","v":0},{"$f":"IFERROR(VLOOKUP(A173,'E120'!A:J,10,0),0)","v":1300820},{"$f":"ROUNDUP(SUMIF('E200'!A:A,A173,'E200'!E:E),-1)","v":0},{"$f":"ROUNDUP(SUMIF('E300'!A:A,A173,'E300'!J:J),-1)","v":0},1300820,null,1]
[53051510,null,null,"ค่ามิเตอร์เบิกจากคลังเพื่อติดตั้งหรือเปลี่ยนแทน",null,{"$f":"IFERROR(VLOOKUP(A174,SAP!L:M,2,0),0)","v":0},{"$f":"IFERROR(VLOOKUP(A174,SAP!N:Q,4,0),0)","v":0},{"$f":"IFERROR(VLOOKUP(A174,SAP!R:S,2,0),0)","v":0},0,0,0,{"$f":"SUM(I174:K174)","v":0},"ไม่ต้องตั้งงบประมาณ",0]
[53051520,null,null,"ค่าอุปกรณ์ ปก.มต. เบิกคลังเพื่อติดตั้งหรือเปลี่ยนแทน",null,{"$f":"IFERROR(VLOOKUP(A175,SAP!L:M,2,0),0)","v":0},{"$f":"IFERROR(VLOOKUP(A175,SAP!N:Q,4,0),0)","v":0},{"$f":"IFERROR(VLOOKUP(A175,SAP!R:S,2,0),0)","v":0},0,0,0,0,"ไม่ต้องตั้งงบประมาณ",0]
[53051990,null,null,"ค่าซ่อมแซมบำรุงรักษาอื่น ๆ",null,{"$f":"IFERROR(VLOOKUP(A176,SAP!L:M,2,0),0)","v":126386.22},{"$f":"IFERROR(VLOOKUP(A176,SAP!N:Q,4,0),0)","v":349466.05714285717},{"$f":"IFERROR(VLOOKUP(A176,SAP!R:S,2,0),0)","v":0},{"$f":"IFERROR(VLOOKUP(A176,'E120'!A:J,10,0),0)","v":300000},{"$f":"ROUNDUP(SUMIF('E200'!A:A,A176,'E200'!E:E),-1)","v":0},{"$f":"ROUNDUP(SUMIF('E300'!A:A,A176,'E300'!J:J),-1)","v":0},300000,null,1]
[null,null,"ค่าใช้จ่ายในการก่อสร้าง ",null,null,null,null,null,null,null,null,null,null,{"$f":"IF(SUM(N178:N185)>0,1,0)","v":0}]
[53052010,null,null,"ค่าสินทรัพย์พร้อมใช้ตั้งพัก",null,{"$f":"IFERROR(VLOOKUP(A178,SAP!L:M,2,0),0)","v":0},{"$f":"IFERROR(VLOOKUP(A178,SAP!N:Q,4,0),0)","v":0},{"$f":"IFERROR(VLOOKUP(A178,SAP!R:S,2,0),0)","v":0},0,0,0,{"$f":"SUM(I178:K178)","v":0},"ไม่ต้องตั้งงบประมาณ",{"$f":"IF(SUM(F178:K178)>0,1,0)","v":0}]
[53052020,null,null,"ค่าจ้างเหมา Turn Key",null,{"$f":"IFERROR(VLOOKUP(A179,SAP!L:M,2,0),0)","v":0},{"$f":"IFERROR(VLOOKUP(A179,SAP!N:Q,4,0),0)","v":0},{"$f":"IFERROR(VLOOKUP(A179,SAP!R:S,2,0),0)","v":0},0,0,0,0,"ไม่ต้องตั้งงบประมาณ",0]
[53052030,null,null,"ค่าใช้จ่ายดำเนินการในงานก่อสร้าง",null,{"$f":"IFERROR(VLOOKUP(A180,SAP!L:M,2,0),0)","v":0},{"$f":"IFERROR(VLOOKUP(A180,SAP!N:Q,4,0),0)","v":0},{"$f":"IFERROR(VLOOKUP(A180,SAP!R:S,2,0),0)","v":0},{"$f":"IFERROR(VLOOKUP(A180,'E120'!A:J,10,0),0)","v":0},{"$f":"ROUNDUP(SUMIF('E200'!A:A,A180,'E200'!E:E),-1)","v":0},{"$f":"ROUNDUP(SUMIF('E300'!A:A,A180,'E300'!J:J),-1)","v":0},{"$f":"SUM(I180:K180)","v":0},null,0]
[53052040,null,null,"ค่าควบคุมงานก่อสร้าง",null,{"$f":"IFERROR(VLOOKUP(A181,SAP!L:M,2,0),0)","v":0},{"$f":"IFERROR(VLOOKUP(A181,SAP!N:Q,4,0),0)","v":0},{"$f":"IFERROR(VLOOKUP(A181,SAP!R:S,2,0),0)","v":0},0,0,0,{"$f":"SUM(I181:K181)","v":0},"ไม่ต้องตั้งงบประมาณ",0]
[53052050,null,null,"ค่าใช้จ่ายประสานงานโครงการ",null,{"$f":"IFERROR(VLOOKUP(A182,SAP!L:M,2,0),0)","v":0},{"$f":"IFERROR(VLOOKUP(A182,SAP!N:Q,4,0),0)","v":0},{"$f":"IFERROR(VLOOKUP(A182,SAP!R:S,2,0),0)","v":0},0,0,0,0,"ไม่ต้องตั้งงบประมาณ",0]
[53052060,null,null,"ค่าจ้างเหมางานบริการ",null,{"$f":"IFERROR(VLOOKUP(A183,SAP!L:M,2,0),0)","v":0},{"$f":"IFERROR(VLOOKUP(A183,SAP!N:Q,4,0),0)","v":0},{"$f":"IFERROR(VLOOKUP(A183,SAP!R:S,2,0),0)","v":0},0,0,0,0,"ไม่ต้องตั้งงบประมาณ",0]
[53052070,null,null,"ค่าสิทธิการใช้ตั้งพัก",null,{"$f":"IFERROR(VLOOKUP(A184,SAP!L:M,2,0),0)","v":0},{"$f":"IFERROR(VLOOKUP(A184,SAP!N:Q,4,0),0)","v":0},{"$f":"IFERROR(VLOOKUP(A184,SAP!R:S,2,0),0)","v":0},0,0,0,0,"ไม่ต้องตั้งงบประมาณ",0]
[53052080,null,null,"ค่าจัดการพลังงาน ",null,{"$f":"IFERROR(VLOOKUP(A185,SAP!L:M,2,0),0)","v":0},{"$f":"IFERROR(VLOOKUP(A185,SAP!N:Q,4,0),0)","v":0},{"$f":"IFERROR(VLOOKUP(A185,SAP!R:S,2,0),0)","v":0},{"$f":"IFERROR(VLOOKUP(A185,'E120'!A:J,10,0),0)","v":0},{"$f":"ROUNDUP(SUMIF('E200'!A:A,A185,'E200'!E:E),-1)","v":0},{"$f":"ROUNDUP(SUMIF('E300'!A:A,A185,'E300'!J:J),-1)","v":0},{"$f":"SUM(I185:K185)","v":0},null,0]
[null,"ค่าใช้จ่ายอื่นในการดำเนินงาน",null,null,null,null,null,null,null,null,null,null,null,{"$f":"IF(SUM(N187:N239)>0,1,0)","v":1}]
[null,null,"หนี้สูญ หนี้สงสัยจะสูญ",null,null,null,null,null,null,null,null,null,null,{"$f":"IF(SUM(N188:N189)>0,1,0)","v":1}]
[53060010,null,null,"หนี้สูญ - ทางบัญชี",null,{"$f":"IFERROR(VLOOKUP(A188,SAP!L:M,2,0),0)","v":3668.11},{"$f":"IFERROR(VLOOKUP(A188,SAP!N:Q,4,0),0)","v":25549.32},{"$f":"IFERROR(VLOOKUP(A188,SAP!R:S,2,0),0)","v":0},0,0,0,{"$f":"SUM(I188:K188)","v":0},"ไม่ต้องตั้งงบประมาณ",{"$f":"IF(SUM(F188:K188)>0,1,0)","v":1}]
[53060020,null,null,"ผลขาดทุนด้านเครดิตที่คาดว่าจะเกิดขึ้น",null,{"$f":"IFERROR(VLOOKUP(A189,SAP!L:M,2,0),0)","v":-1687229.61},{"$f":"IFERROR(VLOOKUP(A189,SAP!N:Q,4,0),0)","v":10623190.165714286},{"$f":"IFERROR(VLOOKUP(A189,SAP!R:S,2,0),0)","v":0},0,0,0,0,"ไม่ต้องตั้งงบประมาณ",1]
[null,null,"ค่าจ้างที่ปรึกษาและค่าบริการจัดการ",null,null,null,null,null,null,null,null,null,null,{"$f":"IF(SUM(N191:N196)>0,1,0)","v":0}]
[53061010,null,null,"ค่าสอบบัญชี",null,{"$f":"IFERROR(VLOOKUP(A191,SAP!L:M,2,0),0)","v":0},{"$f":"IFERROR(VLOOKUP(A191,SAP!N:Q,4,0),0)","v":0},{"$f":"IFERROR(VLOOKUP(A191,SAP!R:S,2,0),0)","v":0},{"$f":"IFERROR(VLOOKUP(A191,'E120'!A:J,10,0),0)","v":0},{"$f":"ROUNDUP(SUMIF('E200'!A:A,A191,'E200'!E:E),-1)","v":0},{"$f":"ROUNDUP(SUMIF('E300'!A:A,A191,'E300'!J:J),-1)","v":0},{"$f":"SUM(I191:K191)","v":0},null,{"$f":"IF(SUM(F191:K191)>0,1,0)","v":0}]
[53061020,null,null,"ค่าที่ปรึกษา-ด้านบัญชี การเงิน",null,{"$f":"IFERROR(VLOOKUP(A192,SAP!L:M,2,0),0)","v":0},{"$f":"IFERROR(VLOOKUP(A192,SAP!N:Q,4,0),0)","v":0},{"$f":"IFERROR(VLOOKUP(A192,SAP!R:S,2,0),0)","v":0},{"$f":"IFERROR(VLOOKUP(A192,'E120'!A:J,10,0),0)","v":0},{"$f":"'E250'!J26","v":0},{"$f":"ROUNDUP(SUMIF('E300'!A:A,A192,'E300'!J:J),-1)","v":0},{"$f":"SUM(I192:K192)","v":0},null,{"$f":"IF(SUM(F192:K192)>0,1,0)","v":0}]
[53061030,null,null,"ค่าที่ปรึกษา-ด้านกฏหมาย",null,{"$f":"IFERROR(VLOOKUP(A193,SAP!L:M,2,0),0)","v":0},{"$f":"IFERROR(VLOOKUP(A193,SAP!N:Q,4,0),0)","v":0},{"$f":"IFERROR(VLOOKUP(A193,SAP!R:S,2,0),0)","v":0},{"$f":"IFERROR(VLOOKUP(A193,'E120'!A:J,10,0),0)","v":0},{"$f":"'E250'!K26","v":0},{"$f":"ROUNDUP(SUMIF('E300'!A:A,A193,'E300'!J:J),-1)","v":0},{"$f":"SUM(I193:K193)","v":0},null,{"$f":"IF(SUM(F193:K193)>0,1,0)","v":0}]
[53061040,null,null,"ค่าที่ปรึกษา-ด้านวิศวกรรม",null,{"$f":"IFERROR(VLOOKUP(A194,SAP!L:M,2,0),0)","v":0},{"$f":"IFERROR(VLOOKUP(A194,SAP!N:Q,4,0),0)","v":0},{"$f":"IFERROR(VLOOKUP(A194,SAP!R:S,2,0),0)","v":0},{"$f":"IFERROR(VLOOKUP(A194,'E120'!A:J,10,0),0)","v":0},{"$f":"'E250'!L26","v":0},{"$f":"ROUNDUP(SUMIF('E300'!A:A,A194,'E300'!J:J),-1)","v":0},{"$f":"SUM(I194:K194)","v":0},null,{"$f":"IF(SUM(F194:K194)>0,1,0)","v":0}]
[53061050,null,null,"ค่าที่ปรึกษา-ด้านการพัฒนาระบบสารสนเทศ",null,{"$f":"IFERROR(VLOOKUP(A195,SAP!L:M,2,0),0)","v":0},{"$f":"IFERROR(VLOOKUP(A195,SAP!N:Q,4,0),0)","v":0},{"$f":"IFERROR(VLOOKUP(A195,SAP!R:S,2,0),0)","v":0},{"$f":"IFERROR(VLOOKUP(A195,'E120'!A:J,10,0),0)","v":0},{"$f":"'E250'!M26","v":0},{"$f":"ROUNDUP(SUMIF('E300'!A:A,A195,'E300'!J:J),-1)","v":0},{"$f":"SUM(I195:K195)","v":0},null,{"$f":"IF(SUM(F195:K195)>0,1,0)","v":0}]
[53061090,null,null,"ค่าที่ปรึกษา-ด้านอื่นๆ",null,{"$f":"IFERROR(VLOOKUP(A196,SAP!L:M,2,0),0)","v":0},{"$f":"IFERROR(VLOOKUP(A196,SAP!N:Q,4,0),0)","v":0},{"$f":"IFERROR(VLOOKUP(A196,SAP!R:S,2,0),0)","v":0},{"$f":"IFERROR(VLOOKUP(A196,'E120'!A:J,10,0),0)","v":0},{"$f":"'E250'!N26","v":0},{"$f":"ROUNDUP(SUMIF('E300'!A:A,A196,'E300'!J:J),-1)","v":0},{"$f":"SUM(I196:K196)","v":0},null,{"$f":"IF(SUM(F196:K196)>0,1,0)","v":0}]
[null,null,"ค่าเบี้ยประกัน ",null,null,null,null,null,null,null,null,null,null,{"$f":"IF(SUM(N198:N202)>0,1,0)","v":1}]
[53062010,null,null,"ค่าเบี้ยประกัน-พนักงาน",null,{"$f":"IFERROR(VLOOKUP(A198,SAP!L:M,2,0),0)","v":0},{"$f":"IFERROR(VLOOKUP(A198,SAP!N:Q,4,0),0)","v":0},{"$f":"IFERROR(VLOOKUP(A198,SAP!R:S,2,0),0)","v":0},{"$f":"IFERROR(VLOOKUP(A198,'E120'!A:J,10,0),0)","v":0},{"$f":"ROUNDUP(SUMIF('E200'!A:A,A198,'E200'!E:E),-1)","v":0},{"$f":"ROUNDUP(SUMIF('E300'!A:A,A198,'E300'!J:J),-1)","v":0},{"$f":"SUM(I198:K198)","v":0},null,{"$f":"IF(SUM(F198:K198)>0,1,0)","v":0}]
[53062020,null,null,"ค่าเบี้ยประกัน-ยานพาหนะ",null,{"$f":"IFERROR(VLOOKUP(A199,SAP!L:M,2,0),0)","v":144147.47},{"$f":"IFERROR(VLOOKUP(A199,SAP!N:Q,4,0),0)","v":95459.451428571425},{"$f":"IFERROR(VLOOKUP(A199,SAP!R:S,2,0),0)","v":0},{"$f":"IFERROR(VLOOKUP(A199,'E120'!A:J,10,0),0)","v":192000},{"$f":"ROUNDUP(SUMIF('E200'!A:A,A199,'E200'!E:E),-1)","v":0},{"$f":"ROUNDUP(SUMIF('E300'!A:A,A199,'E300'!J:J),-1)","v":0},{"$f":"SUM(I199:K199)","v":192000},null,1]
[53062030,null,null,"ค่าเบี้ยประกัน-สินทรัพย์",null,{"$f":"IFERROR(VLOOKUP(A200,SAP!L:M,2,0),0)","v":0},{"$f":"IFERROR(VLOOKUP(A200,SAP!N:Q,4,0),0)","v":0},{"$f":"IFERROR(VLOOKUP(A200,SAP!R:S,2,0),0)","v":0},{"$f":"IFERROR(VLOOKUP(A200,'E120'!A:J,10,0),0)","v":0},{"$f":"ROUNDUP(SUMIF('E200'!A:A,A200,'E200'!E:E),-1)","v":0},{"$f":"ROUNDUP(SUMIF('E300'!A:A,A200,'E300'!J:J),-1)","v":0},{"$f":"SUM(I200:K200)","v":0},null,0]
[53062040,null,null,"ค่าเบี้ยประกัน-การขนส่ง",null,{"$f":"IFERROR(VLOOKUP(A201,SAP!L:M,2,0),0)","v":0},{"$f":"IFERROR(VLOOKUP(A201,SAP!N:Q,4,0),0)","v":0},{"$f":"IFERROR(VLOOKUP(A201,SAP!R:S,2,0),0)","v":0},{"$f":"IFERROR(VLOOKUP(A201,'E120'!A:J,10,0),0)","v":0},{"$f":"ROUNDUP(SUMIF('E200'!A:A,A201,'E200'!E:E),-1)","v":0},{"$f":"ROUNDUP(SUMIF('E300'!A:A,A201,'E300'!J:J),-1)","v":0},{"$f":"SUM(I201:K201)","v":0},null,0]
[53062990,null,null,"ค่าเบี้ยประกันภัยอื่น",null,{"$f":"IFERROR(VLOOKUP(A202,SAP!L:M,2,0),0)","v":0},{"$f":"IFERROR(VLOOKUP(A202,SAP!N:Q,4,0),0)","v":0},{"$f":"IFERROR(VLOOKUP(A202,SAP!R:S,2,0),0)","v":0},{"$f":"IFERROR(VLOOKUP(A202,'E120'!A:J,10,0),0)","v":0},{"$f":"ROUNDUP(SUMIF('E200'!A:A,A202,'E200'!E:E),-1)","v":0},{"$f":"ROUNDUP(SUMIF('E300'!A:A,A202,'E300'!J:J),-1)","v":0},{"$f":"SUM(I202:K202)","v":0},null,0]
[null,null,"ค่ารับรอง ",null,null,null,null,null,null,null,null,null,null,{"$f":"IF(SUM(N204)>0,1,0)","v":1}]
[53063010,null,null,"ค่ารับรอง",null,{"$f":"IFERROR(VLOOKUP(A204,SAP!L:M,2,0),0)","v":39840},{"$f":"IFERROR(VLOOKUP(A204,SAP!N:Q,4,0),0)","v":0},{"$f":"IFERROR(VLOOKUP(A204,SAP!R:S,2,0),0)","v":0},{"$f":"IFERROR(VLOOKUP(A204,'E120'!A:J,10,0),0)","v":60000},{"$f":"ROUNDUP(SUMIF('E200'!A:A,A204,'E200'!E:E),-1)","v":0},{"$f":"ROUNDUP(SUMIF('E300'!A:A,A204,'E300'!J:J),-1)","v":0},{"$f":"SUM(I204:K204)","v":60000},null,{"$f":"IF(SUM(F204:K204)>0,1,0)","v":1}]
[null,null,"ค่าใช้จ่ายทางภาษี ",null,null,null,null,null,null,null,null,null,null,{"$f":"IF(SUM(N206:N207)>0,1,0)","v":1}]
[53064010,null,null,"ค่าภาษีที่ดินและสิ่งปลูกสร้าง",null,{"$f":"IFERROR(VLOOKUP(A206,SAP!L:M,2,0),0)","v":14858.97},{"$f":"IFERROR(VLOOKUP(A206,SAP!N:Q,4,0),0)","v":206748.30857142856},{"$f":"IFERROR(VLOOKUP(A206,SAP!R:S,2,0),0)","v":0},{"$f":"IFERROR(VLOOKUP(A206,'E120'!A:J,10,0),0)","v":137000},{"$f":"ROUNDUP(SUMIF('E200'!A:A,A206,'E200'!E:E),-1)","v":0},{"$f":"ROUNDUP(SUMIF('E300'!A:A,A206,'E300'!J:J),-1)","v":0},{"$f":"SUM(I206:K206)","v":137000},null,{"$f":"IF(SUM(F206:K206)>0,1,0)","v":1}]
[53064020,null,null,"ค่าภาษีและค่าธรรมเนียมยานพาหนะ",null,{"$f":"IFERROR(VLOOKUP(A207,SAP!L:M,2,0),0)","v":85140},{"$f":"IFERROR(VLOOKUP(A207,SAP!N:Q,4,0),0)","v":82947.394285714283},{"$f":"IFERROR(VLOOKUP(A207,SAP!R:S,2,0),0)","v":0},{"$f":"IFERROR(VLOOKUP(A207,'E120'!A:J,10,0),0)","v":90000},{"$f":"ROUNDUP(SUMIF('E200'!A:A,A207,'E200'!E:E),-1)","v":0},{"$f":"ROUNDUP(SUMIF('E300'!A:A,A207,'E300'!J:J),-1)","v":0},{"$f":"SUM(I207:K207)","v":90000},null,1]
[null,null,"ค่าใช้จ่ายเพื่อสังคมและสาธารณประโยชน์",null,null,null,null,null,null,null,null,null,null,{"$f":"IF(SUM(N209:N216)>0,1,0)","v":1}]
[53065010,null,null,"เงินชดเชยเพื่อมนุษยธรรม",null,{"$f":"IFERROR(VLOOKUP(A209,SAP!L:M,2,0),0)","v":28500},{"$f":"IFERROR(VLOOKUP(A209,SAP!N:Q,4,0),0)","v":0},{"$f":"IFERROR(VLOOKUP(A209,SAP!R:S,2,0),0)","v":0},{"$f":"IFERROR(VLOOKUP(A209,'E120'!A:J,10,0),0)","v":0},{"$f":"'E240'!F25","v":0},{"$f":"ROUNDUP(SUMIF('E300'!A:A,A209,'E300'!J:J),-1)","v":0},{"$f":"SUM(I209:K209)","v":0},null,{"$f":"IF(SUM(F209:K209)>0,1,0)","v":1}]
[53065020,null,null,"ค่าใช้จ่ายเกี่ยวกับไฟสาธารณะ",null,{"$f":"IFERROR(VLOOKUP(A210,SAP!L:M,2,0),0)","v":0},{"$f":"IFERROR(VLOOKUP(A210,SAP!N:Q,4,0),0)","v":0},{"$f":"IFERROR(VLOOKUP(A210,SAP!R:S,2,0),0)","v":0},0,0,0,{"$f":"SUM(I210:K210)","v":0},"ไม่ต้องตั้งงบประมาณ",0]
[53065030,null,null,"ค่าใช้จ่ายส่งเสริมการประหยัด/ปลอดภัยในการใช้ไฟฟ้า",null,{"$f":"IFERROR(VLOOKUP(A211,SAP!L:M,2,0),0)","v":0},{"$f":"IFERROR(VLOOKUP(A211,SAP!N:Q,4,0),0)","v":0},{"$f":"IFERROR(VLOOKUP(A211,SAP!R:S,2,0),0)","v":0},0,0,0,0,"ไม่ต้องตั้งงบประมาณ",0]
[53065040,null,null,"ค่าใช้จ่ายอื่นเพื่อผู้ใช้ไฟ",null,{"$f":"IFERROR(VLOOKUP(A212,SAP!L:M,2,0),0)","v":0},{"$f":"IFERROR(VLOOKUP(A212,SAP!N:Q,4,0),0)","v":0},{"$f":"IFERROR(VLOOKUP(A212,SAP!R:S,2,0),0)","v":0},0,0,0,0,"ไม่ต้องตั้งงบประมาณ",0]
[53065050,null,null,"ค่าใช้จ่ายเพื่อสังคมหรือสิ่งแวดล้อม",null,{"$f":"IFERROR(VLOOKUP(A213,SAP!L:M,2,0),0)","v":0},{"$f":"IFERROR(VLOOKUP(A213,SAP!N:Q,4,0),0)","v":0},{"$f":"IFERROR(VLOOKUP(A213,SAP!R:S,2,0),0)","v":0},{"$f":"IFERROR(VLOOKUP(A213,'E120'!A:J,10,0),0)","v":0},{"$f":"'E240'!J25","v":0},{"$f":"ROUNDUP(SUMIF('E300'!A:A,A213,'E300'!J:J),-1)","v":0},0,null,0]
[53065080,null,null,"ค่าผลประโยชน์เงินประกันฯจ่ายคืนผู้ใช้ไฟ - ประเภท 3,4,5",null,{"$f":"IFERROR(VLOOKUP(A214,SAP!L:M,2,0),0)","v":76903.95},{"$f":"IFERROR(VLOOKUP(A214,SAP!N:Q,4,0),0)","v":76904.040000000008},{"$f":"IFERROR(VLOOKUP(A214,SAP!R:S,2,0),0)","v":0},0,0,0,{"$f":"SUM(I214:K214)","v":0},"ไม่ต้องตั้งงบประมาณ",1]
[53065090,null,null,"ค่าผลประโยชน์เงินประกันฯจ่ายคืนผู้ใช้ไฟ - ประเภท 1,2",null,{"$f":"IFERROR(VLOOKUP(A215,SAP!L:M,2,0),0)","v":121201.03},{"$f":"IFERROR(VLOOKUP(A215,SAP!N:Q,4,0),0)","v":267922.98857142858},{"$f":"IFERROR(VLOOKUP(A215,SAP!R:S,2,0),0)","v":0},0,0,0,0,"ไม่ต้องตั้งงบประมาณ",1]
[53065990,null,null,"ค่าใช้จ่ายเพื่อสาธารณประโยชน์และการกุศล",null,{"$f":"IFERROR(VLOOKUP(A216,SAP!L:M,2,0),0)","v":0},{"$f":"IFERROR(VLOOKUP(A216,SAP!N:Q,4,0),0)","v":0},{"$f":"IFERROR(VLOOKUP(A216,SAP!R:S,2,0),0)","v":0},{"$f":"IFERROR(VLOOKUP(A216,'E120'!A:J,10,0),0)","v":0},{"$f":"'E240'!M25","v":0},{"$f":"ROUNDUP(SUMIF('E300'!A:A,A216,'E300'!J:J),-1)","v":0},0,null,0]
[null,null,"ค่าปรับตามมาตรฐานการให้บริการ ",null,null,null,null,null,null,null,null,null,null,{"$f":"IF(SUM(N218:N221)>0,1,0)","v":0}]
[53066010,null,null,"ค่าปรับกรณีคุณภาพไฟฟ้า",null,{"$f":"IFERROR(VLOOKUP(A218,SAP!L:M,2,0),0)","v":0},{"$f":"IFERROR(VLOOKUP(A218,SAP!N:Q,4,0),0)","v":0},{"$f":"IFERROR(VLOOKUP(A218,SAP!R:S,2,0),0)","v":0},0,0,0,{"$f":"SUM(I218:K218)","v":0},"ไม่ต้องตั้งงบประมาณ",{"$f":"IF(SUM(F218:K218)>0,1,0)","v":0}]
[53066020,null,null,"ค่าปรับกรณีระยะเวลาที่ผู้ขอใช้ไฟฟ้ารายใหม่ขอใช้ไฟฯ",null,{"$f":"IFERROR(VLOOKUP(A219,SAP!L:M,2,0),0)","v":0},{"$f":"IFERROR(VLOOKUP(A219,SAP!N:Q,4,0),0)","v":0},{"$f":"IFERROR(VLOOKUP(A219,SAP!R:S,2,0),0)","v":0},0,0,0,0,"ไม่ต้องตั้งงบประมาณ",0]
[53066030,null,null,"ค่าปรับระยะเวลาตอบสนองที่ลูกค้าร้องขอหรือร้องเรียน",null,{"$f":"IFERROR(VLOOKUP(A220,SAP!L:M,2,0),0)","v":0},{"$f":"IFERROR(VLOOKUP(A220,SAP!N:Q,4,0),0)","v":0},{"$f":"IFERROR(VLOOKUP(A220,SAP!R:S,2,0),0)","v":0},0,0,0,0,"ไม่ต้องตั้งงบประมาณ",0]
[53066040,null,null,"ค่าปรับกรณีระยะเวลาต่อกลับ กรณีถูกงดจ่ายไฟฟ้า",null,{"$f":"IFERROR(VLOOKUP(A221,SAP!L:M,2,0),0)","v":0},{"$f":"IFERROR(VLOOKUP(A221,SAP!N:Q,4,0),0)","v":0},{"$f":"IFERROR(VLOOKUP(A221,SAP!R:S,2,0),0)","v":0},0,0,0,0,"ไม่ต้องตั้งงบประมาณ",0]
[null,null,"ค่าใช้จ่ายอื่น ",null,null,null,null,null,null,null,null,null,null,{"$f":"IF(SUM(N223:N239)>0,1,0)","v":1}]
[53069020,null,null,"ค่าขนส่ง ขนย้าย",null,{"$f":"IFERROR(VLOOKUP(A223,SAP!L:M,2,0),0)","v":4000},{"$f":"IFERROR(VLOOKUP(A223,SAP!N:Q,4,0),0)","v":0},{"$f":"IFERROR(VLOOKUP(A223,SAP!R:S,2,0),0)","v":0},{"$f":"IFERROR(VLOOKUP(A223,'E120'!A:J,10,0),0)","v":0},{"$f":"ROUNDUP(SUMIF('E200'!A:A,A223,'E200'!E:E),-1)","v":0},{"$f":"ROUNDUP(SUMIF('E300'!A:A,A223,'E300'!J:J),-1)","v":0},{"$f":"SUM(I223:K223)","v":0},null,{"$f":"IF(SUM(F223:K223)>0,1,0)","v":1}]
[53069030,null,null,"ค่าจ้างเหมายานพาหนะ/เครื่งจักรกลหนัก",null,{"$f":"IFERROR(VLOOKUP(A224,SAP!L:M,2,0),0)","v":0},{"$f":"IFERROR(VLOOKUP(A224,SAP!N:Q,4,0),0)","v":0},{"$f":"IFERROR(VLOOKUP(A224,SAP!R:S,2,0),0)","v":0},{"$f":"IFERROR(VLOOKUP(A224,'E120'!A:J,10,0),0)","v":0},{"$f":"ROUNDUP(SUMIF('E200'!A:A,A224,'E200'!E:E),-1)","v":0},{"$f":"ROUNDUP(SUMIF('E300'!A:A,A224,'E300'!J:J),-1)","v":0},0,null,0]
[53069040,null,null,"ค่าปรับ เงินเพิ่ม ทางภาษี",null,{"$f":"IFERROR(VLOOKUP(A225,SAP!L:M,2,0),0)","v":0},{"$f":"IFERROR(VLOOKUP(A225,SAP!N:Q,4,0),0)","v":0},{"$f":"IFERROR(VLOOKUP(A225,SAP!R:S,2,0),0)","v":0},{"$f":"IFERROR(VLOOKUP(A225,'E120'!A:J,10,0),0)","v":0},{"$f":"ROUNDUP(SUMIF('E200'!A:A,A225,'E200'!E:E),-1)","v":0},{"$f":"ROUNDUP(SUMIF('E300'!A:A,A225,'E300'!J:J),-1)","v":0},0,null,0]
[53069060,null,null,"ค่าอากรแสตมป์",null,{"$f":"IFERROR(VLOOKUP(A226,SAP!L:M,2,0),0)","v":50},{"$f":"IFERROR(VLOOKUP(A226,SAP!N:Q,4,0),0)","v":58.285714285714285},{"$f":"IFERROR(VLOOKUP(A226,SAP!R:S,2,0),0)","v":0},{"$f":"IFERROR(VLOOKUP(A226,'E120'!A:J,10,0),0)","v":500},{"$f":"ROUNDUP(SUMIF('E200'!A:A,A226,'E200'!E:E),-1)","v":0},{"$f":"ROUNDUP(SUMIF('E300'!A:A,A226,'E300'!J:J),-1)","v":0},500,null,1]
[53069070,null,null,"ค่าธรรมเนียมธนาคาร",null,{"$f":"IFERROR(VLOOKUP(A227,SAP!L:M,2,0),0)","v":48501.58},{"$f":"IFERROR(VLOOKUP(A227,SAP!N:Q,4,0),0)","v":39329.142857142855},{"$f":"IFERROR(VLOOKUP(A227,SAP!R:S,2,0),0)","v":0},{"$f":"IFERROR(VLOOKUP(A227,'E120'!A:J,10,0),0)","v":53000},{"$f":"ROUNDUP(SUMIF('E200'!A:A,A227,'E200'!E:E),-1)","v":0},{"$f":"ROUNDUP(SUMIF('E300'!A:A,A227,'E300'!J:J),-1)","v":0},53000,null,1]
[53069080,null,null,"ค่าใช้จ่ายดำเนินคดี",null,{"$f":"IFERROR(VLOOKUP(A228,SAP!L:M,2,0),0)","v":8446},{"$f":"IFERROR(VLOOKUP(A228,SAP!N:Q,4,0),0)","v":40776},{"$f":"IFERROR(VLOOKUP(A228,SAP!R:S,2,0),0)","v":0},{"$f":"IFERROR(VLOOKUP(A228,'E120'!A:J,10,0),0)","v":70000},{"$f":"ROUNDUP(SUMIF('E200'!A:A,A228,'E200'!E:E),-1)","v":0},{"$f":"ROUNDUP(SUMIF('E300'!A:A,A228,'E300'!J:J),-1)","v":0},70000,null,1]
[53069090,null,null,"ค่าปรับปรุงที่ดินและสิ่งก่อสร้างที่มิใช่ของ กฟภ.",null,{"$f":"IFERROR(VLOOKUP(A229,SAP!L:M,2,0),0)","v":0},{"$f":"IFERROR(VLOOKUP(A229,SAP!N:Q,4,0),0)","v":0},{"$f":"IFERROR(VLOOKUP(A229,SAP!R:S,2,0),0)","v":0},{"$f":"IFERROR(VLOOKUP(A229,'E120'!A:J,10,0),0)","v":0},{"$f":"ROUNDUP(SUMIF('E200'!A:A,A229,'E200'!E:E),-1)","v":0},{"$f":"ROUNDUP(SUMIF('E300'!A:A,A229,'E300'!J:J),-1)","v":0},0,null,0]
[53069100,null,null,"ค่าวัสดุล้าสมัยหรือสูญหาย",null,{"$f":"IFERROR(VLOOKUP(A230,SAP!L:M,2,0),0)","v":7748.7},{"$f":"IFERROR(VLOOKUP(A230,SAP!N:Q,4,0),0)","v":12419.314285714287},{"$f":"IFERROR(VLOOKUP(A230,SAP!R:S,2,0),0)","v":0},{"$f":"IFERROR(VLOOKUP(A230,'E120'!A:J,10,0),0)","v":0},{"$f":"ROUNDUP(SUMIF('E200'!A:A,A230,'E200'!E:E),-1)","v":0},{"$f":"ROUNDUP(SUMIF('E300'!A:A,A230,'E300'!J:J),-1)","v":0},0,null,1]
[53069110,null,null,"ค่าตรวจสภาพยานพาหนะ",null,{"$f":"IFERROR(VLOOKUP(A231,SAP!L:M,2,0),0)","v":1185},{"$f":"IFERROR(VLOOKUP(A231,SAP!N:Q,4,0),0)","v":600},{"$f":"IFERROR(VLOOKUP(A231,SAP!R:S,2,0),0)","v":0},{"$f":"IFERROR(VLOOKUP(A231,'E120'!A:J,10,0),0)","v":2000},{"$f":"ROUNDUP(SUMIF('E200'!A:A,A231,'E200'!E:E),-1)","v":0},{"$f":"ROUNDUP(SUMIF('E300'!A:A,A231,'E300'!J:J),-1)","v":0},2000,null,1]
[53069120,null,null,"ค่าใช้จ่ายในการดำเนินการออกของจากต่างประเทศ",null,{"$f":"IFERROR(VLOOKUP(A232,SAP!L:M,2,0),0)","v":0},{"$f":"IFERROR(VLOOKUP(A232,SAP!N:Q,4,0),0)","v":0},{"$f":"IFERROR(VLOOKUP(A232,SAP!R:S,2,0),0)","v":0},{"$f":"IFERROR(VLOOKUP(A232,'E120'!A:J,10,0),0)","v":0},{"$f":"ROUNDUP(SUMIF('E200'!A:A,A232,'E200'!E:E),-1)","v":0},{"$f":"ROUNDUP(SUMIF('E300'!A:A,A232,'E300'!J:J),-1)","v":0},0,null,0]
[53069130,null,null,"ค่าใช้จ่ายที่ต้องชำระตามคำสั่งศาล",null,{"$f":"IFERROR(VLOOKUP(A233,SAP!L:M,2,0),0)","v":0},{"$f":"IFERROR(VLOOKUP(A233,SAP!N:Q,4,0),0)","v":0},{"$f":"IFERROR(VLOOKUP(A233,SAP!R:S,2,0),0)","v":0},{"$f":"IFERROR(VLOOKUP(A233,'E120'!A:J,10,0),0)","v":0},{"$f":"ROUNDUP(SUMIF('E200'!A:A,A233,'E200'!E:E),-1)","v":0},{"$f":"ROUNDUP(SUMIF('E300'!A:A,A233,'E300'!J:J),-1)","v":0},0,null,0]
[53069140,null,null,"ค่าธรรมเนียมประกอบกิจการพลังงาน",null,{"$f":"IFERROR(VLOOKUP(A234,SAP!L:M,2,0),0)","v":0},{"$f":"IFERROR(VLOOKUP(A234,SAP!N:Q,4,0),0)","v":0},{"$f":"IFERROR(VLOOKUP(A234,SAP!R:S,2,0),0)","v":0},{"$f":"IFERROR(IF(Head_division2=\"ฝนศ.\",VLOOKUP(A234,'E120'!A:J,10,0),0),0)","v":0},{"$f":"IF(Head_division2=\"ฝนศ.\",ROUNDUP(SUMIF('E200'!A:A,A234,'E200'!E:E),-1),0)","v":0},{"$f":"IF(Head_division2=\"ฝนศ.\",ROUNDUP(SUMIF('E300'!A:A,A234,'E300'!J:J),-1),0)","v":0},0,"เฉพาะ ฝนศ. เท่านั้น",0]
[53069150,null,null,"ค่าธรรมเนียมธนาคาร- หักบช.",null,{"$f":"IFERROR(VLOOKUP(A235,SAP!L:M,2,0),0)","v":0},{"$f":"IFERROR(VLOOKUP(A235,SAP!N:Q,4,0),0)","v":0},{"$f":"IFERROR(VLOOKUP(A235,SAP!R:S,2,0),0)","v":0},{"$f":"IFERROR(IF(Head_division2=\"กรด.\",VLOOKUP(A235,'E120'!A:J,10,0),0),0)","v":0},{"$f":"IF(Head_division2=\"กรด.\",ROUNDUP(SUMIF('E200'!A:A,A235,'E200'!E:E),-1),0)","v":0},{"$f":"IF(Head_division2=\"กรด.\",ROUNDUP(SUMIF('E300'!A:A,A235,'E300'!J:J),-1),0)","v":0},0,"เฉพาะ กรด. เท่านั้น",0]
[53069160,null,null,"ค่าธรรมเนียมประกอบกิจการโทรคมนาคม",null,{"$f":"IFERROR(VLOOKUP(A236,SAP!L:M,2,0),0)","v":0},{"$f":"IFERROR(VLOOKUP(A236,SAP!N:Q,4,0),0)","v":0},{"$f":"IFERROR(VLOOKUP(A236,SAP!R:S,2,0),0)","v":0},{"$f":"IFERROR(VLOOKUP(A236,'E120'!A:J,10,0),0)","v":0},{"$f":"ROUNDUP(SUMIF('E200'!A:A,A236,'E200'!E:E),-1)","v":0},{"$f":"ROUNDUP(SUMIF('E300'!A:A,A236,'E300'!J:J),-1)","v":0},0,null,0]
[53069170,null,null,"ค่าป้องกันและควบคุมโรค",null,{"$f":"IFERROR(VLOOKUP(A237,SAP!L:M,2,0),0)","v":79754.649999999994},{"$f":"IFERROR(VLOOKUP(A237,SAP!N:Q,4,0),0)","v":126395.36571428573},{"$f":"IFERROR(VLOOKUP(A237,SAP!R:S,2,0),0)","v":0},{"$f":"IFERROR(VLOOKUP(A237,'E120'!A:J,10,0),0)","v":104300},{"$f":"ROUNDUP(SUMIF('E200'!A:A,A237,'E200'!E:E),-1)","v":0},{"$f":"ROUNDUP(SUMIF('E300'!A:A,A237,'E300'!J:J),-1)","v":0},{"$f":"SUM(I237:K237)","v":104300},null,1]
[53069180,null,null,"ค่าใช้เขตทางหลวง",null,{"$f":"IFERROR(VLOOKUP(A238,SAP!L:M,2,0),0)","v":0},{"$f":"IFERROR(VLOOKUP(A238,SAP!N:Q,4,0),0)","v":0},{"$f":"IFERROR(VLOOKUP(A238,SAP!R:S,2,0),0)","v":0},{"$f":"IFERROR(VLOOKUP(A238,'E120'!A:J,10,0),0)","v":0},{"$f":"ROUNDUP(SUMIF('E200'!A:A,A238,'E200'!E:E),-1)","v":0},{"$f":"ROUNDUP(SUMIF('E300'!A:A,A238,'E300'!J:J),-1)","v":0},0,null,0]
[53069990,null,null,"ค่าใช้จ่ายอื่น",null,{"$f":"IFERROR(VLOOKUP(A239,SAP!L:M,2,0),0)","v":179329.82},{"$f":"IFERROR(VLOOKUP(A239,SAP!N:Q,4,0),0)","v":64815.08571428572},{"$f":"IFERROR(VLOOKUP(A239,SAP!R:S,2,0),0)","v":0},{"$f":"IFERROR(VLOOKUP(A239,'E120'!A:J,10,0),0)","v":140000},{"$f":"ROUNDUP(SUMIF('E200'!A:A,A239,'E200'!E:E),-1)","v":0},{"$f":"ROUNDUP(SUMIF('E300'!A:A,A239,'E300'!J:J),-1)","v":0},140000,null,1]
[null,"ค่าเสื่อมราคา ค่าเสื่อมสิ้น ค่าตัดจำหน่าย",null,null,null,null,null,null,null,null,null,null,null,{"$f":"IF(SUM(N241:N294)>0,1,0)","v":1}]
[null,null,"ค่าเสื่อมราคา-ส่วนปรับปรุงที่ดิน",null,null,null,null,null,null,null,null,null,null,{"$f":"IF(SUM(N242)>0,1,0)","v":1}]
[54011010,null,null,"ค่าเสื่อมราคา-ส่วนปรับปรุงที่ดิน",null,{"$f":"IFERROR(VLOOKUP(A242,SAP!L:M,2,0),0)","v":175824.23},{"$f":"IFERROR(VLOOKUP(A242,SAP!N:Q,4,0),0)","v":204208.54285714283},{"$f":"IFERROR(VLOOKUP(A242,SAP!R:S,2,0),0)","v":0},{"$f":"IFERROR(VLOOKUP(A242,'E120'!A:J,10,0),0)","v":208370},{"$f":"ROUNDUP(SUMIF('E200'!A:A,A242,'E200'!E:E),-1)","v":0},{"$f":"ROUNDUP(SUMIF('E300'!A:A,A242,'E300'!J:J),-1)","v":0},{"$f":"SUM(I242:K242)","v":208370},null,{"$f":"IF(SUM(F242:K242)>0,1,0)","v":1}]
[null,null,"ค่าเสื่อมราคา-อาคารสิ่งปลูกสร้าง",null,null,null,null,null,null,null,null,null,null,{"$f":"IF(SUM(N244:N248)>0,1,0)","v":1}]
[54020010,null,null,"ค่าเสื่อมราคา-อาคารดำเนินงาน",null,{"$f":"IFERROR(VLOOKUP(A244,SAP!L:M,2,0),0)","v":168954.64},{"$f":"IFERROR(VLOOKUP(A244,SAP!N:Q,4,0),0)","v":182187.70285714287},{"$f":"IFERROR(VLOOKUP(A244,SAP!R:S,2,0),0)","v":0},{"$f":"IFERROR(VLOOKUP(A244,'E120'!A:J,10,0),0)","v":182980},{"$f":"ROUNDUP(SUMIF('E200'!A:A,A244,'E200'!E:E),-1)","v":0},{"$f":"ROUNDUP(SUMIF('E300'!A:A,A244,'E300'!J:J),-1)","v":0},{"$f":"SUM(I244:K244)","v":182980},null,{"$f":"IF(SUM(F244:K244)>0,1,0)","v":1}]
[54020020,null,null,"ค่าเสื่อมราคา-อาคารสำนักงาน",null,{"$f":"IFERROR(VLOOKUP(A245,SAP!L:M,2,0),0)","v":1687551.78},{"$f":"IFERROR(VLOOKUP(A245,SAP!N:Q,4,0),0)","v":1680286.3542857144},{"$f":"IFERROR(VLOOKUP(A245,SAP!R:S,2,0),0)","v":0},{"$f":"IFERROR(VLOOKUP(A245,'E120'!A:J,10,0),0)","v":1687560},{"$f":"ROUNDUP(SUMIF('E200'!A:A,A245,'E200'!E:E),-1)","v":0},{"$f":"ROUNDUP(SUMIF('E300'!A:A,A245,'E300'!J:J),-1)","v":0},{"$f":"SUM(I245:K245)","v":1687560},null,1]
[54020030,null,null,"ค่าเสื่อมราคา-อาคารพักอาศัย",null,{"$f":"IFERROR(VLOOKUP(A246,SAP!L:M,2,0),0)","v":65146.37},{"$f":"IFERROR(VLOOKUP(A246,SAP!N:Q,4,0),0)","v":64865.862857142856},{"$f":"IFERROR(VLOOKUP(A246,SAP!R:S,2,0),0)","v":0},{"$f":"IFERROR(VLOOKUP(A246,'E120'!A:J,10,0),0)","v":65150},{"$f":"ROUNDUP(SUMIF('E200'!A:A,A246,'E200'!E:E),-1)","v":0},{"$f":"ROUNDUP(SUMIF('E300'!A:A,A246,'E300'!J:J),-1)","v":0},{"$f":"SUM(I246:K246)","v":65150},null,1]
[54021010,null,null,"ค่าเสื่อมราคา-ส่วนปรับปรุงอาคารเช่า",null,{"$f":"IFERROR(VLOOKUP(A247,SAP!L:M,2,0),0)","v":117343.33},{"$f":"IFERROR(VLOOKUP(A247,SAP!N:Q,4,0),0)","v":116838.13714285714},{"$f":"IFERROR(VLOOKUP(A247,SAP!R:S,2,0),0)","v":0},{"$f":"IFERROR(VLOOKUP(A247,'E120'!A:J,10,0),0)","v":0},{"$f":"ROUNDUP(SUMIF('E200'!A:A,A247,'E200'!E:E),-1)","v":0},{"$f":"ROUNDUP(SUMIF('E300'!A:A,A247,'E300'!J:J),-1)","v":0},{"$f":"SUM(I247:K247)","v":0},null,1]
[54029990,null,null,"ค่าเสื่อมราคา-สิ่งปลูกสร้างอื่น",null,{"$f":"IFERROR(VLOOKUP(A248,SAP!L:M,2,0),0)","v":97010.98},{"$f":"IFERROR(VLOOKUP(A248,SAP!N:Q,4,0),0)","v":91172.588571428583},{"$f":"IFERROR(VLOOKUP(A248,SAP!R:S,2,0),0)","v":0},{"$f":"IFERROR(VLOOKUP(A248,'E120'!A:J,10,0),0)","v":92510},{"$f":"ROUNDUP(SUMIF('E200'!A:A,A248,'E200'!E:E),-1)","v":0},{"$f":"ROUNDUP(SUMIF('E300'!A:A,A248,'E300'!J:J),-1)","v":0},{"$f":"SUM(I248:K248)","v":92510},null,1]
[null,null,"ค่าเสื่อมราคา-ระบบผลิตกระแสไฟฟ้า ",null,null,null,null,null,null,null,null,null,null,{"$f":"IF(SUM(N250:N253)>0,1,0)","v":1}]
[54030010,null,null,"ค่าเสื่อมราคา-ระบบผลิตกระแสไฟฟ้าเครื่องจักรดีเซล",null,{"$f":"IFERROR(VLOOKUP(A250,SAP!L:M,2,0),0)","v":86000},{"$f":"IFERROR(VLOOKUP(A250,SAP!N:Q,4,0),0)","v":85629.737142857135},{"$f":"IFERROR(VLOOKUP(A250,SAP!R:S,2,0),0)","v":0},{"$f":"IFERROR(VLOOKUP(A250,'E120'!A:J,10,0),0)","v":50170},{"$f":"ROUNDUP(SUMIF('E200'!A:A,A250,'E200'!E:E),-1)","v":0},{"$f":"ROUNDUP(SUMIF('E300'!A:A,A250,'E300'!J:J),-1)","v":0},{"$f":"SUM(I250:K250)","v":50170},null,{"$f":"IF(SUM(F250:K250)>0,1,0)","v":1}]
[54030020,null,null,"ค่าเสื่อมราคา-ระบบผลิตกระแสไฟฟ้าพลังน้ำ",null,{"$f":"IFERROR(VLOOKUP(A251,SAP!L:M,2,0),0)","v":0},{"$f":"IFERROR(VLOOKUP(A251,SAP!N:Q,4,0),0)","v":0},{"$f":"IFERROR(VLOOKUP(A251,SAP!R:S,2,0),0)","v":0},{"$f":"IFERROR(VLOOKUP(A251,'E120'!A:J,10,0),0)","v":0},{"$f":"ROUNDUP(SUMIF('E200'!A:A,A251,'E200'!E:E),-1)","v":0},{"$f":"ROUNDUP(SUMIF('E300'!A:A,A251,'E300'!J:J),-1)","v":0},{"$f":"SUM(I251:K251)","v":0},null,0]
[54030030,null,null,"ค่าเสื่อมราคา-ระบบผลิตกระแสไฟฟ้าพลังแสงอาทิตย์",null,{"$f":"IFERROR(VLOOKUP(A252,SAP!L:M,2,0),0)","v":0},{"$f":"IFERROR(VLOOKUP(A252,SAP!N:Q,4,0),0)","v":0},{"$f":"IFERROR(VLOOKUP(A252,SAP!R:S,2,0),0)","v":0},{"$f":"IFERROR(VLOOKUP(A252,'E120'!A:J,10,0),0)","v":0},{"$f":"ROUNDUP(SUMIF('E200'!A:A,A252,'E200'!E:E),-1)","v":0},{"$f":"ROUNDUP(SUMIF('E300'!A:A,A252,'E300'!J:J),-1)","v":0},{"$f":"SUM(I252:K252)","v":0},null,0]
[54030040,null,null,"ค่าเสื่อมราคา-ระบบผลิตกระแสไฟฟ้าพลังงานลม",null,{"$f":"IFERROR(VLOOKUP(A253,SAP!L:M,2,0),0)","v":0},{"$f":"IFERROR(VLOOKUP(A253,SAP!N:Q,4,0),0)","v":0},{"$f":"IFERROR(VLOOKUP(A253,SAP!R:S,2,0),0)","v":0},{"$f":"IFERROR(VLOOKUP(A253,'E120'!A:J,10,0),0)","v":0},{"$f":"ROUNDUP(SUMIF('E200'!A:A,A253,'E200'!E:E),-1)","v":0},{"$f":"ROUNDUP(SUMIF('E300'!A:A,A253,'E300'!J:J),-1)","v":0},{"$f":"SUM(I253:K253)","v":0},null,0]
[null,null,"ค่าเสื่อมราคา-ระบบจำหน่ายกระแสไฟฟ้า ",null,null,null,null,null,null,null,null,null,null,{"$f":"IF(SUM(N255:N260)>0,1,0)","v":1}]
[54040010,null,null,"ค่าเสื่อมราคา-ระบบสายส่งและจำหน่าย",null,{"$f":"IFERROR(VLOOKUP(A255,SAP!L:M,2,0),0)","v":79914130.400000006},{"$f":"IFERROR(VLOOKUP(A255,SAP!N:Q,4,0),0)","v":82428937.354285717},{"$f":"IFERROR(VLOOKUP(A255,SAP!R:S,2,0),0)","v":0},{"$f":"IFERROR(VLOOKUP(A255,'E120'!A:J,10,0),0)","v":80365060},{"$f":"ROUNDUP(SUMIF('E200'!A:A,A255,'E200'!E:E),-1)","v":0},{"$f":"ROUNDUP(SUMIF('E300'!A:A,A255,'E300'!J:J),-1)","v":0},{"$f":"SUM(I255:K255)","v":80365060},null,{"$f":"IF(SUM(F255:K255)>0,1,0)","v":1}]
[54040020,null,null,"ค่าเสื่อมราคา-ระบบไฟสัญญาณและไฟถนน",null,{"$f":"IFERROR(VLOOKUP(A256,SAP!L:M,2,0),0)","v":5240.3900000000003},{"$f":"IFERROR(VLOOKUP(A256,SAP!N:Q,4,0),0)","v":855.25714285714287},{"$f":"IFERROR(VLOOKUP(A256,SAP!R:S,2,0),0)","v":0},{"$f":"IFERROR(VLOOKUP(A256,'E120'!A:J,10,0),0)","v":150},{"$f":"ROUNDUP(SUMIF('E200'!A:A,A256,'E200'!E:E),-1)","v":0},{"$f":"ROUNDUP(SUMIF('E300'!A:A,A256,'E300'!J:J),-1)","v":0},150,null,1]
[54040030,null,null,"ค่าเสื่อมราคา-อุปกรณ์ในสถานีไฟฟ้า",null,{"$f":"IFERROR(VLOOKUP(A257,SAP!L:M,2,0),0)","v":76390.259999999995},{"$f":"IFERROR(VLOOKUP(A257,SAP!N:Q,4,0),0)","v":152911.30285714284},{"$f":"IFERROR(VLOOKUP(A257,SAP!R:S,2,0),0)","v":0},{"$f":"IFERROR(VLOOKUP(A257,'E120'!A:J,10,0),0)","v":52640},{"$f":"ROUNDUP(SUMIF('E200'!A:A,A257,'E200'!E:E),-1)","v":0},{"$f":"ROUNDUP(SUMIF('E300'!A:A,A257,'E300'!J:J),-1)","v":0},52640,null,1]
[54040040,null,null,"ค่าเสื่อมราคา-หม้อแปลงไฟฟ้าผ่านการใช้งาน",null,{"$f":"IFERROR(VLOOKUP(A258,SAP!L:M,2,0),0)","v":4230236.7},{"$f":"IFERROR(VLOOKUP(A258,SAP!N:Q,4,0),0)","v":4398727.32},{"$f":"IFERROR(VLOOKUP(A258,SAP!R:S,2,0),0)","v":0},{"$f":"IFERROR(VLOOKUP(A258,'E120'!A:J,10,0),0)","v":4301780},{"$f":"ROUNDUP(SUMIF('E200'!A:A,A258,'E200'!E:E),-1)","v":0},{"$f":"ROUNDUP(SUMIF('E300'!A:A,A258,'E300'!J:J),-1)","v":0},4301780,null,1]
[54040050,null,null,"ค่าเสื่อมราคา-มิเตอร์และส่วนประกอบผ่านการใช้งาน",null,{"$f":"IFERROR(VLOOKUP(A259,SAP!L:M,2,0),0)","v":4816278.38},{"$f":"IFERROR(VLOOKUP(A259,SAP!N:Q,4,0),0)","v":4472796.5485714283},{"$f":"IFERROR(VLOOKUP(A259,SAP!R:S,2,0),0)","v":0},{"$f":"IFERROR(VLOOKUP(A259,'E120'!A:J,10,0),0)","v":3756580},{"$f":"ROUNDUP(SUMIF('E200'!A:A,A259,'E200'!E:E),-1)","v":0},{"$f":"ROUNDUP(SUMIF('E300'!A:A,A259,'E300'!J:J),-1)","v":0},3756580,null,1]
[54040060,null,null,"ค่าเสื่อมราคา-เครื่องอัดประจุไฟฟ้าและอุปกรณ์ฯ",null,{"$f":"IFERROR(VLOOKUP(A260,SAP!L:M,2,0),0)","v":0},{"$f":"IFERROR(VLOOKUP(A260,SAP!N:Q,4,0),0)","v":0},{"$f":"IFERROR(VLOOKUP(A260,SAP!R:S,2,0),0)","v":0},{"$f":"IFERROR(VLOOKUP(A260,'E120'!A:J,10,0),0)","v":0},{"$f":"ROUNDUP(SUMIF('E200'!A:A,A260,'E200'!E:E),-1)","v":0},{"$f":"ROUNDUP(SUMIF('E300'!A:A,A260,'E300'!J:J),-1)","v":0},0,null,0]
[null,null,"ค่าเสื่อมราคา-เครื่องตกแต่ง เครื่องมือ เครื่องใช้",null,null,null,null,null,null,null,null,null,null,{"$f":"IF(SUM(N262:N272)>0,1,0)","v":1}]
[54050010,null,null,"ค่าเสื่อมราคา-เครื่องตกแต่งประจำสำนักงาน",null,{"$f":"IFERROR(VLOOKUP(A262,SAP!L:M,2,0),0)","v":566439.43000000005},{"$f":"IFERROR(VLOOKUP(A262,SAP!N:Q,4,0),0)","v":600187.06285714288},{"$f":"IFERROR(VLOOKUP(A262,SAP!R:S,2,0),0)","v":0},{"$f":"IFERROR(VLOOKUP(A262,'E120'!A:J,10,0),0)","v":517310},{"$f":"ROUNDUP(SUMIF('E200'!A:A,A262,'E200'!E:E),-1)","v":0},{"$f":"ROUNDUP(SUMIF('E300'!A:A,A262,'E300'!J:J),-1)","v":0},{"$f":"SUM(I262:K262)","v":517310},null,{"$f":"IF(SUM(F262:K262)>0,1,0)","v":1}]
[54050020,null,null,"ค่าเสื่อมราคา-อุปกรณ์ประจำสำนักงาน",null,{"$f":"IFERROR(VLOOKUP(A263,SAP!L:M,2,0),0)","v":10018.700000000001},{"$f":"IFERROR(VLOOKUP(A263,SAP!N:Q,4,0),0)","v":9975.5828571428574},{"$f":"IFERROR(VLOOKUP(A263,SAP!R:S,2,0),0)","v":0},{"$f":"IFERROR(VLOOKUP(A263,'E120'!A:J,10,0),0)","v":9130},{"$f":"ROUNDUP(SUMIF('E200'!A:A,A263,'E200'!E:E),-1)","v":0},{"$f":"ROUNDUP(SUMIF('E300'!A:A,A263,'E300'!J:J),-1)","v":0},9130,null,1]
[54050030,null,null,"ค่าเสื่อมราคา-เครื่องเมนเฟรม/มินิคอมฯ รวมอุปกรณ์ฯ",null,{"$f":"IFERROR(VLOOKUP(A264,SAP!L:M,2,0),0)","v":177568.53},{"$f":"IFERROR(VLOOKUP(A264,SAP!N:Q,4,0),0)","v":177547.35428571427},{"$f":"IFERROR(VLOOKUP(A264,SAP!R:S,2,0),0)","v":0},{"$f":"IFERROR(VLOOKUP(A264,'E120'!A:J,10,0),0)","v":72840},{"$f":"ROUNDUP(SUMIF('E200'!A:A,A264,'E200'!E:E),-1)","v":0},{"$f":"ROUNDUP(SUMIF('E300'!A:A,A264,'E300'!J:J),-1)","v":0},72840,null,1]
[54050040,null,null,"ค่าเสื่อมราคา-เครื่องเพอร์ซันนัลคอมฯ และอุปกรณ์",null,{"$f":"IFERROR(VLOOKUP(A265,SAP!L:M,2,0),0)","v":909039.16},{"$f":"IFERROR(VLOOKUP(A265,SAP!N:Q,4,0),0)","v":849045.6},{"$f":"IFERROR(VLOOKUP(A265,SAP!R:S,2,0),0)","v":0},{"$f":"IFERROR(VLOOKUP(A265,'E120'!A:J,10,0),0)","v":635420},{"$f":"ROUNDUP(SUMIF('E200'!A:A,A265,'E200'!E:E),-1)","v":0},{"$f":"ROUNDUP(SUMIF('E300'!A:A,A265,'E300'!J:J),-1)","v":0},635420,null,1]
[54051010,null,null,"ค่าเสื่อมราคา-เครื่องมือ เครื่องใช้ คลังพัสดุ",null,{"$f":"IFERROR(VLOOKUP(A266,SAP!L:M,2,0),0)","v":390541.51},{"$f":"IFERROR(VLOOKUP(A266,SAP!N:Q,4,0),0)","v":354865.86857142858},{"$f":"IFERROR(VLOOKUP(A266,SAP!R:S,2,0),0)","v":0},{"$f":"IFERROR(VLOOKUP(A266,'E120'!A:J,10,0),0)","v":195010},{"$f":"ROUNDUP(SUMIF('E200'!A:A,A266,'E200'!E:E),-1)","v":0},{"$f":"ROUNDUP(SUMIF('E300'!A:A,A266,'E300'!J:J),-1)","v":0},195010,null,1]
[54051020,null,null,"ค่าเสื่อมราคา-เครื่องมือ เครื่องใช้โรงซ่อม โรงรถ",null,{"$f":"IFERROR(VLOOKUP(A267,SAP!L:M,2,0),0)","v":684126.88},{"$f":"IFERROR(VLOOKUP(A267,SAP!N:Q,4,0),0)","v":723103.37142857141},{"$f":"IFERROR(VLOOKUP(A267,SAP!R:S,2,0),0)","v":0},{"$f":"IFERROR(VLOOKUP(A267,'E120'!A:J,10,0),0)","v":478880},{"$f":"ROUNDUP(SUMIF('E200'!A:A,A267,'E200'!E:E),-1)","v":0},{"$f":"ROUNDUP(SUMIF('E300'!A:A,A267,'E300'!J:J),-1)","v":0},478880,null,1]
[54051030,null,null,"ค่าเสื่อมราคา-เครื่องมือ เครื่องใช้ โรงงานผลิตภัณฑ์คอนฯ",null,{"$f":"IFERROR(VLOOKUP(A268,SAP!L:M,2,0),0)","v":0},{"$f":"IFERROR(VLOOKUP(A268,SAP!N:Q,4,0),0)","v":0},{"$f":"IFERROR(VLOOKUP(A268,SAP!R:S,2,0),0)","v":0},{"$f":"IFERROR(VLOOKUP(A268,'E120'!A:J,10,0),0)","v":0},{"$f":"ROUNDUP(SUMIF('E200'!A:A,A268,'E200'!E:E),-1)","v":0},{"$f":"ROUNDUP(SUMIF('E300'!A:A,A268,'E300'!J:J),-1)","v":0},0,null,0]
[54051040,null,null,"ค่าเสื่อมราคา-เครื่องมือ เครื่องใช้เบ็ดเตล็ด",null,{"$f":"IFERROR(VLOOKUP(A269,SAP!L:M,2,0),0)","v":26362.19},{"$f":"IFERROR(VLOOKUP(A269,SAP!N:Q,4,0),0)","v":41809.628571428577},{"$f":"IFERROR(VLOOKUP(A269,SAP!R:S,2,0),0)","v":0},{"$f":"IFERROR(VLOOKUP(A269,'E120'!A:J,10,0),0)","v":42000},{"$f":"ROUNDUP(SUMIF('E200'!A:A,A269,'E200'!E:E),-1)","v":0},{"$f":"ROUNDUP(SUMIF('E300'!A:A,A269,'E300'!J:J),-1)","v":0},42000,null,1]
[54052010,null,null,"ค่าเสื่อมราคา-อุปกรณ์สื่อสาร",null,{"$f":"IFERROR(VLOOKUP(A270,SAP!L:M,2,0),0)","v":389246.43},{"$f":"IFERROR(VLOOKUP(A270,SAP!N:Q,4,0),0)","v":410032.73142857145},{"$f":"IFERROR(VLOOKUP(A270,SAP!R:S,2,0),0)","v":0},{"$f":"IFERROR(VLOOKUP(A270,'E120'!A:J,10,0),0)","v":374690},{"$f":"ROUNDUP(SUMIF('E200'!A:A,A270,'E200'!E:E),-1)","v":0},{"$f":"ROUNDUP(SUMIF('E300'!A:A,A270,'E300'!J:J),-1)","v":0},374690,null,1]
[54052020,null,null,"ค่าเสื่อมราคา-ระบบสื่อสารสายใยแก้วนำแสงติดตั้งภายนอก",null,{"$f":"IFERROR(VLOOKUP(A271,SAP!L:M,2,0),0)","v":305999.40999999997},{"$f":"IFERROR(VLOOKUP(A271,SAP!N:Q,4,0),0)","v":300203.91428571427},{"$f":"IFERROR(VLOOKUP(A271,SAP!R:S,2,0),0)","v":0},{"$f":"IFERROR(VLOOKUP(A271,'E120'!A:J,10,0),0)","v":292540},{"$f":"ROUNDUP(SUMIF('E200'!A:A,A271,'E200'!E:E),-1)","v":0},{"$f":"ROUNDUP(SUMIF('E300'!A:A,A271,'E300'!J:J),-1)","v":0},292540,null,1]
[54052030,null,null,"ค่าเสื่อมราคา-ระบบสื่อสารสายใยแก้วนำแสงติดตั้งภายใน",null,{"$f":"IFERROR(VLOOKUP(A272,SAP!L:M,2,0),0)","v":680239.44},{"$f":"IFERROR(VLOOKUP(A272,SAP!N:Q,4,0),0)","v":455676.61714285711},{"$f":"IFERROR(VLOOKUP(A272,SAP!R:S,2,0),0)","v":0},{"$f":"IFERROR(VLOOKUP(A272,'E120'!A:J,10,0),0)","v":457650},{"$f":"ROUNDUP(SUMIF('E200'!A:A,A272,'E200'!E:E),-1)","v":0},{"$f":"ROUNDUP(SUMIF('E300'!A:A,A272,'E300'!J:J),-1)","v":0},457650,null,1]
[null,null,"ค่าเสื่อมราคา-ยานพาหนะ",null,null,null,null,null,null,null,null,null,null,{"$f":"IF(SUM(N274:N277)>0,1,0)","v":1}]
[54060010,null,null,"ค่าเสื่อมราคา-รถยนต์นั่ง",null,{"$f":"IFERROR(VLOOKUP(A274,SAP!L:M,2,0),0)","v":0},{"$f":"IFERROR(VLOOKUP(A274,SAP!N:Q,4,0),0)","v":0},{"$f":"IFERROR(VLOOKUP(A274,SAP!R:S,2,0),0)","v":0},{"$f":"IFERROR(VLOOKUP(A274,'E120'!A:J,10,0),0)","v":0},{"$f":"ROUNDUP(SUMIF('E200'!A:A,A274,'E200'!E:E),-1)","v":0},{"$f":"ROUNDUP(SUMIF('E300'!A:A,A274,'E300'!J:J),-1)","v":0},{"$f":"SUM(I274:K274)","v":0},null,{"$f":"IF(SUM(F274:K274)>0,1,0)","v":0}]
[54060020,null,null,"ค่าเสื่อมราคา-รถยนต์โดยสารเกิน 10 ที่นั่ง",null,{"$f":"IFERROR(VLOOKUP(A275,SAP!L:M,2,0),0)","v":0},{"$f":"IFERROR(VLOOKUP(A275,SAP!N:Q,4,0),0)","v":0},{"$f":"IFERROR(VLOOKUP(A275,SAP!R:S,2,0),0)","v":0},{"$f":"IFERROR(VLOOKUP(A275,'E120'!A:J,10,0),0)","v":0},{"$f":"ROUNDUP(SUMIF('E200'!A:A,A275,'E200'!E:E),-1)","v":0},{"$f":"ROUNDUP(SUMIF('E300'!A:A,A275,'E300'!J:J),-1)","v":0},{"$f":"SUM(I275:K275)","v":0},null,0]
[54060030,null,null,"ค่าเสื่อมราคา-รถยนต์บรรทุก",null,{"$f":"IFERROR(VLOOKUP(A276,SAP!L:M,2,0),0)","v":1784834.99},{"$f":"IFERROR(VLOOKUP(A276,SAP!N:Q,4,0),0)","v":2155928.8971428573},{"$f":"IFERROR(VLOOKUP(A276,SAP!R:S,2,0),0)","v":0},{"$f":"IFERROR(VLOOKUP(A276,'E120'!A:J,10,0),0)","v":1497890},{"$f":"ROUNDUP(SUMIF('E200'!A:A,A276,'E200'!E:E),-1)","v":0},{"$f":"ROUNDUP(SUMIF('E300'!A:A,A276,'E300'!J:J),-1)","v":0},{"$f":"SUM(I276:K276)","v":1497890},null,1]
[54060040,null,null,"ค่าเสื่อมราคา-ยานพาหนะอื่น",null,{"$f":"IFERROR(VLOOKUP(A277,SAP!L:M,2,0),0)","v":24257.200000000001},{"$f":"IFERROR(VLOOKUP(A277,SAP!N:Q,4,0),0)","v":85589.88},{"$f":"IFERROR(VLOOKUP(A277,SAP!R:S,2,0),0)","v":0},{"$f":"IFERROR(VLOOKUP(A277,'E120'!A:J,10,0),0)","v":85960},{"$f":"ROUNDUP(SUMIF('E200'!A:A,A277,'E200'!E:E),-1)","v":0},{"$f":"ROUNDUP(SUMIF('E300'!A:A,A277,'E300'!J:J),-1)","v":0},{"$f":"SUM(I277:K277)","v":85960},null,1]
[null,null,"ค่าเสื่อมราคา-สินทรัพย์ไม่มีตัวตน",null,null,null,null,null,null,null,null,null,null,{"$f":"IF(SUM(N279:N280)>0,1,0)","v":0}]
[54070010,null,null,"ค่าตัดจำหน่าย-โปรแกรมคอมพิวเตอร์",null,{"$f":"IFERROR(VLOOKUP(A279,SAP!L:M,2,0),0)","v":0},{"$f":"IFERROR(VLOOKUP(A279,SAP!N:Q,4,0),0)","v":0},{"$f":"IFERROR(VLOOKUP(A279,SAP!R:S,2,0),0)","v":0},{"$f":"IFERROR(VLOOKUP(A279,'E120'!A:J,10,0),0)","v":0},{"$f":"ROUNDUP(SUMIF('E200'!A:A,A279,'E200'!E:E),-1)","v":0},{"$f":"ROUNDUP(SUMIF('E300'!A:A,A279,'E300'!J:J),-1)","v":0},{"$f":"SUM(I279:K279)","v":0},null,{"$f":"IF(SUM(F279:K279)>0,1,0)","v":0}]
[54070020,null,null,"ค่าตัดจำหน่าย-ลิขสิทธิ์",null,{"$f":"IFERROR(VLOOKUP(A280,SAP!L:M,2,0),0)","v":0},{"$f":"IFERROR(VLOOKUP(A280,SAP!N:Q,4,0),0)","v":0},{"$f":"IFERROR(VLOOKUP(A280,SAP!R:S,2,0),0)","v":0},{"$f":"IFERROR(VLOOKUP(A280,'E120'!A:J,10,0),0)","v":0},{"$f":"ROUNDUP(SUMIF('E200'!A:A,A280,'E200'!E:E),-1)","v":0},{"$f":"ROUNDUP(SUMIF('E300'!A:A,A280,'E300'!J:J),-1)","v":0},{"$f":"SUM(I280:K280)","v":0},null,0]
[null,null,"ค่าเสื่อมราคา-สินทรัพย์สิทธิการใช้",null,null,null,null,null,null,null,null,null,null,{"$f":"IF(SUM(N282:N288)>0,1,0)","v":1}]
[54080010,null,null,"ค่าเสื่อมราคาสิทธิการใช้-ที่ดิน",null,{"$f":"IFERROR(VLOOKUP(A282,SAP!L:M,2,0),0)","v":388098.19},{"$f":"IFERROR(VLOOKUP(A282,SAP!N:Q,4,0),0)","v":442030.02857142861},{"$f":"IFERROR(VLOOKUP(A282,SAP!R:S,2,0),0)","v":0},{"$f":"IFERROR(VLOOKUP(A282,'E120'!A:J,10,0),0)","v":55850},{"$f":"ROUNDUP(SUMIF('E200'!A:A,A282,'E200'!E:E),-1)","v":0},{"$f":"ROUNDUP(SUMIF('E300'!A:A,A282,'E300'!J:J),-1)","v":0},{"$f":"SUM(I282:K282)","v":55850},null,1]
[54080020,null,null,"ค่าเสื่อมราคาสิทธิการใช้-อาคารสิ่งปลูกสร้าง",null,{"$f":"IFERROR(VLOOKUP(A283,SAP!L:M,2,0),0)","v":105546.73},{"$f":"IFERROR(VLOOKUP(A283,SAP!N:Q,4,0),0)","v":105092.33142857143},{"$f":"IFERROR(VLOOKUP(A283,SAP!R:S,2,0),0)","v":0},{"$f":"IFERROR(VLOOKUP(A283,'E120'!A:J,10,0),0)","v":0},{"$f":"ROUNDUP(SUMIF('E200'!A:A,A283,'E200'!E:E),-1)","v":0},{"$f":"ROUNDUP(SUMIF('E300'!A:A,A283,'E300'!J:J),-1)","v":0},0,null,1]
[54080030,null,null,"ค่าเสื่อมราคาสิทธิการใช้-ระบบผลิตกระแสไฟฟ้า",null,{"$f":"IFERROR(VLOOKUP(A284,SAP!L:M,2,0),0)","v":0},{"$f":"IFERROR(VLOOKUP(A284,SAP!N:Q,4,0),0)","v":0},{"$f":"IFERROR(VLOOKUP(A284,SAP!R:S,2,0),0)","v":0},{"$f":"IFERROR(VLOOKUP(A284,'E120'!A:J,10,0),0)","v":0},{"$f":"ROUNDUP(SUMIF('E200'!A:A,A284,'E200'!E:E),-1)","v":0},{"$f":"ROUNDUP(SUMIF('E300'!A:A,A284,'E300'!J:J),-1)","v":0},0,null,0]
[54080050,null,null,"ค่าเสื่อมราคาสิทธิการใช้-เครื่องตกแต่งฯ",null,{"$f":"IFERROR(VLOOKUP(A285,SAP!L:M,2,0),0)","v":0},{"$f":"IFERROR(VLOOKUP(A285,SAP!N:Q,4,0),0)","v":0},{"$f":"IFERROR(VLOOKUP(A285,SAP!R:S,2,0),0)","v":0},{"$f":"IFERROR(VLOOKUP(A285,'E120'!A:J,10,0),0)","v":0},{"$f":"ROUNDUP(SUMIF('E200'!A:A,A285,'E200'!E:E),-1)","v":0},{"$f":"ROUNDUP(SUMIF('E300'!A:A,A285,'E300'!J:J),-1)","v":0},0,null,0]
[54080060,null,null,"ค่าเสื่อมราคาสิทธิการใช้-ยานพาหนะ",null,{"$f":"IFERROR(VLOOKUP(A286,SAP!L:M,2,0),0)","v":1997153.21},{"$f":"IFERROR(VLOOKUP(A286,SAP!N:Q,4,0),0)","v":2028070.2},{"$f":"IFERROR(VLOOKUP(A286,SAP!R:S,2,0),0)","v":0},{"$f":"IFERROR(VLOOKUP(A286,'E120'!A:J,10,0),0)","v":572750},{"$f":"ROUNDUP(SUMIF('E200'!A:A,A286,'E200'!E:E),-1)","v":0},{"$f":"ROUNDUP(SUMIF('E300'!A:A,A286,'E300'!J:J),-1)","v":0},572750,null,1]
[54080070,null,null,"ค่าเสื่อมราคาสิทธิการใช้-สินทรัพย์ไม่มีตัวตน",null,{"$f":"IFERROR(VLOOKUP(A287,SAP!L:M,2,0),0)","v":0},{"$f":"IFERROR(VLOOKUP(A287,SAP!N:Q,4,0),0)","v":0},{"$f":"IFERROR(VLOOKUP(A287,SAP!R:S,2,0),0)","v":0},{"$f":"IFERROR(VLOOKUP(A287,'E120'!A:J,10,0),0)","v":0},{"$f":"ROUNDUP(SUMIF('E200'!A:A,A287,'E200'!E:E),-1)","v":0},{"$f":"ROUNDUP(SUMIF('E300'!A:A,A287,'E300'!J:J),-1)","v":0},0,null,0]
[54080090,null,null,"ค่าเสื่อมราคาสิทธิการใช้-สินทรัพย์อื่น",null,{"$f":"IFERROR(VLOOKUP(A288,SAP!L:M,2,0),0)","v":0},{"$f":"IFERROR(VLOOKUP(A288,SAP!N:Q,4,0),0)","v":0},{"$f":"IFERROR(VLOOKUP(A288,SAP!R:S,2,0),0)","v":0},{"$f":"IFERROR(VLOOKUP(A288,'E120'!A:J,10,0),0)","v":0},{"$f":"ROUNDUP(SUMIF('E200'!A:A,A288,'E200'!E:E),-1)","v":0},{"$f":"ROUNDUP(SUMIF('E300'!A:A,A288,'E300'!J:J),-1)","v":0},0,null,0]
[null,null,"ขาดทุนจากการด้อยค่าสินทรัพย์",null,null,null,null,null,null,null,null,null,null,{"$f":"IF(SUM(N290:N292)>0,1,0)","v":0}]
[54540008,null,null,"ขาดทุนจากการด้อยค่าสินทรัพย์ -ระบบจำหน่าย",null,{"$f":"IFERROR(VLOOKUP(A290,SAP!L:M,2,0),0)","v":0},{"$f":"IFERROR(VLOOKUP(A290,SAP!N:Q,4,0),0)","v":0},{"$f":"IFERROR(VLOOKUP(A290,SAP!R:S,2,0),0)","v":0},{"$f":"IFERROR(VLOOKUP(A290,'E120'!A:J,10,0),0)","v":0},{"$f":"ROUNDUP(SUMIF('E200'!A:A,A290,'E200'!E:E),-1)","v":0},{"$f":"ROUNDUP(SUMIF('E300'!A:A,A290,'E300'!J:J),-1)","v":0},{"$f":"SUM(I290:K290)","v":0},null,{"$f":"IF(SUM(F290:K290)>0,1,0)","v":0}]
[54550008,null,null,"ขาดทุนจากการด้อยค่าสินทรัพย์ -เครื่องตกแต่งฯ",null,{"$f":"IFERROR(VLOOKUP(A291,SAP!L:M,2,0),0)","v":0},{"$f":"IFERROR(VLOOKUP(A291,SAP!N:Q,4,0),0)","v":0},{"$f":"IFERROR(VLOOKUP(A291,SAP!R:S,2,0),0)","v":0},{"$f":"IFERROR(VLOOKUP(A291,'E120'!A:J,10,0),0)","v":0},{"$f":"ROUNDUP(SUMIF('E200'!A:A,A291,'E200'!E:E),-1)","v":0},{"$f":"ROUNDUP(SUMIF('E300'!A:A,A291,'E300'!J:J),-1)","v":0},{"$f":"SUM(I291:K291)","v":0},null,0]
[54551008,null,null,"ขาดทุนจากการด้อยค่าสินทรัพย์ -เครื่องมือฯ",null,{"$f":"IFERROR(VLOOKUP(A292,SAP!L:M,2,0),0)","v":0},{"$f":"IFERROR(VLOOKUP(A292,SAP!N:Q,4,0),0)","v":0},{"$f":"IFERROR(VLOOKUP(A292,SAP!R:S,2,0),0)","v":0},{"$f":"IFERROR(VLOOKUP(A292,'E120'!A:J,10,0),0)","v":0},{"$f":"ROUNDUP(SUMIF('E200'!A:A,A292,'E200'!E:E),-1)","v":0},{"$f":"ROUNDUP(SUMIF('E300'!A:A,A292,'E300'!J:J),-1)","v":0},{"$f":"SUM(I292:K292)","v":0},null,0]
[null,null,"ค่าเสื่อมราคา-สิ่งปลูกสร้างที่ไม่ใช้ประโยชน์",null,null,null,null,null,null,null,null,null,null,{"$f":"IF(SUM(N294)>0,1,0)","v":0}]
[54610010,null,null,"ค่าเสื่อมราคา - สิ่งปลูกสร้างที่ไม่ใช้ประโยชน์",null,{"$f":"IFERROR(VLOOKUP(A294,SAP!L:M,2,0),0)","v":0},{"$f":"IFERROR(VLOOKUP(A294,SAP!N:Q,4,0),0)","v":0},{"$f":"IFERROR(VLOOKUP(A294,SAP!R:S,2,0),0)","v":0},{"$f":"IFERROR(VLOOKUP(A294,'E120'!A:J,10,0),0)","v":0},{"$f":"SUMIF('E200'!$A$33:A51,A294,'E200'!$E$33:E51)","v":0},{"$f":"ROUNDUP(SUMIF('E300'!A:A,A294,'E300'!J:J),-1)","v":0},{"$f":"SUM(I294:K294)","v":0},null,0]
[null,"ค่าใช้จ่ายทางการเงิน",null,null,null,null,null,null,null,null,null,null,null,{"$f":"IF(SUM(N296:N304)>0,1,0)","v":1}]
[null,null,"ค่าใช้จ่ายในการจัดการและบริหารการเงิน",null,null,null,null,null,null,null,null,null,null,{"$f":"IF(SUM(N297:N298)>0,1,0)","v":0}]
[55010010,null,null,"ค่าธรรมเนียมจัดการเงินกู้",null,{"$f":"IFERROR(VLOOKUP(A297,SAP!L:M,2,0),0)","v":0},{"$f":"IFERROR(VLOOKUP(A297,SAP!N:Q,4,0),0)","v":0},{"$f":"IFERROR(VLOOKUP(A297,SAP!R:S,2,0),0)","v":0},{"$f":"IFERROR(VLOOKUP(A297,'E120'!A:J,10,0),0)","v":0},{"$f":"ROUNDUP(SUMIF('E200'!A:A,A297,'E200'!E:E),-1)","v":0},{"$f":"ROUNDUP(SUMIF('E300'!A:A,A297,'E300'!J:J),-1)","v":0},{"$f":"SUM(I297:K297)","v":0},null,{"$f":"IF(SUM(F297:K297)>0,1,0)","v":0}]
[55010019,null,null,"ปรับปรุงค่าธรรมเนียมจัดการเงินกู้ ",null,{"$f":"IFERROR(VLOOKUP(A298,SAP!L:M,2,0),0)","v":0},{"$f":"IFERROR(VLOOKUP(A298,SAP!N:Q,4,0),0)","v":0},{"$f":"IFERROR(VLOOKUP(A298,SAP!R:S,2,0),0)","v":0},{"$f":"IFERROR(VLOOKUP(A298,'E120'!A:J,10,0),0)","v":0},{"$f":"ROUNDUP(SUMIF('E200'!A:A,A298,'E200'!E:E),-1)","v":0},{"$f":"ROUNDUP(SUMIF('E300'!A:A,A298,'E300'!J:J),-1)","v":0},{"$f":"SUM(I298:K298)","v":0},null,0]
[null,null,"ดอกเบี้ยจ่าย",null,null,null,null,null,null,null,null,null,null,{"$f":"IF(SUM(N300:N304)>0,1,0)","v":1}]
[55020010,null,null,"ดอกเบี้ยจ่าย-ธนาคาร",null,{"$f":"IFERROR(VLOOKUP(A300,SAP!L:M,2,0),0)","v":0},{"$f":"IFERROR(VLOOKUP(A300,SAP!N:Q,4,0),0)","v":0},{"$f":"IFERROR(VLOOKUP(A300,SAP!R:S,2,0),0)","v":0},{"$f":"IFERROR(VLOOKUP(A300,'E120'!A:J,10,0),0)","v":0},{"$f":"ROUNDUP(SUMIF('E200'!A:A,A300,'E200'!E:E),-1)","v":0},{"$f":"ROUNDUP(SUMIF('E300'!A:A,A300,'E300'!J:J),-1)","v":0},{"$f":"SUM(I300:K300)","v":0},null,{"$f":"IF(SUM(F300:K300)>0,1,0)","v":0}]
[55020020,null,null,"ดอกเบี้ยจ่ายเงินกู้",null,{"$f":"IFERROR(VLOOKUP(A301,SAP!L:M,2,0),0)","v":0},{"$f":"IFERROR(VLOOKUP(A301,SAP!N:Q,4,0),0)","v":0},{"$f":"IFERROR(VLOOKUP(A301,SAP!R:S,2,0),0)","v":0},{"$f":"IFERROR(VLOOKUP(A301,'E120'!A:J,10,0),0)","v":0},{"$f":"ROUNDUP(SUMIF('E200'!A:A,A301,'E200'!E:E),-1)","v":0},{"$f":"ROUNDUP(SUMIF('E300'!A:A,A301,'E300'!J:J),-1)","v":0},{"$f":"SUM(I301:K301)","v":0},null,0]
[55020029,null,null,"ปรับปรุงดอกเบี้ยจ่ายพันธบัตรตามอัตราดอกเบี้ยที่แท้จริง",null,{"$f":"IFERROR(VLOOKUP(A302,SAP!L:M,2,0),0)","v":0},{"$f":"IFERROR(VLOOKUP(A302,SAP!N:Q,4,0),0)","v":0},{"$f":"IFERROR(VLOOKUP(A302,SAP!R:S,2,0),0)","v":0},{"$f":"IFERROR(VLOOKUP(A302,'E120'!A:J,10,0),0)","v":0},{"$f":"ROUNDUP(SUMIF('E200'!A:A,A302,'E200'!E:E),-1)","v":0},{"$f":"ROUNDUP(SUMIF('E300'!A:A,A302,'E300'!J:J),-1)","v":0},{"$f":"SUM(I302:K302)","v":0},null,0]
[55020030,null,null,"ดอกเบี้ยจ่าย-สัญญาเช่า",null,{"$f":"IFERROR(VLOOKUP(A303,SAP!L:M,2,0),0)","v":275212.84999999998},{"$f":"IFERROR(VLOOKUP(A303,SAP!N:Q,4,0),0)","v":187558.30285714284},{"$f":"IFERROR(VLOOKUP(A303,SAP!R:S,2,0),0)","v":0},{"$f":"IFERROR(VLOOKUP(A303,'E120'!A:J,10,0),0)","v":0},{"$f":"ROUNDUP(SUMIF('E200'!A:A,A303,'E200'!E:E),-1)","v":0},{"$f":"ROUNDUP(SUMIF('E300'!A:A,A303,'E300'!J:J),-1)","v":0},{"$f":"SUM(I303:K303)","v":0},null,1]
[55020040,null,null,"ดอกเบี้ยจ่ายตามสัญญาจ้างเหมาแบบผ่อนชำระ",null,{"$f":"IFERROR(VLOOKUP(A304,SAP!L:M,2,0),0)","v":0},{"$f":"IFERROR(VLOOKUP(A304,SAP!N:Q,4,0),0)","v":0},{"$f":"IFERROR(VLOOKUP(A304,SAP!R:S,2,0),0)","v":0},{"$f":"IFERROR(VLOOKUP(A304,'E120'!A:J,10,0),0)","v":0},{"$f":"ROUNDUP(SUMIF('E200'!A:A,A304,'E200'!E:E),-1)","v":0},{"$f":"ROUNDUP(SUMIF('E300'!A:A,A304,'E300'!J:J),-1)","v":0},{"$f":"SUM(I304:K304)","v":0},null,0]
[null,"รวมค่าใช้จ่ายในการดำเนินงาน",null,null,null,{"$f":"SUBTOTAL(109,F89:F304)","v":153545864.28999993},169911022.33714283,0,152317960,0,0,{"$f":"SUBTOTAL(109,L89:L304)","v":152317960},null,{"$f":"N89","v":1}]
[null,"รวมค่าใช้จ่ายทั้งสิ้น",null,null,null,{"$f":"SUBTOTAL(109,F9:F305)","v":1778157391.2200007},{"$f":"SUBTOTAL(109,G9:G305)","v":2004855714.3257139},0,2516718770,0,0,2516718770]

{"sheet":"R100","index":6,"n_rows":750,"n_cols":13,"rows_kept":750,"cut":false,"hidden":false,"merged":[[730,1,730,7],[0,0,0,8],[1,0,1,8],[2,0,2,8],[5,1,5,7],[630,1,630,7],[633,1,633,7]]}
["คำชี้แจงประกอบ",null,null,null,null,null,null,null,null,"งป. (ท)_1"]
[{"$f":"\"งบประมาณทำการประจำปี \"&A_Budget_year","v":"งบประมาณทำการประจำปี 2567"}]
["งานประจำของหน่วยงาน - รายได้และต้นทุนขาย/ บริการ"]
[null,null,null,null,null,null,null,null,{"$f":"Head_division","v":"เขต: "},{"$f":"Head_division2","v":"กฟน.3 - 07"}]
[null,null,null,null,null,null,null,null,"หน่วย:","บาท"]
["รหัสบัญชี","รายการ /รายละเอียด / คำชี้แจงประกอบ",null,null,null,null,null,null,"รวม","รวมสุทธิ"]
[null,null,null,null,null,null,null,null,null,null,null,null,41010010]
[41010010,{"$f":"IF(A8=\"\",\"<< กรอกรหัสบัญชี (รายได้)\",IFERROR(VLOOKUP(A8,'R001'!A:I,4,0),\"ไม่มีรหัสบัญชีนี้\"))","v":"รายได้จากการจำหน่ายไฟฟ้า"},null,null,null,null,null,{"$f":"IF(COUNTIF(A:A,A8)>1,\"รหัสบัญชีซ้ำ โปรดตรวจสอบ\",\"\")","v":""},null,{"$f":"ROUNDUP(SUBTOTAL(109,I7:I14),-1)","v":2065000000},null,null,41010020]
[null,"รายละเอียด","คำนวณเพิ่ม 10% จากยอดประมาณการรายได้เต็มปี ปี 65",null,null,null,null,null,null,null,null,null,41011040]
[null,null,"กฟอ.หนองไผ่ พิจารณาขอตั้งงบประมาณปี 2567",null,null,null,null,null,400000000,null,null,null,41012010]
[null,null,"กฟส.วิเชียรบุรี และ กฟย.พุเตย พิจารณาขอตั้งงบประมาณปี 2567",null,null,null,null,null,515000000,null,null,null,41012020]
[null,null,"กฟส.บึงสามพัน พิจารณาขอตั้งงบประมาณปี 2567",null,null,null,null,null,790000000,null,null,null,41030010]
[null,null,"กฟส.ศรีเทพ พิจารณาขอตั้งงบประมาณปี 2567",null,null,null,null,null,360000000,null,null,null,41030020]
[null,null,null,null,null,null,null,null,null,null,null,null,41030030]
[null,null,null,null,null,null,null,null,null,null,null,null,41030040]
[41010020,{"$f":"IF(A16=\"\",\"<< กรอกรหัสบัญชี (รายได้)\",IFERROR(VLOOKUP(A16,'R001'!A:I,4,0),\"ไม่มีรหัสบัญชีนี้\"))","v":"ปรับปรุงรายได้จากการจำหน่ายไฟฟ้า"},null,null,null,null,null,{"$f":"IF(COUNTIF(A:A,A16)>1,\"รหัสบัญชีซ้ำ โปรดตรวจสอบ\",\"\")","v":""},null,{"$f":"ROUNDUP(SUBTOTAL(109,I15:I22),-1)","v":193500},null,null,41030050]
[null,"รายละเอียด","คำนวณเพิ่ม 10% จากยอดประมาณการรายได้เต็มปี ปี 65",null,null,null,null,null,null,null,null,null,41030990]
[null,null,"กฟอ.หนองไผ่ พิจารณาขอตั้งงบประมาณปี 2567",null,null,null,null,null,40000,null,null,null,41031010]
[null,null,"กฟส.วิเชียรบุรี และ กฟย.พุเตย พิจารณาขอตั้งงบประมาณปี 2567",null,null,null,null,null,5000,null,null,null,41031020]
[null,null,"กฟส.บึงสามพัน พิจารณาขอตั้งงบประมาณปี 2567",null,null,null,null,null,-1500,null,null,null,41031030]
[null,null,"กฟส.ศรีเทพ พิจารณาขอตั้งงบประมาณปี 2567",null,null,null,null,null,150000,null,null,null,41031040]
[null,null,null,null,null,null,null,null,null,null,null,null,41031050]
[null,null,null,null,null,null,null,null,null,null,null,null,41031990]
[41011040,{"$f":"IF(A24=\"\",\"<< กรอกรหัสบัญชี (รายได้)\",IFERROR(VLOOKUP(A24,'R001'!A:I,4,0),\"ไม่มีรหัสบัญชีนี้\"))","v":"รายได้จากการให้บริการสถานีอัดประจุไฟฟ้า"},null,null,null,null,null,{"$f":"IF(COUNTIF(A:A,A24)>1,\"รหัสบัญชีซ้ำ โปรดตรวจสอบ\",\"\")","v":""},null,{"$f":"ROUNDUP(SUBTOTAL(109,I23:I30),-1)","v":0},null,null,41032010]
[null,"รายละเอียด","คำนวณเพิ่ม 10% จากยอดประมาณการรายได้เต็มปี ปี 65",null,null,null,null,null,null,null,null,null,41032019]
[null,null,"กฟอ.หนองไผ่ พิจารณาขอตั้งงบประมาณปี 2567",null,null,null,null,null,null,null,null,null,41032020]
[null,null,"กฟส.วิเชียรบุรี และ กฟย.พุเตย พิจารณาขอตั้งงบประมาณปี 2567",null,null,null,null,null,null,null,null,null,41032029]
[null,null,"กฟส.บึงสามพัน พิจารณาขอตั้งงบประมาณปี 2567",null,null,null,null,null,null,null,null,null,41032030]
[null,null,"กฟส.ศรีเทพ พิจารณาขอตั้งงบประมาณปี 2567",null,null,null,null,null,null,null,null,null,41032039]
[null,null,null,null,null,null,null,null,null,null,null,null,41033010]
[null,null,null,null,null,null,null,null,null,null,null,null,41033020]
[41012010,{"$f":"IF(A32=\"\",\"<< กรอกรหัสบัญชี (รายได้)\",IFERROR(VLOOKUP(A32,'R001'!A:I,4,0),\"ไม่มีรหัสบัญชีนี้\"))","v":"เงินชดเชยรายได้"},null,null,null,null,null,{"$f":"IF(COUNTIF(A:A,A32)>1,\"รหัสบัญชีซ้ำ โปรดตรวจสอบ\",\"\")","v":""},null,{"$f":"ROUNDUP(SUBTOTAL(109,I31:I38),-1)","v":46000000},null,null,41033029]
[null,"รายละเอียด","คำนวณเพิ่ม 10% จากยอดประมาณการรายได้เต็มปี ปี 65",null,null,null,null,null,null,null,null,null,41034010]
[null,null,"กฟอ.หนองไผ่ พิจารณาขอตั้งงบประมาณปี 2567",null,null,null,null,null,9000000,null,null,null,41034020]
[null,null,"กฟส.วิเชียรบุรี และ กฟย.พุเตย พิจารณาขอตั้งงบประมาณปี 2567",null,null,null,null,null,11000000,null,null,null,41034030]
[null,null,"กฟส.บึงสามพัน พิจารณาขอตั้งงบประมาณปี 2567",null,null,null,null,null,18000000,null,null,null,41034040]
[null,null,"กฟส.ศรีเทพ พิจารณาขอตั้งงบประมาณปี 2567",null,null,null,null,null,8000000,null,null,null,41034990]
[null,null,null,null,null,null,null,null,null,null,null,null,41035010]
[null,null,null,null,null,null,null,null,null,null,null,null,41035019]
[41012020,{"$f":"IF(A40=\"\",\"<< กรอกรหัสบัญชี (รายได้)\",IFERROR(VLOOKUP(A40,'R001'!A:I,4,0),\"ไม่มีรหัสบัญชีนี้\"))","v":"เงินสนับสนุนมาตรการรัฐ"},null,null,null,null,null,{"$f":"IF(COUNTIF(A:A,A40)>1,\"รหัสบัญชีซ้ำ โปรดตรวจสอบ\",\"\")","v":""},null,{"$f":"ROUNDUP(SUBTOTAL(109,I39:I46),-1)","v":13100000},null,null,41035020]
[null,"รายละเอียด","คำนวณเพิ่ม 10% จากยอดประมาณการรายได้เต็มปี ปี 65",null,null,null,null,null,null,null,null,null,41036010]
[null,null,"กฟอ.หนองไผ่ พิจารณาขอตั้งงบประมาณปี 2567",null,null,null,null,null,3500000,null,null,null,41036020]
[null,null,"กฟส.วิเชียรบุรี และ กฟย.พุเตย พิจารณาขอตั้งงบประมาณปี 2567",null,null,null,null,null,4150000,null,null,null,41036030]
[null,null,"กฟส.บึงสามพัน พิจารณาขอตั้งงบประมาณปี 2567",null,null,null,null,null,2900000,null,null,null,41037010]
[null,null,"กฟส.ศรีเทพ พิจารณาขอตั้งงบประมาณปี 2567",null,null,null,null,null,2550000,null,null,null,41038010]
[null,null,null,null,null,null,null,null,null,null,null,null,41039010]
[null,null,null,null,null,null,null,null,null,null,null,null,41039020]
[41030010,{"$f":"IF(A48=\"\",\"<< กรอกรหัสบัญชี (รายได้)\",IFERROR(VLOOKUP(A48,'R001'!A:I,4,0),\"ไม่มีรหัสบัญชีนี้\"))","v":"รายได้จากการขายหม้อแปลง"},null,null,null,null,null,{"$f":"IF(COUNTIF(A:A,A48)>1,\"รหัสบัญชีซ้ำ โปรดตรวจสอบ\",\"\")","v":""},null,{"$f":"ROUNDUP(SUBTOTAL(109,I47:I54),-1)","v":0},null,null,41039029]
[null,"รายละเอียด","คำนวณเพิ่ม 10% จากยอดประมาณการรายได้เต็มปี ปี 65",null,null,null,null,null,null,null,null,null,41039030]
[null,null,"กฟอ.หนองไผ่ พิจารณาขอตั้งงบประมาณปี 2567",null,null,null,null,null,null,null,null,null,41039039]
[null,null,"กฟส.วิเชียรบุรี และ กฟย.พุเตย พิจารณาขอตั้งงบประมาณปี 2567",null,null,null,null,null,null,null,null,null,41039040]
[null,null,"กฟส.บึงสามพัน พิจารณาขอตั้งงบประมาณปี 2567",null,null,null,null,null,null,null,null,null,41039050]
[null,null,"กฟส.ศรีเทพ พิจารณาขอตั้งงบประมาณปี 2567",null,null,null,null,null,null,null,null,null,41039060]
[null,null,null,null,null,null,null,null,null,null,null,null,41039080]
[null,null,null,null,null,null,null,null,null,null,null,null,41039089]
[41030020,{"$f":"IF(A56=\"\",\"<< กรอกรหัสบัญชี (รายได้)\",IFERROR(VLOOKUP(A56,'R001'!A:I,4,0),\"ไม่มีรหัสบัญชีนี้\"))","v":"รายได้จากการขายมิเตอร์"},null,null,null,null,null,{"$f":"IF(COUNTIF(A:A,A56)>1,\"รหัสบัญชีซ้ำ โปรดตรวจสอบ\",\"\")","v":""},null,{"$f":"ROUNDUP(SUBTOTAL(109,I55:I62),-1)","v":0},null,null,41039090]
[null,"รายละเอียด","คำนวณเพิ่ม 10% จากยอดประมาณการรายได้เต็มปี ปี 65",null,null,null,null,null,null,null,null,null,41039099]
[null,null,"กฟอ.หนองไผ่ พิจารณาขอตั้งงบประมาณปี 2567",null,null,null,null,null,null,null,null,null,41039100]
[null,null,"กฟส.วิเชียรบุรี และ กฟย.พุเตย พิจารณาขอตั้งงบประมาณปี 2567",null,null,null,null,null,null,null,null,null,41039110]
[null,null,"กฟส.บึงสามพัน พิจารณาขอตั้งงบประมาณปี 2567",null,null,null,null,null,null,null,null,null,41039120]
[null,null,"กฟส.ศรีเทพ พิจารณาขอตั้งงบประมาณปี 2567",null,null,null,null,null,null,null,null,null,41039130]
[null,null,null,null,null,null,null,null,null,null,null,null,41039140]
[null,null,null,null,null,null,null,null,null,null,null,null,41039150]
[41030030,{"$f":"IF(A64=\"\",\"<< กรอกรหัสบัญชี (รายได้)\",IFERROR(VLOOKUP(A64,'R001'!A:I,4,0),\"ไม่มีรหัสบัญชีนี้\"))","v":"รายได้จากการขายคาปาซิเตอร์"},null,null,null,null,null,{"$f":"IF(COUNTIF(A:A,A64)>1,\"รหัสบัญชีซ้ำ โปรดตรวจสอบ\",\"\")","v":""},null,{"$f":"ROUNDUP(SUBTOTAL(109,I63:I70),-1)","v":0},null,null,41039160]
[null,"รายละเอียด","คำนวณเพิ่ม 10% จากยอดประมาณการรายได้เต็มปี ปี 65",null,null,null,null,null,null,null,null,null,41039990]
[null,null,"กฟอ.หนองไผ่ พิจารณาขอตั้งงบประมาณปี 2567",null,null,null,null,null,null,null,null,null,49010010]
[null,null,"กฟส.วิเชียรบุรี และ กฟย.พุเตย พิจารณาขอตั้งงบประมาณปี 2567",null,null,null,null,null,null,null,null,null,49019010]
[null,null,"กฟส.บึงสามพัน พิจารณาขอตั้งงบประมาณปี 2567",null,null,null,null,null,null,null,null,null,49020010]
[null,null,"กฟส.ศรีเทพ พิจารณาขอตั้งงบประมาณปี 2567",null,null,null,null,null,null,null,null,null,49020020]
[null,null,null,null,null,null,null,null,null,null,null,null,49020030]
[null,null,null,null,null,null,null,null,null,null,null,null,49020040]
[41030040,{"$f":"IF(A72=\"\",\"<< กรอกรหัสบัญชี (รายได้)\",IFERROR(VLOOKUP(A72,'R001'!A:I,4,0),\"ไม่มีรหัสบัญชีนี้\"))","v":"รายได้จากการขายเสา"},null,null,null,null,null,{"$f":"IF(COUNTIF(A:A,A72)>1,\"รหัสบัญชีซ้ำ โปรดตรวจสอบ\",\"\")","v":""},null,{"$f":"ROUNDUP(SUBTOTAL(109,I71:I78),-1)","v":0},null,null,49020050]
[null,"รายละเอียด","คำนวณเพิ่ม 10% จากยอดประมาณการรายได้เต็มปี ปี 65",null,null,null,null,null,null,null,null,null,49020060]
[null,null,"กฟอ.หนองไผ่ พิจารณาขอตั้งงบประมาณปี 2567",null,null,null,null,null,null,null,null,null,49020990]
[null,null,"กฟส.วิเชียรบุรี และ กฟย.พุเตย พิจารณาขอตั้งงบประมาณปี 2567",null,null,null,null,null,null,null,null,null,49030010]
[null,null,"กฟส.บึงสามพัน พิจารณาขอตั้งงบประมาณปี 2567",null,null,null,null,null,null,null,null,null,49040010]
[null,null,"กฟส.ศรีเทพ พิจารณาขอตั้งงบประมาณปี 2567",null,null,null,null,null,null,null,null,null,49040020]
[null,null,null,null,null,null,null,null,null,null,null,null,49040030]
[null,null,null,null,null,null,null,null,null,null,null,null,49041010]
[41030050,{"$f":"IF(A80=\"\",\"<< กรอกรหัสบัญชี (รายได้)\",IFERROR(VLOOKUP(A80,'R001'!A:I,4,0),\"ไม่มีรหัสบัญชีนี้\"))","v":"รายได้จากการจัดจำหน่ายผลิตภัณฑ์"},null,null,null,null,null,{"$f":"IF(COUNTIF(A:A,A80)>1,\"รหัสบัญชีซ้ำ โปรดตรวจสอบ\",\"\")","v":""},null,{"$f":"ROUNDUP(SUBTOTAL(109,I79:I86),-1)","v":0},null,null,49041020]
[null,"รายละเอียด","คำนวณเพิ่ม 10% จากยอดประมาณการรายได้เต็มปี ปี 65",null,null,null,null,null,null,null,null,null,49050010]
[null,null,"กฟอ.หนองไผ่ พิจารณาขอตั้งงบประมาณปี 2567",null,null,null,null,null,null,null,null,null,49050020]
[null,null,"กฟส.วิเชียรบุรี และ กฟย.พุเตย พิจารณาขอตั้งงบประมาณปี 2567",null,null,null,null,null,null,null,null,null,49050070]
[null,null,"กฟส.บึงสามพัน พิจารณาขอตั้งงบประมาณปี 2567",null,null,null,null,null,null,null,null,null,49059990]
[null,null,"กฟส.ศรีเทพ พิจารณาขอตั้งงบประมาณปี 2567"]
[]
[]
[41030990,{"$f":"IF(A88=\"\",\"<< กรอกรหัสบัญชี (รายได้)\",IFERROR(VLOOKUP(A88,'R001'!A:I,4,0),\"ไม่มีรหัสบัญชีนี้\"))","v":"รายได้จากการขายอุปกรณ์ไฟฟ้าอื่น ๆ"},null,null,null,null,null,{"$f":"IF(COUNTIF(A:A,A88)>1,\"รหัสบัญชีซ้ำ โปรดตรวจสอบ\",\"\")","v":""},null,{"$f":"ROUNDUP(SUBTOTAL(109,I87:I94),-1)","v":0}]
[null,"รายละเอียด","คำนวณเพิ่ม 10% จากยอดประมาณการรายได้เต็มปี ปี 65"]
[null,null,"กฟอ.หนองไผ่ พิจารณาขอตั้งงบประมาณปี 2567"]
[null,null,"กฟส.วิเชียรบุรี และ กฟย.พุเตย พิจารณาขอตั้งงบประมาณปี 2567"]
[null,null,"กฟส.บึงสามพัน พิจารณาขอตั้งงบประมาณปี 2567"]
[null,null,"กฟส.ศรีเทพ พิจารณาขอตั้งงบประมาณปี 2567"]
[]
[]
[41031010,{"$f":"IF(A96=\"\",\"<< กรอกรหัสบัญชี (รายได้)\",IFERROR(VLOOKUP(A96,'R001'!A:I,4,0),\"ไม่มีรหัสบัญชีนี้\"))","v":"รายได้จากการให้ใช้เสาไฟฟ้า"},null,null,null,null,null,{"$f":"IF(COUNTIF(A:A,A96)>1,\"รหัสบัญชีซ้ำ โปรดตรวจสอบ\",\"\")","v":""},null,{"$f":"ROUNDUP(SUBTOTAL(109,I95:I102),-1)","v":0}]
[null,"รายละเอียด","คำนวณเพิ่ม 10% จากยอดประมาณการรายได้เต็มปี ปี 65"]
[null,null,"กฟอ.หนองไผ่ พิจารณาขอตั้งงบประมาณปี 2567"]
[null,null,"กฟส.วิเชียรบุรี และ กฟย.พุเตย พิจารณาขอตั้งงบประมาณปี 2567"]
[null,null,"กฟส.บึงสามพัน พิจารณาขอตั้งงบประมาณปี 2567"]
[null,null,"กฟส.ศรีเทพ พิจารณาขอตั้งงบประมาณปี 2567"]
[]
[]
[41031020,{"$f":"IF(A104=\"\",\"<< กรอกรหัสบัญชี (รายได้)\",IFERROR(VLOOKUP(A104,'R001'!A:I,4,0),\"ไม่มีรหัสบัญชีนี้\"))","v":"รายได้จากการให้เช่าหม้อแปลง"},null,null,null,null,null,{"$f":"IF(COUNTIF(A:A,A104)>1,\"รหัสบัญชีซ้ำ โปรดตรวจสอบ\",\"\")","v":""},null,{"$f":"ROUNDUP(SUBTOTAL(109,I103:I110),-1)","v":0}]
[null,"รายละเอียด","คำนวณเพิ่ม 10% จากยอดประมาณการรายได้เต็มปี ปี 65"]
[null,null,"กฟอ.หนองไผ่ พิจารณาขอตั้งงบประมาณปี 2567"]
[null,null,"กฟส.วิเชียรบุรี และ กฟย.พุเตย พิจารณาขอตั้งงบประมาณปี 2567"]
[null,null,"กฟส.บึงสามพัน พิจารณาขอตั้งงบประมาณปี 2567"]
[null,null,"กฟส.ศรีเทพ พิจารณาขอตั้งงบประมาณปี 2567"]
[]
[]
[41031030,{"$f":"IF(A112=\"\",\"<< กรอกรหัสบัญชี (รายได้)\",IFERROR(VLOOKUP(A112,'R001'!A:I,4,0),\"ไม่มีรหัสบัญชีนี้\"))","v":"รายได้จากการให้เช่าชุดเครื่องยนต์กำเนิดไฟฟ้า"},null,null,null,null,null,{"$f":"IF(COUNTIF(A:A,A112)>1,\"รหัสบัญชีซ้ำ โปรดตรวจสอบ\",\"\")","v":""},null,{"$f":"ROUNDUP(SUBTOTAL(109,I111:I118),-1)","v":0}]
[null,"รายละเอียด","คำนวณเพิ่ม 10% จากยอดประมาณการรายได้เต็มปี ปี 65"]
[null,null,"กฟอ.หนองไผ่ พิจารณาขอตั้งงบประมาณปี 2567"]
[null,null,"กฟส.วิเชียรบุรี และ กฟย.พุเตย พิจารณาขอตั้งงบประมาณปี 2567"]
[null,null,"กฟส.บึงสามพัน พิจารณาขอตั้งงบประมาณปี 2567"]
[null,null,"กฟส.ศรีเทพ พิจารณาขอตั้งงบประมาณปี 2567"]
[]
[]
[41031040,{"$f":"IF(A120=\"\",\"<< กรอกรหัสบัญชี (รายได้)\",IFERROR(VLOOKUP(A120,'R001'!A:I,4,0),\"ไม่มีรหัสบัญชีนี้\"))","v":"รายได้จากการให้ใช้บริการเส้นใยแก้วนำแสง"},null,null,null,null,null,{"$f":"IF(COUNTIF(A:A,A120)>1,\"รหัสบัญชีซ้ำ โปรดตรวจสอบ\",\"\")","v":""},null,{"$f":"ROUNDUP(SUBTOTAL(109,I119:I126),-1)","v":0}]
[null,"รายละเอียด","คำนวณเพิ่ม 10% จากยอดประมาณการรายได้เต็มปี ปี 65"]
[null,null,"กฟอ.หนองไผ่ พิจารณาขอตั้งงบประมาณปี 2567"]
[null,null,"กฟส.วิเชียรบุรี และ กฟย.พุเตย พิจารณาขอตั้งงบประมาณปี 2567"]
[null,null,"กฟส.บึงสามพัน พิจารณาขอตั้งงบประมาณปี 2567"]
[null,null,"กฟส.ศรีเทพ พิจารณาขอตั้งงบประมาณปี 2567"]
[]
[]
[41031050,{"$f":"IF(A128=\"\",\"<< กรอกรหัสบัญชี (รายได้)\",IFERROR(VLOOKUP(A128,'R001'!A:I,4,0),\"ไม่มีรหัสบัญชีนี้\"))","v":"รายได้จากการให้เช่าอสังหาริมทรัพย์"},null,null,null,null,null,{"$f":"IF(COUNTIF(A:A,A128)>1,\"รหัสบัญชีซ้ำ โปรดตรวจสอบ\",\"\")","v":""},null,{"$f":"ROUNDUP(SUBTOTAL(109,I127:I134),-1)","v":0}]
[null,"รายละเอียด","คำนวณเพิ่ม 10% จากยอดประมาณการรายได้เต็มปี ปี 65"]
[null,null,"กฟอ.หนองไผ่ พิจารณาขอตั้งงบประมาณปี 2567"]
[null,null,"กฟส.วิเชียรบุรี และ กฟย.พุเตย พิจารณาขอตั้งงบประมาณปี 2567"]
[null,null,"กฟส.บึงสามพัน พิจารณาขอตั้งงบประมาณปี 2567"]
[null,null,"กฟส.ศรีเทพ พิจารณาขอตั้งงบประมาณปี 2567"]
[]
[]
[41031990,{"$f":"IF(A136=\"\",\"<< กรอกรหัสบัญชี (รายได้)\",IFERROR(VLOOKUP(A136,'R001'!A:I,4,0),\"ไม่มีรหัสบัญชีนี้\"))","v":"รายได้จากการให้เช่าหรือใช้สินทรัพย์อื่น ๆ"},null,null,null,null,null,{"$f":"IF(COUNTIF(A:A,A136)>1,\"รหัสบัญชีซ้ำ โปรดตรวจสอบ\",\"\")","v":""},null,{"$f":"ROUNDUP(SUBTOTAL(109,I135:I142),-1)","v":0}]
[null,"รายละเอียด","คำนวณเพิ่ม 10% จากยอดประมาณการรายได้เต็มปี ปี 65"]
[null,null,"กฟอ.หนองไผ่ พิจารณาขอตั้งงบประมาณปี 2567"]
[null,null,"กฟส.วิเชียรบุรี และ กฟย.พุเตย พิจารณาขอตั้งงบประมาณปี 2567"]
[null,null,"กฟส.บึงสามพัน พิจารณาขอตั้งงบประมาณปี 2567"]
[null,null,"กฟส.ศรีเทพ พิจารณาขอตั้งงบประมาณปี 2567"]
[]
[]
[41032010,{"$f":"IF(A144=\"\",\"<< กรอกรหัสบัญชี (รายได้)\",IFERROR(VLOOKUP(A144,'R001'!A:I,4,0),\"ไม่มีรหัสบัญชีนี้\"))","v":"รายได้ติดตั้ง ตรวจการติดตั้งมิเตอร์"},null,null,null,null,null,{"$f":"IF(COUNTIF(A:A,A144)>1,\"รหัสบัญชีซ้ำ โปรดตรวจสอบ\",\"\")","v":""},null,{"$f":"ROUNDUP(SUBTOTAL(109,I143:I150),-1)","v":2000000}]
[null,"รายละเอียด","คำนวณเพิ่ม 10% จากยอดประมาณการรายได้เต็มปี ปี 65"]
[null,null,"กฟอ.หนองไผ่ พิจารณาขอตั้งงบประมาณปี 2567",null,null,null,null,null,600000]
[null,null,"กฟส.วิเชียรบุรี และ กฟย.พุเตย พิจารณาขอตั้งงบประมาณปี 2567",null,null,null,null,null,700000]
[null,null,"กฟส.บึงสามพัน พิจารณาขอตั้งงบประมาณปี 2567",null,null,null,null,null,400000]
[null,null,"กฟส.ศรีเทพ พิจารณาขอตั้งงบประมาณปี 2567",null,null,null,null,null,300000]
[]
[]
[41032019,{"$f":"IF(A152=\"\",\"<< กรอกรหัสบัญชี (รายได้)\",IFERROR(VLOOKUP(A152,'R001'!A:I,4,0),\"ไม่มีรหัสบัญชีนี้\"))","v":"ปรับปรุงรายได้ติดตั้ง ตรวจการติดตั้งมิเตอร์"},null,null,null,null,null,{"$f":"IF(COUNTIF(A:A,A152)>1,\"รหัสบัญชีซ้ำ โปรดตรวจสอบ\",\"\")","v":""},null,{"$f":"ROUNDUP(SUBTOTAL(109,I151:I158),-1)","v":83000}]
[null,"รายละเอียด","คำนวณเพิ่ม 10% จากยอดประมาณการรายได้เต็มปี ปี 65"]
[null,null,"กฟอ.หนองไผ่ พิจารณาขอตั้งงบประมาณปี 2567",null,null,null,null,null,25000]
[null,null,"กฟส.วิเชียรบุรี และ กฟย.พุเตย พิจารณาขอตั้งงบประมาณปี 2567",null,null,null,null,null,30000]
[null,null,"กฟส.บึงสามพัน พิจารณาขอตั้งงบประมาณปี 2567",null,null,null,null,null,35000]
[null,null,"กฟส.ศรีเทพ พิจารณาขอตั้งงบประมาณปี 2567",null,null,null,null,null,-7000]
[]
[]
[41032020,{"$f":"IF(A160=\"\",\"<< กรอกรหัสบัญชี (รายได้)\",IFERROR(VLOOKUP(A160,'R001'!A:I,4,0),\"ไม่มีรหัสบัญชีนี้\"))","v":"รายได้ติดตั้งมิเตอร์ TOU/TOD"},null,null,null,null,null,{"$f":"IF(COUNTIF(A:A,A160)>1,\"รหัสบัญชีซ้ำ โปรดตรวจสอบ\",\"\")","v":""},null,{"$f":"ROUNDUP(SUBTOTAL(109,I159:I166),-1)","v":580000}]
[null,"รายละเอียด","คำนวณเพิ่ม 10% จากยอดประมาณการรายได้เต็มปี ปี 65"]
[null,null,"กฟอ.หนองไผ่ พิจารณาขอตั้งงบประมาณปี 2567",null,null,null,null,null,150000]
[null,null,"กฟส.วิเชียรบุรี และ กฟย.พุเตย พิจารณาขอตั้งงบประมาณปี 2567",null,null,null,null,null,200000]
[null,null,"กฟส.บึงสามพัน พิจารณาขอตั้งงบประมาณปี 2567",null,null,null,null,null,130000]
[null,null,"กฟส.ศรีเทพ พิจารณาขอตั้งงบประมาณปี 2567",null,null,null,null,null,100000]
[]
[]
[41032029,{"$f":"IF(A168=\"\",\"<< กรอกรหัสบัญชี (รายได้)\",IFERROR(VLOOKUP(A168,'R001'!A:I,4,0),\"ไม่มีรหัสบัญชีนี้\"))","v":"ปรับปรุงรายได้ติดตั้งมิเตอร์ TOU/TOD"},null,null,null,null,null,{"$f":"IF(COUNTIF(A:A,A168)>1,\"รหัสบัญชีซ้ำ โปรดตรวจสอบ\",\"\")","v":""},null,{"$f":"ROUNDUP(SUBTOTAL(109,I167:I174),-1)","v":40000}]
[null,"รายละเอียด","คำนวณเพิ่ม 10% จากยอดประมาณการรายได้เต็มปี ปี 65"]
[null,null,"กฟอ.หนองไผ่ พิจารณาขอตั้งงบประมาณปี 2567",null,null,null,null,null,53000]
[null,null,"กฟส.วิเชียรบุรี และ กฟย.พุเตย พิจารณาขอตั้งงบประมาณปี 2567",null,null,null,null,null,22000]
[null,null,"กฟส.บึงสามพัน พิจารณาขอตั้งงบประมาณปี 2567",null,null,null,null,null,60000]
[null,null,"กฟส.ศรีเทพ พิจารณาขอตั้งงบประมาณปี 2567",null,null,null,null,null,-95000]
[]
[]
[41032030,{"$f":"IF(A176=\"\",\"<< กรอกรหัสบัญชี (รายได้)\",IFERROR(VLOOKUP(A176,'R001'!A:I,4,0),\"ไม่มีรหัสบัญชีนี้\"))","v":"รายได้ค่าบริการงานด้านฮอทไลน์และเชื่อมสายแรงสูง"},null,null,null,null,null,{"$f":"IF(COUNTIF(A:A,A176)>1,\"รหัสบัญชีซ้ำ โปรดตรวจสอบ\",\"\")","v":""},null,{"$f":"ROUNDUP(SUBTOTAL(109,I175:I182),-1)","v":0}]
[null,"รายละเอียด","คำนวณเพิ่ม 10% จากยอดประมาณการรายได้เต็มปี ปี 65",null,null,null,"ส"]
[null,null,"กฟอ.หนองไผ่ พิจารณาขอตั้งงบประมาณปี 2567"]
[null,null,"กฟส.วิเชียรบุรี และ กฟย.พุเตย พิจารณาขอตั้งงบประมาณปี 2567"]
[null,null,"กฟส.บึงสามพัน พิจารณาขอตั้งงบประมาณปี 2567"]
[null,null,"กฟส.ศรีเทพ พิจารณาขอตั้งงบประมาณปี 2567"]
[]
[]
[41032039,{"$f":"IF(A184=\"\",\"<< กรอกรหัสบัญชี (รายได้)\",IFERROR(VLOOKUP(A184,'R001'!A:I,4,0),\"ไม่มีรหัสบัญชีนี้\"))","v":"ปรับปรุงรายได้ค่าบริการงานด้านฮอทไลน์และเชื่อมสายแรงสูง"},null,null,null,null,null,{"$f":"IF(COUNTIF(A:A,A184)>1,\"รหัสบัญชีซ้ำ โปรดตรวจสอบ\",\"\")","v":""},null,{"$f":"ROUNDUP(SUBTOTAL(109,I183:I190),-1)","v":0}]
[null,"รายละเอียด","คำนวณเพิ่ม 10% จากยอดประมาณการรายได้เต็มปี ปี 65",null,null,null,"ส"]
[null,null,"กฟอ.หนองไผ่ พิจารณาขอตั้งงบประมาณปี 2567"]
[null,null,"กฟส.วิเชียรบุรี และ กฟย.พุเตย พิจารณาขอตั้งงบประมาณปี 2567"]
[null,null,"กฟส.บึงสามพัน พิจารณาขอตั้งงบประมาณปี 2567"]
[null,null,"กฟส.ศรีเทพ พิจารณาขอตั้งงบประมาณปี 2567"]
[]
[]
[41033010,{"$f":"IF(A192=\"\",\"<< กรอกรหัสบัญชี (รายได้)\",IFERROR(VLOOKUP(A192,'R001'!A:I,4,0),\"ไม่มีรหัสบัญชีนี้\"))","v":"รายได้ค่าทดสอบผลิตภัณฑ์คอนกรีต"},null,null,null,null,null,{"$f":"IF(COUNTIF(A:A,A192)>1,\"รหัสบัญชีซ้ำ โปรดตรวจสอบ\",\"\")","v":""},null,{"$f":"ROUNDUP(SUBTOTAL(109,I191:I198),-1)","v":0}]
[null,"รายละเอียด","คำนวณเพิ่ม 10% จากยอดประมาณการรายได้เต็มปี ปี 65"]
[null,null,"กฟอ.หนองไผ่ พิจารณาขอตั้งงบประมาณปี 2567"]
[null,null,"กฟส.วิเชียรบุรี และ กฟย.พุเตย พิจารณาขอตั้งงบประมาณปี 2567"]
[null,null,"กฟส.บึงสามพัน พิจารณาขอตั้งงบประมาณปี 2567"]
[null,null,"กฟส.ศรีเทพ พิจารณาขอตั้งงบประมาณปี 2567"]
[]
[]
[41033020,{"$f":"IF(A200=\"\",\"<< กรอกรหัสบัญชี (รายได้)\",IFERROR(VLOOKUP(A200,'R001'!A:I,4,0),\"ไม่มีรหัสบัญชีนี้\"))","v":"รายได้ค่าทดสอบอุปกรณ์ไฟฟ้า"},null,null,null,null,null,{"$f":"IF(COUNTIF(A:A,A200)>1,\"รหัสบัญชีซ้ำ โปรดตรวจสอบ\",\"\")","v":""},null,{"$f":"ROUNDUP(SUBTOTAL(109,I199:I206),-1)","v":0}]
[null,"รายละเอียด","คำนวณเพิ่ม 10% จากยอดประมาณการรายได้เต็มปี ปี 65",null,null,null,null,"ส"]
[null,null,"กฟอ.หนองไผ่ พิจารณาขอตั้งงบประมาณปี 2567"]
[null,null,"กฟส.วิเชียรบุรี และ กฟย.พุเตย พิจารณาขอตั้งงบประมาณปี 2567"]
[null,null,"กฟส.บึงสามพัน พิจารณาขอตั้งงบประมาณปี 2567"]
[null,null,"กฟส.ศรีเทพ พิจารณาขอตั้งงบประมาณปี 2567"]
[]
[]
[41033029,{"$f":"IF(A208=\"\",\"<< กรอกรหัสบัญชี (รายได้)\",IFERROR(VLOOKUP(A208,'R001'!A:I,4,0),\"ไม่มีรหัสบัญชีนี้\"))","v":"ปรับปรุงรายได้ค่าทดสอบอุปกรณ์ไฟฟ้า"},null,null,null,null,null,{"$f":"IF(COUNTIF(A:A,A208)>1,\"รหัสบัญชีซ้ำ โปรดตรวจสอบ\",\"\")","v":""},null,{"$f":"ROUNDUP(SUBTOTAL(109,I207:I214),-1)","v":0}]
[null,"รายละเอียด"]
[]
[]
[]
[]
[]
[]
[41034010,{"$f":"IF(A216=\"\",\"<< กรอกรหัสบัญชี (รายได้)\",IFERROR(VLOOKUP(A216,'R001'!A:I,4,0),\"ไม่มีรหัสบัญชีนี้\"))","v":"รายได้ค่าธรรมเนียมต่อไฟ"},null,null,null,null,null,{"$f":"IF(COUNTIF(A:A,A216)>1,\"รหัสบัญชีซ้ำ โปรดตรวจสอบ\",\"\")","v":""},null,{"$f":"ROUNDUP(SUBTOTAL(109,I215:I222),-1)","v":0}]
[null,"รายละเอียด"]
[]
[]
[]
[]
[]
[]
[41034020,{"$f":"IF(A224=\"\",\"<< กรอกรหัสบัญชี (รายได้)\",IFERROR(VLOOKUP(A224,'R001'!A:I,4,0),\"ไม่มีรหัสบัญชีนี้\"))","v":"รายได้ค่าธรรมเนียมพาดสายสื่อสารฯ"},null,null,null,null,null,{"$f":"IF(COUNTIF(A:A,A224)>1,\"รหัสบัญชีซ้ำ โปรดตรวจสอบ\",\"\")","v":""},null,{"$f":"ROUNDUP(SUBTOTAL(109,I223:I230),-1)","v":275000}]
[null,"รายละเอียด","คำนวณเพิ่ม 10% จากยอดประมาณการรายได้เต็มปี ปี 65"]
[null,null,"กฟอ.หนองไผ่ พิจารณาขอตั้งงบประมาณปี 2567",null,null,null,null,null,55000]
[null,null,"กฟส.วิเชียรบุรี และ กฟย.พุเตย พิจารณาขอตั้งงบประมาณปี 2567",null,null,null,null,null,60000]
[null,null,"กฟส.บึงสามพัน พิจารณาขอตั้งงบประมาณปี 2567",null,null,null,null,null,140000]
[null,null,"กฟส.ศรีเทพ พิจารณาขอตั้งงบประมาณปี 2567",null,null,null,null,null,20000]
[]
[]
[41034030,{"$f":"IF(A232=\"\",\"<< กรอกรหัสบัญชี (รายได้)\",IFERROR(VLOOKUP(A232,'R001'!A:I,4,0),\"ไม่มีรหัสบัญชีนี้\"))","v":"รายได้ค่าต่อกลับมิเตอร์"},null,null,null,null,null,{"$f":"IF(COUNTIF(A:A,A232)>1,\"รหัสบัญชีซ้ำ โปรดตรวจสอบ\",\"\")","v":""},null,{"$f":"ROUNDUP(SUBTOTAL(109,I231:I238),-1)","v":1060000}]
[null,"รายละเอียด","คำนวณเพิ่ม 10% จากยอดประมาณการรายได้เต็มปี ปี 65"]
[null,null,"กฟอ.หนองไผ่ พิจารณาขอตั้งงบประมาณปี 2567",null,null,null,null,null,320000]
[null,null,"กฟส.วิเชียรบุรี และ กฟย.พุเตย พิจารณาขอตั้งงบประมาณปี 2567",null,null,null,null,null,300000]
[null,null,"กฟส.บึงสามพัน พิจารณาขอตั้งงบประมาณปี 2567",null,null,null,null,null,225000]
[null,null,"กฟส.ศรีเทพ พิจารณาขอตั้งงบประมาณปี 2567",null,null,null,null,null,215000]
[]
[]
[41034040,{"$f":"IF(A240=\"\",\"<< กรอกรหัสบัญชี (รายได้)\",IFERROR(VLOOKUP(A240,'R001'!A:I,4,0),\"ไม่มีรหัสบัญชีนี้\"))","v":"รายได้ขอผ่อนผันการงดจ่ายไฟ"},null,null,null,null,null,{"$f":"IF(COUNTIF(A:A,A240)>1,\"รหัสบัญชีซ้ำ โปรดตรวจสอบ\",\"\")","v":""},null,{"$f":"ROUNDUP(SUBTOTAL(109,I239:I246),-1)","v":95000}]
[null,"รายละเอียด","คำนวณเพิ่ม 10% จากยอดประมาณการรายได้เต็มปี ปี 65"]
[null,null,"กฟอ.หนองไผ่ พิจารณาขอตั้งงบประมาณปี 2567",null,null,null,null,null,30000]
[null,null,"กฟส.วิเชียรบุรี และ กฟย.พุเตย พิจารณาขอตั้งงบประมาณปี 2567",null,null,null,null,null,25000]
[null,null,"กฟส.บึงสามพัน พิจารณาขอตั้งงบประมาณปี 2567",null,null,null,null,null,25000]
[null,null,"กฟส.ศรีเทพ พิจารณาขอตั้งงบประมาณปี 2567",null,null,null,null,null,15000]
[]
[]
[41034990,{"$f":"IF(A248=\"\",\"<< กรอกรหัสบัญชี (รายได้)\",IFERROR(VLOOKUP(A248,'R001'!A:I,4,0),\"ไม่มีรหัสบัญชีนี้\"))","v":"รายได้ค่าธรรมเนียมอื่น ๆ"},null,null,null,null,null,{"$f":"IF(COUNTIF(A:A,A248)>1,\"รหัสบัญชีซ้ำ โปรดตรวจสอบ\",\"\")","v":""},null,{"$f":"ROUNDUP(SUBTOTAL(109,I247:I254),-1)","v":0}]
[null,"รายละเอียด"]
[]
[]
[]
[]
[]
[]
[41035010,{"$f":"IF(A256=\"\",\"<< กรอกรหัสบัญชี (รายได้)\",IFERROR(VLOOKUP(A256,'R001'!A:I,4,0),\"ไม่มีรหัสบัญชีนี้\"))","v":"รายได้จากการก่อสร้างให้ผู้ใช้ไฟ"},null,null,null,null,null,{"$f":"IF(COUNTIF(A:A,A256)>1,\"รหัสบัญชีซ้ำ โปรดตรวจสอบ\",\"\")","v":""},null,{"$f":"ROUNDUP(SUBTOTAL(109,I255:I262),-1)","v":0}]
[null,"รายละเอียด","คำนวณเพิ่ม 10% จากยอดประมาณการรายได้เต็มปี ปี 65",null,null,null,"รอข้อมูลจากกบญ"]
[null,null,"กฟอ.หนองไผ่ พิจารณาขอตั้งงบประมาณปี 2567"]
[null,null,"กฟส.วิเชียรบุรี และ กฟย.พุเตย พิจารณาขอตั้งงบประมาณปี 2567"]
[null,null,"กฟส.บึงสามพัน พิจารณาขอตั้งงบประมาณปี 2567"]
[null,null,"กฟส.ศรีเทพ พิจารณาขอตั้งงบประมาณปี 2567"]
[]
[]
[41035019,{"$f":"IF(A264=\"\",\"<< กรอกรหัสบัญชี (รายได้)\",IFERROR(VLOOKUP(A264,'R001'!A:I,4,0),\"ไม่มีรหัสบัญชีนี้\"))","v":"ปรับปรุงรายได้จากการก่อสร้างให้ผู้ใช้ไฟ"},null,null,null,null,null,{"$f":"IF(COUNTIF(A:A,A264)>1,\"รหัสบัญชีซ้ำ โปรดตรวจสอบ\",\"\")","v":""},null,{"$f":"ROUNDUP(SUBTOTAL(109,I263:I270),-1)","v":0}]
[null,"รายละเอียด","คำนวณเพิ่ม 10% จากยอดประมาณการรายได้เต็มปี ปี 65",null,null,null,"รอข้อมูล กบญ"]
[null,null,"กฟอ.หนองไผ่ พิจารณาขอตั้งงบประมาณปี 2567"]
[null,null,"กฟส.วิเชียรบุรี และ กฟย.พุเตย พิจารณาขอตั้งงบประมาณปี 2567"]
[null,null,"กฟส.บึงสามพัน พิจารณาขอตั้งงบประมาณปี 2567"]
[null,null,"กฟส.ศรีเทพ พิจารณาขอตั้งงบประมาณปี 2567"]
[]
[]
[41035020,{"$f":"IF(A272=\"\",\"<< กรอกรหัสบัญชี (รายได้)\",IFERROR(VLOOKUP(A272,'R001'!A:I,4,0),\"ไม่มีรหัสบัญชีนี้\"))","v":"รายได้ค่าบริการด้านวิศวกรรม"},null,null,null,null,null,{"$f":"IF(COUNTIF(A:A,A272)>1,\"รหัสบัญชีซ้ำ โปรดตรวจสอบ\",\"\")","v":""},null,{"$f":"ROUNDUP(SUBTOTAL(109,I271:I278),-1)","v":0}]
[null,"รายละเอียด","คำนวณเพิ่ม 10% จากยอดประมาณการรายได้เต็มปี ปี 65",null,null,null,null,"ส"]
[null,null,"กฟอ.หนองไผ่ พิจารณาขอตั้งงบประมาณปี 2567"]
[null,null,"กฟส.วิเชียรบุรี และ กฟย.พุเตย พิจารณาขอตั้งงบประมาณปี 2567"]
[null,null,"กฟส.บึงสามพัน พิจารณาขอตั้งงบประมาณปี 2567"]
[null,null,"กฟส.ศรีเทพ พิจารณาขอตั้งงบประมาณปี 2567"]
[]
[]
[41036010,{"$f":"IF(A280=\"\",\"<< กรอกรหัสบัญชี (รายได้)\",IFERROR(VLOOKUP(A280,'R001'!A:I,4,0),\"ไม่มีรหัสบัญชีนี้\"))","v":"รายได้จากเงินช่วยเหลือเพื่อการก่อสร้าง"},null,null,null,null,null,{"$f":"IF(COUNTIF(A:A,A280)>1,\"รหัสบัญชีซ้ำ โปรดตรวจสอบ\",\"\")","v":""},null,{"$f":"ROUNDUP(SUBTOTAL(109,I279:I286),-1)","v":0}]
[null,"รายละเอียด","คำนวณเพิ่ม 10% จากยอดประมาณการรายได้เต็มปี ปี 65",null,null,null,null,"กบญ"]
[null,null,"กฟอ.หนองไผ่ พิจารณาขอตั้งงบประมาณปี 2567"]
[null,null,"กฟส.วิเชียรบุรี และ กฟย.พุเตย พิจารณาขอตั้งงบประมาณปี 2567"]
[null,null,"กฟส.บึงสามพัน พิจารณาขอตั้งงบประมาณปี 2567"]
[null,null,"กฟส.ศรีเทพ พิจารณาขอตั้งงบประมาณปี 2567"]
[]
[]
[41036020,{"$f":"IF(A288=\"\",\"<< กรอกรหัสบัญชี (รายได้)\",IFERROR(VLOOKUP(A288,'R001'!A:I,4,0),\"ไม่มีรหัสบัญชีนี้\"))","v":"รายได้ค่าส่วนเฉลี่ยการใช้พลังไฟฟ้า"},null,null,null,null,null,{"$f":"IF(COUNTIF(A:A,A288)>1,\"รหัสบัญชีซ้ำ โปรดตรวจสอบ\",\"\")","v":""},null,{"$f":"ROUNDUP(SUBTOTAL(109,I287:I294),-1)","v":0}]
[null,"รายละเอียด","คำนวณเพิ่ม 10% จากยอดประมาณการรายได้เต็มปี ปี 65"]
[null,null,"กฟอ.หนองไผ่ พิจารณาขอตั้งงบประมาณปี 2567"]
[null,null,"กฟส.วิเชียรบุรี และ กฟย.พุเตย พิจารณาขอตั้งงบประมาณปี 2567"]
[null,null,"กฟส.บึงสามพัน พิจารณาขอตั้งงบประมาณปี 2567"]
[null,null,"กฟส.ศรีเทพ พิจารณาขอตั้งงบประมาณปี 2567"]
[]
[]
[41036030,{"$f":"IF(A296=\"\",\"<< กรอกรหัสบัญชี (รายได้)\",IFERROR(VLOOKUP(A296,'R001'!A:I,4,0),\"ไม่มีรหัสบัญชีนี้\"))","v":"รายได้จากเงินสมทบระบบจำหน่ายพาดสายสื่อสาร"},null,null,null,null,null,{"$f":"IF(COUNTIF(A:A,A296)>1,\"รหัสบัญชีซ้ำ โปรดตรวจสอบ\",\"\")","v":""},null,{"$f":"ROUNDUP(SUBTOTAL(109,I295:I302),-1)","v":950000}]
[null,"รายละเอียด","คำนวณเพิ่ม 10% จากยอดประมาณการรายได้เต็มปี ปี 65"]
[null,null,"กฟอ.หนองไผ่ พิจารณาขอตั้งงบประมาณปี 2567",null,null,null,null,null,300000]
[null,null,"กฟส.วิเชียรบุรี และ กฟย.พุเตย พิจารณาขอตั้งงบประมาณปี 2567",null,null,null,null,null,300000]
[null,null,"กฟส.บึงสามพัน พิจารณาขอตั้งงบประมาณปี 2567",null,null,null,null,null,150000]
[null,null,"กฟส.ศรีเทพ พิจารณาขอตั้งงบประมาณปี 2567",null,null,null,null,null,200000]
[]
[]
[41037010,{"$f":"IF(A304=\"\",\"<< กรอกรหัสบัญชี (รายได้)\",IFERROR(VLOOKUP(A304,'R001'!A:I,4,0),\"ไม่มีรหัสบัญชีนี้\"))","v":"รายได้ค่าบริการแอปพลิเคชัน"},null,null,null,null,null,{"$f":"IF(COUNTIF(A:A,A304)>1,\"รหัสบัญชีซ้ำ โปรดตรวจสอบ\",\"\")","v":""},null,{"$f":"ROUNDUP(SUBTOTAL(109,I303:I310),-1)","v":0}]
[null,"รายละเอียด"]
[]
[]
[]
[]
[]
[]
[41038010,{"$f":"IF(A312=\"\",\"<< กรอกรหัสบัญชี (รายได้)\",IFERROR(VLOOKUP(A312,'R001'!A:I,4,0),\"ไม่มีรหัสบัญชีนี้\"))","v":"รายได้จากการรับโอนสินทรัพย์ดำเนินงาน"},null,null,null,null,null,{"$f":"IF(COUNTIF(A:A,A312)>1,\"รหัสบัญชีซ้ำ โปรดตรวจสอบ\",\"\")","v":""},null,{"$f":"ROUNDUP(SUBTOTAL(109,I311:I318),-1)","v":5000}]
[null,"รายละเอียด","คำนวณเพิ่ม 10% จากยอดประมาณการรายได้เต็มปี ปี 65"]
[null,null,"กฟอ.หนองไผ่ พิจารณาขอตั้งงบประมาณปี 2567",null,null,null,null,null,0]
[null,null,"กฟส.วิเชียรบุรี และ กฟย.พุเตย พิจารณาขอตั้งงบประมาณปี 2567",null,null,null,null,null,0]
[null,null,"กฟส.บึงสามพัน พิจารณาขอตั้งงบประมาณปี 2567",null,null,null,null,null,0]
[null,null,"กฟส.ศรีเทพ พิจารณาขอตั้งงบประมาณปี 2567",null,null,null,null,null,5000]
[]
[]
[41039010,{"$f":"IF(A320=\"\",\"<< กรอกรหัสบัญชี (รายได้)\",IFERROR(VLOOKUP(A320,'R001'!A:I,4,0),\"ไม่มีรหัสบัญชีนี้\"))","v":"รายได้ค่าตรวจจุดเขียนผัง"},null,null,null,null,null,{"$f":"IF(COUNTIF(A:A,A320)>1,\"รหัสบัญชีซ้ำ โปรดตรวจสอบ\",\"\")","v":""},null,{"$f":"ROUNDUP(SUBTOTAL(109,I319:I326),-1)","v":330000}]
[null,"รายละเอียด","คำนวณเพิ่ม 10% จากยอดประมาณการรายได้เต็มปี ปี 65"]
[null,null,"กฟอ.หนองไผ่ พิจารณาขอตั้งงบประมาณปี 2567",null,null,null,null,null,100000]
[null,null,"กฟส.วิเชียรบุรี และ กฟย.พุเตย พิจารณาขอตั้งงบประมาณปี 2567",null,null,null,null,null,80000]
[null,null,"กฟส.บึงสามพัน พิจารณาขอตั้งงบประมาณปี 2567",null,null,null,null,null,60000]
[null,null,"กฟส.ศรีเทพ พิจารณาขอตั้งงบประมาณปี 2567",null,null,null,null,null,90000]
[]
[]
[41039020,{"$f":"IF(A328=\"\",\"<< กรอกรหัสบัญชี (รายได้)\",IFERROR(VLOOKUP(A328,'R001'!A:I,4,0),\"ไม่มีรหัสบัญชีนี้\"))","v":"รายได้ค่าตรวจสอบและบำรุงรักษาหม้อแปลง"},null,null,null,null,null,{"$f":"IF(COUNTIF(A:A,A328)>1,\"รหัสบัญชีซ้ำ โปรดตรวจสอบ\",\"\")","v":""},null,{"$f":"ROUNDUP(SUBTOTAL(109,I327:I334),-1)","v":0}]
[null,"รายละเอียด","คำนวณเพิ่ม 10% จากยอดประมาณการรายได้เต็มปี ปี 65",null,null,null,null,"ส"]
[null,null,"กฟอ.หนองไผ่ พิจารณาขอตั้งงบประมาณปี 2567"]
[null,null,"กฟส.วิเชียรบุรี และ กฟย.พุเตย พิจารณาขอตั้งงบประมาณปี 2567"]
[null,null,"กฟส.บึงสามพัน พิจารณาขอตั้งงบประมาณปี 2567"]
[null,null,"กฟส.ศรีเทพ พิจารณาขอตั้งงบประมาณปี 2567"]
[]
[]
[41039029,{"$f":"IF(A336=\"\",\"<< กรอกรหัสบัญชี (รายได้)\",IFERROR(VLOOKUP(A336,'R001'!A:I,4,0),\"ไม่มีรหัสบัญชีนี้\"))","v":"ปรับปรุงรายได้ค่าตรวจสอบและบำรุงรักษาหม้อแปลง"},null,null,null,null,null,{"$f":"IF(COUNTIF(A:A,A336)>1,\"รหัสบัญชีซ้ำ โปรดตรวจสอบ\",\"\")","v":""},null,{"$f":"ROUNDUP(SUBTOTAL(109,I335:I342),-1)","v":0}]
[null,"รายละเอียด","คำนวณเพิ่ม 10% จากยอดประมาณการรายได้เต็มปี ปี 65",null,null,null,null,"ส"]
[null,null,"กฟอ.หนองไผ่ พิจารณาขอตั้งงบประมาณปี 2567"]
[null,null,"กฟส.วิเชียรบุรี และ กฟย.พุเตย พิจารณาขอตั้งงบประมาณปี 2567"]
[null,null,"กฟส.บึงสามพัน พิจารณาขอตั้งงบประมาณปี 2567"]
[null,null,"กฟส.ศรีเทพ พิจารณาขอตั้งงบประมาณปี 2567"]
[]
[]
[41039030,{"$f":"IF(A344=\"\",\"<< กรอกรหัสบัญชี (รายได้)\",IFERROR(VLOOKUP(A344,'R001'!A:I,4,0),\"ไม่มีรหัสบัญชีนี้\"))","v":"รายได้ค่าติดตั้ง รื้อถอน ซ่อมแซมหม้อแปลง"},null,null,null,null,null,{"$f":"IF(COUNTIF(A:A,A344)>1,\"รหัสบัญชีซ้ำ โปรดตรวจสอบ\",\"\")","v":""},null,{"$f":"ROUNDUP(SUBTOTAL(109,I343:I350),-1)","v":0}]
[null,"รายละเอียด","คำนวณเพิ่ม 10% จากยอดประมาณการรายได้เต็มปี ปี 65",null,null,null,null,"ส"]
[null,null,"กฟอ.หนองไผ่ พิจารณาขอตั้งงบประมาณปี 2567"]
[null,null,"กฟส.วิเชียรบุรี และ กฟย.พุเตย พิจารณาขอตั้งงบประมาณปี 2567"]
[null,null,"กฟส.บึงสามพัน พิจารณาขอตั้งงบประมาณปี 2567"]
[null,null,"กฟส.ศรีเทพ พิจารณาขอตั้งงบประมาณปี 2567"]
[]
[]
[41039039,{"$f":"IF(A352=\"\",\"<< กรอกรหัสบัญชี (รายได้)\",IFERROR(VLOOKUP(A352,'R001'!A:I,4,0),\"ไม่มีรหัสบัญชีนี้\"))","v":"ปรับปรุงรายได้ค่าติดตั้ง รื้อถอน ซ่อมแซมหม้อแปลง"},null,null,null,null,null,{"$f":"IF(COUNTIF(A:A,A352)>1,\"รหัสบัญชีซ้ำ โปรดตรวจสอบ\",\"\")","v":""},null,{"$f":"ROUNDUP(SUBTOTAL(109,I351:I358),-1)","v":0}]
[null,"รายละเอียด","คำนวณเพิ่ม 10% จากยอดประมาณการรายได้เต็มปี ปี 65",null,null,null,null,"ส"]
[null,null,"กฟอ.หนองไผ่ พิจารณาขอตั้งงบประมาณปี 2567"]
[null,null,"กฟส.วิเชียรบุรี และ กฟย.พุเตย พิจารณาขอตั้งงบประมาณปี 2567"]
[null,null,"กฟส.บึงสามพัน พิจารณาขอตั้งงบประมาณปี 2567"]
[null,null,"กฟส.ศรีเทพ พิจารณาขอตั้งงบประมาณปี 2567"]
[]
[]
[41039040,{"$f":"IF(A360=\"\",\"<< กรอกรหัสบัญชี (รายได้)\",IFERROR(VLOOKUP(A360,'R001'!A:I,4,0),\"ไม่มีรหัสบัญชีนี้\"))","v":"รายได้ค่าละเมิดสิทธิ "},null,null,null,null,null,{"$f":"IF(COUNTIF(A:A,A360)>1,\"รหัสบัญชีซ้ำ โปรดตรวจสอบ\",\"\")","v":""},null,{"$f":"ROUNDUP(SUBTOTAL(109,I359:I366),-1)","v":895000}]
[null,"รายละเอียด","คำนวณเพิ่ม 10% จากยอดประมาณการรายได้เต็มปี ปี 65"]
[null,null,"กฟอ.หนองไผ่ พิจารณาขอตั้งงบประมาณปี 2567",null,null,null,null,null,270000]
[null,null,"กฟส.วิเชียรบุรี และ กฟย.พุเตย พิจารณาขอตั้งงบประมาณปี 2567",null,null,null,null,null,25000]
[null,null,"กฟส.บึงสามพัน พิจารณาขอตั้งงบประมาณปี 2567",null,null,null,null,null,600000]
[null,null,"กฟส.ศรีเทพ พิจารณาขอตั้งงบประมาณปี 2567",null,null,null,null,null,0]
[]
[]
[41039050,{"$f":"IF(A368=\"\",\"<< กรอกรหัสบัญชี (รายได้)\",IFERROR(VLOOKUP(A368,'R001'!A:I,4,0),\"ไม่มีรหัสบัญชีนี้\"))","v":"รายได้ค่าชดใช้มิเตอร์ชำรุดและอุปกรณ์ประกอบ"},null,null,null,null,null,{"$f":"IF(COUNTIF(A:A,A368)>1,\"รหัสบัญชีซ้ำ โปรดตรวจสอบ\",\"\")","v":""},null,{"$f":"ROUNDUP(SUBTOTAL(109,I367:I374),-1)","v":295000}]
[null,"รายละเอียด","คำนวณเพิ่ม 10% จากยอดประมาณการรายได้เต็มปี ปี 65"]
[null,null,"กฟอ.หนองไผ่ พิจารณาขอตั้งงบประมาณปี 2567",null,null,null,null,null,105000]
[null,null,"กฟส.วิเชียรบุรี และ กฟย.พุเตย พิจารณาขอตั้งงบประมาณปี 2567",null,null,null,null,null,80000]
[null,null,"กฟส.บึงสามพัน พิจารณาขอตั้งงบประมาณปี 2567",null,null,null,null,null,55000]
[null,null,"กฟส.ศรีเทพ พิจารณาขอตั้งงบประมาณปี 2567",null,null,null,null,null,55000]
[]
[]
[41039060,{"$f":"IF(A376=\"\",\"<< กรอกรหัสบัญชี (รายได้)\",IFERROR(VLOOKUP(A376,'R001'!A:I,4,0),\"ไม่มีรหัสบัญชีนี้\"))","v":"รายได้ชดใช้รถยนต์ชนเสา"},null,null,null,null,null,{"$f":"IF(COUNTIF(A:A,A376)>1,\"รหัสบัญชีซ้ำ โปรดตรวจสอบ\",\"\")","v":""},null,{"$f":"ROUNDUP(SUBTOTAL(109,I375:I382),-1)","v":320000}]
[null,"รายละเอียด","คำนวณเพิ่ม 10% จากยอดประมาณการรายได้เต็มปี ปี 65"]
[null,null,"กฟอ.หนองไผ่ พิจารณาขอตั้งงบประมาณปี 2567",null,null,null,null,null,0]
[null,null,"กฟส.วิเชียรบุรี และ กฟย.พุเตย พิจารณาขอตั้งงบประมาณปี 2567",null,null,null,null,null,250000]
[null,null,"กฟส.บึงสามพัน พิจารณาขอตั้งงบประมาณปี 2567",null,null,null,null,null,55000]
[null,null,"กฟส.ศรีเทพ พิจารณาขอตั้งงบประมาณปี 2567",null,null,null,null,null,15000]
[]
[]
[41039080,{"$f":"IF(A384=\"\",\"<< กรอกรหัสบัญชี (รายได้)\",IFERROR(VLOOKUP(A384,'R001'!A:I,4,0),\"ไม่มีรหัสบัญชีนี้\"))","v":"รายได้ค่าตรวจสอบและบำรุงรักษาเคเบิลใต้ดิน"},null,null,null,null,null,{"$f":"IF(COUNTIF(A:A,A384)>1,\"รหัสบัญชีซ้ำ โปรดตรวจสอบ\",\"\")","v":""},null,{"$f":"ROUNDUP(SUBTOTAL(109,I383:I390),-1)","v":0}]
[null,"รายละเอียด"]
[]
[]
[]
[]
[]
[]
[41039089,{"$f":"IF(A392=\"\",\"<< กรอกรหัสบัญชี (รายได้)\",IFERROR(VLOOKUP(A392,'R001'!A:I,4,0),\"ไม่มีรหัสบัญชีนี้\"))","v":"ปรับปรุงรายได้ค่าตรวจสอบและบำรุงรักษาเคเบิลใต้ดิน"},null,null,null,null,null,{"$f":"IF(COUNTIF(A:A,A392)>1,\"รหัสบัญชีซ้ำ โปรดตรวจสอบ\",\"\")","v":""},null,{"$f":"ROUNDUP(SUBTOTAL(109,I391:I398),-1)","v":0}]
[null,"รายละเอียด"]
[]
[]
[]
[]
[]
[]
[41039090,{"$f":"IF(A400=\"\",\"<< กรอกรหัสบัญชี (รายได้)\",IFERROR(VLOOKUP(A400,'R001'!A:I,4,0),\"ไม่มีรหัสบัญชีนี้\"))","v":"รายได้ค่าติดตั้ง ตรวจสอบและค่าบำรุงรักษาระบบไฟฟ้า"},null,null,null,null,null,{"$f":"IF(COUNTIF(A:A,A400)>1,\"รหัสบัญชีซ้ำ โปรดตรวจสอบ\",\"\")","v":""},null,{"$f":"ROUNDUP(SUBTOTAL(109,I399:I406),-1)","v":0}]
[null,"รายละเอียด","คำนวณเพิ่ม 10% จากยอดประมาณการรายได้เต็มปี ปี 65",null,null,null,null,"ส"]
[null,null,"กฟอ.หนองไผ่ พิจารณาขอตั้งงบประมาณปี 2567"]
[null,null,"กฟส.วิเชียรบุรี และ กฟย.พุเตย พิจารณาขอตั้งงบประมาณปี 2567"]
[null,null,"กฟส.บึงสามพัน พิจารณาขอตั้งงบประมาณปี 2567"]
[null,null,"กฟส.ศรีเทพ พิจารณาขอตั้งงบประมาณปี 2567"]
[]
[]
[41039099,{"$f":"IF(A408=\"\",\"<< กรอกรหัสบัญชี (รายได้)\",IFERROR(VLOOKUP(A408,'R001'!A:I,4,0),\"ไม่มีรหัสบัญชีนี้\"))","v":"ปรับปรุงรายได้ค่าติดตั้ง ตรวจสอบและค่าบำรุงรักษาระบบไฟฟ้า"},null,null,null,null,null,{"$f":"IF(COUNTIF(A:A,A408)>1,\"รหัสบัญชีซ้ำ โปรดตรวจสอบ\",\"\")","v":""},null,{"$f":"ROUNDUP(SUBTOTAL(109,I407:I414),-1)","v":0}]
[null,"รายละเอียด","คำนวณเพิ่ม 10% จากยอดประมาณการรายได้เต็มปี ปี 65",null,null,null,null,"ส"]
[null,null,"กฟอ.หนองไผ่ พิจารณาขอตั้งงบประมาณปี 2567"]
[null,null,"กฟส.วิเชียรบุรี และ กฟย.พุเตย พิจารณาขอตั้งงบประมาณปี 2567"]
[null,null,"กฟส.บึงสามพัน พิจารณาขอตั้งงบประมาณปี 2567"]
[null,null,"กฟส.ศรีเทพ พิจารณาขอตั้งงบประมาณปี 2567"]
[]
[]
[41039100,{"$f":"IF(A416=\"\",\"<< กรอกรหัสบัญชี (รายได้)\",IFERROR(VLOOKUP(A416,'R001'!A:I,4,0),\"ไม่มีรหัสบัญชีนี้\"))","v":"รายได้ค่าบำรุงรักษาระบบไฟฟ้าแบบครบวงจร"},null,null,null,null,null,{"$f":"IF(COUNTIF(A:A,A416)>1,\"รหัสบัญชีซ้ำ โปรดตรวจสอบ\",\"\")","v":""},null,{"$f":"ROUNDUP(SUBTOTAL(109,I415:I422),-1)","v":0}]
[null,"รายละเอียด","คำนวณเพิ่ม 10% จากยอดประมาณการรายได้เต็มปี ปี 65",null,null,null,null,"ส"]
[null,null,"กฟอ.หนองไผ่ พิจารณาขอตั้งงบประมาณปี 2567"]
[null,null,"กฟส.วิเชียรบุรี และ กฟย.พุเตย พิจารณาขอตั้งงบประมาณปี 2567"]
[null,null,"กฟส.บึงสามพัน พิจารณาขอตั้งงบประมาณปี 2567"]
[null,null,"กฟส.ศรีเทพ พิจารณาขอตั้งงบประมาณปี 2567"]
[]
[]
[41039110,{"$f":"IF(A424=\"\",\"<< กรอกรหัสบัญชี (รายได้)\",IFERROR(VLOOKUP(A424,'R001'!A:I,4,0),\"ไม่มีรหัสบัญชีนี้\"))","v":"รายได้ค่าดำเนินการโครงการรับซื้อไฟฟ้าจากVSPP"},null,null,null,null,null,{"$f":"IF(COUNTIF(A:A,A424)>1,\"รหัสบัญชีซ้ำ โปรดตรวจสอบ\",\"\")","v":""},null,{"$f":"ROUNDUP(SUBTOTAL(109,I423:I430),-1)","v":12804000}]
[null,"รายละเอียด","คำนวณเพิ่ม 10% จากยอดประมาณการรายได้เต็มปี ปี 65"]
[null,null,"กฟอ.หนองไผ่ พิจารณาขอตั้งงบประมาณปี 2567",null,null,null,null,null,1000000]
[null,null,"กฟส.วิเชียรบุรี และ กฟย.พุเตย พิจารณาขอตั้งงบประมาณปี 2567",null,null,null,null,null,1300000]
[null,null,"กฟส.บึงสามพัน พิจารณาขอตั้งงบประมาณปี 2567",null,null,null,null,null,10500000]
[null,null,"กฟส.ศรีเทพ พิจารณาขอตั้งงบประมาณปี 2567",null,null,null,null,null,4000]
[]
[]
[41039120,{"$f":"IF(A432=\"\",\"<< กรอกรหัสบัญชี (รายได้)\",IFERROR(VLOOKUP(A432,'R001'!A:I,4,0),\"ไม่มีรหัสบัญชีนี้\"))","v":"รายได้ค่าบริการติดตั้งอุปกรณ์สื่อสาร"},null,null,null,null,null,{"$f":"IF(COUNTIF(A:A,A432)>1,\"รหัสบัญชีซ้ำ โปรดตรวจสอบ\",\"\")","v":""},null,{"$f":"ROUNDUP(SUBTOTAL(109,I431:I438),-1)","v":0}]
[null,"รายละเอียด","คำนวณเพิ่ม 10% จากยอดประมาณการรายได้เต็มปี ปี 65"]
[null,null,"กฟอ.หนองไผ่ พิจารณาขอตั้งงบประมาณปี 2567"]
[null,null,"กฟส.วิเชียรบุรี และ กฟย.พุเตย พิจารณาขอตั้งงบประมาณปี 2567"]
[null,null,"กฟส.บึงสามพัน พิจารณาขอตั้งงบประมาณปี 2567"]
[null,null,"กฟส.ศรีเทพ พิจารณาขอตั้งงบประมาณปี 2567"]
[]
[]
[41039130,{"$f":"IF(A440=\"\",\"<< กรอกรหัสบัญชี (รายได้)\",IFERROR(VLOOKUP(A440,'R001'!A:I,4,0),\"ไม่มีรหัสบัญชีนี้\"))","v":"รายได้ค่าพาดสายก่อนได้รับอนุญาต"},null,null,null,null,null,{"$f":"IF(COUNTIF(A:A,A440)>1,\"รหัสบัญชีซ้ำ โปรดตรวจสอบ\",\"\")","v":""},null,{"$f":"ROUNDUP(SUBTOTAL(109,I439:I446),-1)","v":0}]
[null,"รายละเอียด"]
[]
[]
[]
[]
[]
[]
[41039140,{"$f":"IF(A448=\"\",\"<< กรอกรหัสบัญชี (รายได้)\",IFERROR(VLOOKUP(A448,'R001'!A:I,4,0),\"ไม่มีรหัสบัญชีนี้\"))","v":"รายได้ค่าบริการฝึกอบรม"},null,null,null,null,null,{"$f":"IF(COUNTIF(A:A,A448)>1,\"รหัสบัญชีซ้ำ โปรดตรวจสอบ\",\"\")","v":""},null,{"$f":"ROUNDUP(SUBTOTAL(109,I447:I454),-1)","v":0}]
[null,"รายละเอียด"]
[]
[]
[]
[]
[]
[]
[41039150,{"$f":"IF(A456=\"\",\"<< กรอกรหัสบัญชี (รายได้)\",IFERROR(VLOOKUP(A456,'R001'!A:I,4,0),\"ไม่มีรหัสบัญชีนี้\"))","v":"รายได้บริการจัดการพลังงาน"},null,null,null,null,null,{"$f":"IF(COUNTIF(A:A,A456)>1,\"รหัสบัญชีซ้ำ โปรดตรวจสอบ\",\"\")","v":""},null,{"$f":"ROUNDUP(SUBTOTAL(109,I455:I462),-1)","v":0}]
[null,"รายละเอียด"]
[]
[]
[]
[]
[]
[]
[41039160,{"$f":"IF(A464=\"\",\"<< กรอกรหัสบัญชี (รายได้)\",IFERROR(VLOOKUP(A464,'R001'!A:I,4,0),\"ไม่มีรหัสบัญชีนี้\"))","v":"รายได้ค่าบริการเชื่อมต่อระบบโครงข่ายไฟฟ้า"},null,null,null,null,null,{"$f":"IF(COUNTIF(A:A,A464)>1,\"รหัสบัญชีซ้ำ โปรดตรวจสอบ\",\"\")","v":""},null,{"$f":"ROUNDUP(SUBTOTAL(109,I463:I470),-1)","v":0}]
[null,"รายละเอียด"]
[]
[]
[]
[]
[]
[]
[41039990,{"$f":"IF(A472=\"\",\"<< กรอกรหัสบัญชี (รายได้)\",IFERROR(VLOOKUP(A472,'R001'!A:I,4,0),\"ไม่มีรหัสบัญชีนี้\"))","v":"รายได้อื่น ๆ จากการดำเนินงาน"},null,null,null,null,null,{"$f":"IF(COUNTIF(A:A,A472)>1,\"รหัสบัญชีซ้ำ โปรดตรวจสอบ\",\"\")","v":""},null,{"$f":"ROUNDUP(SUBTOTAL(109,I471:I478),-1)","v":380000}]
[null,"รายละเอียด","คำนวณเพิ่ม 10% จากยอดประมาณการรายได้เต็มปี ปี 65"]
[null,null,"กฟอ.หนองไผ่ พิจารณาขอตั้งงบประมาณปี 2567",null,null,null,null,null,70000]
[null,null,"กฟส.วิเชียรบุรี และ กฟย.พุเตย พิจารณาขอตั้งงบประมาณปี 2567",null,null,null,null,null,120000]
[null,null,"กฟส.บึงสามพัน พิจารณาขอตั้งงบประมาณปี 2567",null,null,null,null,null,120000]
[null,null,"กฟส.ศรีเทพ พิจารณาขอตั้งงบประมาณปี 2567",null,null,null,null,null,70000]
[]
[]
[49010010,{"$f":"IF(A480=\"\",\"<< กรอกรหัสบัญชี (รายได้)\",IFERROR(VLOOKUP(A480,'R001'!A:I,4,0),\"ไม่มีรหัสบัญชีนี้\"))","v":"ดอกเบี้ยรับเงินฝากธนาคาร"},null,null,null,null,null,{"$f":"IF(COUNTIF(A:A,A480)>1,\"รหัสบัญชีซ้ำ โปรดตรวจสอบ\",\"\")","v":""},null,{"$f":"ROUNDUP(SUBTOTAL(109,I479:I486),-1)","v":20000}]
[null,"รายละเอียด","คำนวณเพิ่ม 10% จากยอดประมาณการรายได้เต็มปี ปี 65"]
[null,null,"กฟอ.หนองไผ่ พิจารณาขอตั้งงบประมาณปี 2567",null,null,null,null,null,5000]
[null,null,"กฟส.วิเชียรบุรี และ กฟย.พุเตย พิจารณาขอตั้งงบประมาณปี 2567",null,null,null,null,null,5000]
[null,null,"กฟส.บึงสามพัน พิจารณาขอตั้งงบประมาณปี 2567",null,null,null,null,null,5000]
[null,null,"กฟส.ศรีเทพ พิจารณาขอตั้งงบประมาณปี 2567",null,null,null,null,null,5000]
[]
[]
[49019010,{"$f":"IF(A488=\"\",\"<< กรอกรหัสบัญชี (รายได้)\",IFERROR(VLOOKUP(A488,'R001'!A:I,4,0),\"ไม่มีรหัสบัญชีนี้\"))","v":"ดอกเบี้ยรับชำระหนี้เกินกำหนด"},null,null,null,null,null,{"$f":"IF(COUNTIF(A:A,A488)>1,\"รหัสบัญชีซ้ำ โปรดตรวจสอบ\",\"\")","v":""},null,{"$f":"ROUNDUP(SUBTOTAL(109,I487:I494),-1)","v":1466000}]
[null,"รายละเอียด","คำนวณเพิ่ม 10% จากยอดประมาณการรายได้เต็มปี ปี 65"]
[null,null,"กฟอ.หนองไผ่ พิจารณาขอตั้งงบประมาณปี 2567",null,null,null,null,null,1000]
[null,null,"กฟส.วิเชียรบุรี และ กฟย.พุเตย พิจารณาขอตั้งงบประมาณปี 2567",null,null,null,null,null,15000]
[null,null,"กฟส.บึงสามพัน พิจารณาขอตั้งงบประมาณปี 2567",null,null,null,null,null,800000]
[null,null,"กฟส.ศรีเทพ พิจารณาขอตั้งงบประมาณปี 2567",null,null,null,null,null,650000]
[]
[]
[49020010,{"$f":"IF(A496=\"\",\"<< กรอกรหัสบัญชี (รายได้)\",IFERROR(VLOOKUP(A496,'R001'!A:I,4,0),\"ไม่มีรหัสบัญชีนี้\"))","v":"รายได้ค่าปรับผิดสัญญาซื้อขาย"},null,null,null,null,null,{"$f":"IF(COUNTIF(A:A,A496)>1,\"รหัสบัญชีซ้ำ โปรดตรวจสอบ\",\"\")","v":""},null,{"$f":"ROUNDUP(SUBTOTAL(109,I495:I502),-1)","v":0}]
[null,"รายละเอียด","คำนวณเพิ่ม 10% จากยอดประมาณการรายได้เต็มปี ปี 65"]
[null,null,"กฟอ.หนองไผ่ พิจารณาขอตั้งงบประมาณปี 2567"]
[null,null,"กฟส.วิเชียรบุรี และ กฟย.พุเตย พิจารณาขอตั้งงบประมาณปี 2567"]
[null,null,"กฟส.บึงสามพัน พิจารณาขอตั้งงบประมาณปี 2567"]
[null,null,"กฟส.ศรีเทพ พิจารณาขอตั้งงบประมาณปี 2567"]
[]
[]
[49020020,{"$f":"IF(A504=\"\",\"<< กรอกรหัสบัญชี (รายได้)\",IFERROR(VLOOKUP(A504,'R001'!A:I,4,0),\"ไม่มีรหัสบัญชีนี้\"))","v":"รายได้ค่าปรับผิดสัญญาจ้าง/ให้บริการ"},null,null,null,null,null,{"$f":"IF(COUNTIF(A:A,A504)>1,\"รหัสบัญชีซ้ำ โปรดตรวจสอบ\",\"\")","v":""},null,{"$f":"ROUNDUP(SUBTOTAL(109,I503:I510),-1)","v":4000}]
[null,"รายละเอียด","คำนวณเพิ่ม 10% จากยอดประมาณการรายได้เต็มปี ปี 65"]
[null,null,"กฟอ.หนองไผ่ พิจารณาขอตั้งงบประมาณปี 2567",null,null,null,null,null,1000]
[null,null,"กฟส.วิเชียรบุรี และ กฟย.พุเตย พิจารณาขอตั้งงบประมาณปี 2567",null,null,null,null,null,1000]
[null,null,"กฟส.บึงสามพัน พิจารณาขอตั้งงบประมาณปี 2567",null,null,null,null,null,1000]
[null,null,"กฟส.ศรีเทพ พิจารณาขอตั้งงบประมาณปี 2567",null,null,null,null,null,1000]
[]
[]
[49020030,{"$f":"IF(A512=\"\",\"<< กรอกรหัสบัญชี (รายได้)\",IFERROR(VLOOKUP(A512,'R001'!A:I,4,0),\"ไม่มีรหัสบัญชีนี้\"))","v":"รายได้ค่าปรับผิดสัญญาตัวแทนจดหน่วย"},null,null,null,null,null,{"$f":"IF(COUNTIF(A:A,A512)>1,\"รหัสบัญชีซ้ำ โปรดตรวจสอบ\",\"\")","v":""},null,{"$f":"ROUNDUP(SUBTOTAL(109,I511:I518),-1)","v":0}]
[null,"รายละเอียด"]
[]
[]
[]
[]
[]
[]
[49020040,{"$f":"IF(A520=\"\",\"<< กรอกรหัสบัญชี (รายได้)\",IFERROR(VLOOKUP(A520,'R001'!A:I,4,0),\"ไม่มีรหัสบัญชีนี้\"))","v":"รายได้ค่าปรับผิดสัญญาตัวแทนจดหน่วยแจ้งหนี้"},null,null,null,null,null,{"$f":"IF(COUNTIF(A:A,A520)>1,\"รหัสบัญชีซ้ำ โปรดตรวจสอบ\",\"\")","v":""},null,{"$f":"ROUNDUP(SUBTOTAL(109,I519:I526),-1)","v":35000}]
[null,"รายละเอียด","คำนวณเพิ่ม 10% จากยอดประมาณการรายได้เต็มปี ปี 65"]
[null,null,"กฟอ.หนองไผ่ พิจารณาขอตั้งงบประมาณปี 2567",null,null,null,null,null,2000]
[null,null,"กฟส.วิเชียรบุรี และ กฟย.พุเตย พิจารณาขอตั้งงบประมาณปี 2567",null,null,null,null,null,8000]
[null,null,"กฟส.บึงสามพัน พิจารณาขอตั้งงบประมาณปี 2567",null,null,null,null,null,24000]
[null,null,"กฟส.ศรีเทพ พิจารณาขอตั้งงบประมาณปี 2567",null,null,null,null,null,1000]
[]
[]
[49020050,{"$f":"IF(A528=\"\",\"<< กรอกรหัสบัญชี (รายได้)\",IFERROR(VLOOKUP(A528,'R001'!A:I,4,0),\"ไม่มีรหัสบัญชีนี้\"))","v":"รายได้ค่าปรับผิดสัญญาตัวแทนตัดและติดกลับมิเตอร์"},null,null,null,null,null,{"$f":"IF(COUNTIF(A:A,A528)>1,\"รหัสบัญชีซ้ำ โปรดตรวจสอบ\",\"\")","v":""},null,{"$f":"ROUNDUP(SUBTOTAL(109,I527:I534),-1)","v":0}]
[null,"รายละเอียด","คำนวณเพิ่ม 10% จากยอดประมาณการรายได้เต็มปี ปี 65"]
[null,null,"กฟอ.หนองไผ่ พิจารณาขอตั้งงบประมาณปี 2567"]
[null,null,"กฟส.วิเชียรบุรี และ กฟย.พุเตย พิจารณาขอตั้งงบประมาณปี 2567"]
[null,null,"กฟส.บึงสามพัน พิจารณาขอตั้งงบประมาณปี 2567"]
[null,null,"กฟส.ศรีเทพ พิจารณาขอตั้งงบประมาณปี 2567"]
[]
[]
[49020060,{"$f":"IF(A536=\"\",\"<< กรอกรหัสบัญชี (รายได้)\",IFERROR(VLOOKUP(A536,'R001'!A:I,4,0),\"ไม่มีรหัสบัญชีนี้\"))","v":"รายได้ค่าปรับผิดสัญญาตัวแทนเก็บเงิน"},null,null,null,null,null,{"$f":"IF(COUNTIF(A:A,A536)>1,\"รหัสบัญชีซ้ำ โปรดตรวจสอบ\",\"\")","v":""},null,{"$f":"ROUNDUP(SUBTOTAL(109,I535:I542),-1)","v":0}]
[null,"รายละเอียด"]
[]
[]
[]
[]
[]
[]
[49020990,{"$f":"IF(A544=\"\",\"<< กรอกรหัสบัญชี (รายได้)\",IFERROR(VLOOKUP(A544,'R001'!A:I,4,0),\"ไม่มีรหัสบัญชีนี้\"))","v":"รายได้ค่าปรับอื่น ๆ"},null,null,null,null,null,{"$f":"IF(COUNTIF(A:A,A544)>1,\"รหัสบัญชีซ้ำ โปรดตรวจสอบ\",\"\")","v":""},null,{"$f":"ROUNDUP(SUBTOTAL(109,I543:I550),-1)","v":0}]
[null,"รายละเอียด","คำนวณเพิ่ม 10% จากยอดประมาณการรายได้เต็มปี ปี 65"]
[null,null,"กฟอ.หนองไผ่ พิจารณาขอตั้งงบประมาณปี 2567",null,null,null,null,null,0]
[null,null,"กฟส.วิเชียรบุรี และ กฟย.พุเตย พิจารณาขอตั้งงบประมาณปี 2567",null,null,null,null,null,0]
[null,null,"กฟส.บึงสามพัน พิจารณาขอตั้งงบประมาณปี 2567",null,null,null,null,null,0]
[null,null,"กฟส.ศรีเทพ พิจารณาขอตั้งงบประมาณปี 2567",null,null,null,null,null,0]
[]
[]
[49030010,{"$f":"IF(A552=\"\",\"<< กรอกรหัสบัญชี (รายได้)\",IFERROR(VLOOKUP(A552,'R001'!A:I,4,0),\"ไม่มีรหัสบัญชีนี้\"))","v":"รายได้จากการรับบริจาค"},null,null,null,null,null,{"$f":"IF(COUNTIF(A:A,A552)>1,\"รหัสบัญชีซ้ำ โปรดตรวจสอบ\",\"\")","v":""},null,{"$f":"ROUNDUP(SUBTOTAL(109,I551:I558),-1)","v":0}]
[null,"รายละเอียด","คำนวณเพิ่ม 10% จากยอดประมาณการรายได้เต็มปี ปี 65"]
[null,null,"กฟอ.หนองไผ่ พิจารณาขอตั้งงบประมาณปี 2567"]
[null,null,"กฟส.วิเชียรบุรี และ กฟย.พุเตย พิจารณาขอตั้งงบประมาณปี 2567"]
[null,null,"กฟส.บึงสามพัน พิจารณาขอตั้งงบประมาณปี 2567"]
[null,null,"กฟส.ศรีเทพ พิจารณาขอตั้งงบประมาณปี 2567"]
[]
[]
[49040010,{"$f":"IF(A560=\"\",\"<< กรอกรหัสบัญชี (รายได้)\",IFERROR(VLOOKUP(A560,'R001'!A:I,4,0),\"ไม่มีรหัสบัญชีนี้\"))","v":"กำไร(ขาดทุน)จากการขายเศษเหล็ก เศษวัสดุ"},null,null,null,null,null,{"$f":"IF(COUNTIF(A:A,A560)>1,\"รหัสบัญชีซ้ำ โปรดตรวจสอบ\",\"\")","v":""},null,{"$f":"ROUNDUP(SUBTOTAL(109,I559:I566),-1)","v":-23000}]
[null,"รายละเอียด","คำนวณเพิ่ม 10% จากยอดประมาณการรายได้เต็มปี ปี 65"]
[null,null,"กฟอ.หนองไผ่ พิจารณาขอตั้งงบประมาณปี 2567",null,null,null,null,null,-30000]
[null,null,"กฟส.วิเชียรบุรี และ กฟย.พุเตย พิจารณาขอตั้งงบประมาณปี 2567",null,null,null,null,null,2000]
[null,null,"กฟส.บึงสามพัน พิจารณาขอตั้งงบประมาณปี 2567",null,null,null,null,null,2000]
[null,null,"กฟส.ศรีเทพ พิจารณาขอตั้งงบประมาณปี 2567",null,null,null,null,null,3000]
[]
[]
[49040020,{"$f":"IF(A568=\"\",\"<< กรอกรหัสบัญชี (รายได้)\",IFERROR(VLOOKUP(A568,'R001'!A:I,4,0),\"ไม่มีรหัสบัญชีนี้\"))","v":"กำไร(ขาดทุน)จากการตรวจนับ/ปป.วัสดุและสินค้าคงเหลือ"},null,null,null,null,null,{"$f":"IF(COUNTIF(A:A,A568)>1,\"รหัสบัญชีซ้ำ โปรดตรวจสอบ\",\"\")","v":""},null,{"$f":"ROUNDUP(SUBTOTAL(109,I567:I574),-1)","v":0}]
[null,"รายละเอียด","คำนวณเพิ่ม 10% จากยอดประมาณการรายได้เต็มปี ปี 65"]
[null,null,"กฟอ.หนองไผ่ พิจารณาขอตั้งงบประมาณปี 2567"]
[null,null,"กฟส.วิเชียรบุรี และ กฟย.พุเตย พิจารณาขอตั้งงบประมาณปี 2567"]
[null,null,"กฟส.บึงสามพัน พิจารณาขอตั้งงบประมาณปี 2567"]
[null,null,"กฟส.ศรีเทพ พิจารณาขอตั้งงบประมาณปี 2567"]
[]
[]
[49040030,{"$f":"IF(A576=\"\",\"<< กรอกรหัสบัญชี (รายได้)\",IFERROR(VLOOKUP(A576,'R001'!A:I,4,0),\"ไม่มีรหัสบัญชีนี้\"))","v":"กำไร(ขาดทุน)จากการตัดจำหน่ายวัสดุ"},null,null,null,null,null,{"$f":"IF(COUNTIF(A:A,A576)>1,\"รหัสบัญชีซ้ำ โปรดตรวจสอบ\",\"\")","v":""},null,{"$f":"ROUNDUP(SUBTOTAL(109,I575:I582),-1)","v":0}]
[null,"รายละเอียด","คำนวณเพิ่ม 10% จากยอดประมาณการรายได้เต็มปี ปี 65"]
[null,null,"กฟอ.หนองไผ่ พิจารณาขอตั้งงบประมาณปี 2567"]
[null,null,"กฟส.วิเชียรบุรี และ กฟย.พุเตย พิจารณาขอตั้งงบประมาณปี 2567"]
[null,null,"กฟส.บึงสามพัน พิจารณาขอตั้งงบประมาณปี 2567"]
[null,null,"กฟส.ศรีเทพ พิจารณาขอตั้งงบประมาณปี 2567"]
[]
[]
[49041010,{"$f":"IF(A584=\"\",\"<< กรอกรหัสบัญชี (รายได้)\",IFERROR(VLOOKUP(A584,'R001'!A:I,4,0),\"ไม่มีรหัสบัญชีนี้\"))","v":"กำไร(ขาดทุน)จากการตัดจำหน่ายสินทรัพย์ถาวร"},null,null,null,null,null,{"$f":"IF(COUNTIF(A:A,A584)>1,\"รหัสบัญชีซ้ำ โปรดตรวจสอบ\",\"\")","v":""},null,{"$f":"ROUNDUP(SUBTOTAL(109,I583:I590),-1)","v":-240000}]
[null,"รายละเอียด","คำนวณเพิ่ม 10% จากยอดประมาณการรายได้เต็มปี ปี 65"]
[null,null,"กฟอ.หนองไผ่ พิจารณาขอตั้งงบประมาณปี 2567",null,null,null,null,null,-370000]
[null,null,"กฟส.วิเชียรบุรี และ กฟย.พุเตย พิจารณาขอตั้งงบประมาณปี 2567",null,null,null,null,null,230000]
[null,null,"กฟส.บึงสามพัน พิจารณาขอตั้งงบประมาณปี 2567",null,null,null,null,null,500000]
[null,null,"กฟส.ศรีเทพ พิจารณาขอตั้งงบประมาณปี 2567",null,null,null,null,null,-600000]
[]
[]
[49041020,{"$f":"IF(A592=\"\",\"<< กรอกรหัสบัญชี (รายได้)\",IFERROR(VLOOKUP(A592,'R001'!A:I,4,0),\"ไม่มีรหัสบัญชีนี้\"))","v":"กำไร(ขาดทุน)จากการขายสินทรัพย์ถาวร"},null,null,null,null,null,{"$f":"IF(COUNTIF(A:A,A592)>1,\"รหัสบัญชีซ้ำ โปรดตรวจสอบ\",\"\")","v":""},null,{"$f":"ROUNDUP(SUBTOTAL(109,I591:I598),-1)","v":0}]
[null,"รายละเอียด","คำนวณเพิ่ม 10% จากยอดประมาณการรายได้เต็มปี ปี 65"]
[null,null,"กฟอ.หนองไผ่ พิจารณาขอตั้งงบประมาณปี 2567"]
[null,null,"กฟส.วิเชียรบุรี และ กฟย.พุเตย พิจารณาขอตั้งงบประมาณปี 2567"]
[null,null,"กฟส.บึงสามพัน พิจารณาขอตั้งงบประมาณปี 2567"]
[null,null,"กฟส.ศรีเทพ พิจารณาขอตั้งงบประมาณปี 2567"]
[]
[]
[49050010,{"$f":"IF(A600=\"\",\"<< กรอกรหัสบัญชี (รายได้)\",IFERROR(VLOOKUP(A600,'R001'!A:I,4,0),\"ไม่มีรหัสบัญชีนี้\"))","v":"กำไร(ขาดทุน)ค่าปัดเศษจากการเก็บเงิน"},null,null,null,null,null,{"$f":"IF(COUNTIF(A:A,A600)>1,\"รหัสบัญชีซ้ำ โปรดตรวจสอบ\",\"\")","v":""},null,{"$f":"ROUNDUP(SUBTOTAL(109,I599:I606),-1)","v":-2000}]
[null,"รายละเอียด","คำนวณเพิ่ม 10% จากยอดประมาณการรายได้เต็มปี ปี 65"]
[null,null,"กฟอ.หนองไผ่ พิจารณาขอตั้งงบประมาณปี 2567",null,null,null,null,null,-500]
[null,null,"กฟส.วิเชียรบุรี และ กฟย.พุเตย พิจารณาขอตั้งงบประมาณปี 2567",null,null,null,null,null,-500]
[null,null,"กฟส.บึงสามพัน พิจารณาขอตั้งงบประมาณปี 2567",null,null,null,null,null,-500]
[null,null,"กฟส.ศรีเทพ พิจารณาขอตั้งงบประมาณปี 2567",null,null,null,null,null,-500]
[]
[]
[49050020,{"$f":"IF(A608=\"\",\"<< กรอกรหัสบัญชี (รายได้)\",IFERROR(VLOOKUP(A608,'R001'!A:I,4,0),\"ไม่มีรหัสบัญชีนี้\"))","v":"รายได้เงินชดใช้ค่าเสียหาย"},null,null,null,null,null,{"$f":"IF(COUNTIF(A:A,A608)>1,\"รหัสบัญชีซ้ำ โปรดตรวจสอบ\",\"\")","v":""},null,{"$f":"ROUNDUP(SUBTOTAL(109,I607:I614),-1)","v":0}]
[null,"รายละเอียด"]
[]
[]
[]
[]
[]
[]
[49050070,{"$f":"IF(A616=\"\",\"<< กรอกรหัสบัญชี (รายได้)\",IFERROR(VLOOKUP(A616,'R001'!A:I,4,0),\"ไม่มีรหัสบัญชีนี้\"))","v":"รายได้เงินประกันผู้ใช้ไฟไม่รับคืน"},null,null,null,null,null,{"$f":"IF(COUNTIF(A:A,A616)>1,\"รหัสบัญชีซ้ำ โปรดตรวจสอบ\",\"\")","v":""},null,{"$f":"ROUNDUP(SUBTOTAL(109,I615:I622),-1)","v":820000}]
[null,"รายละเอียด","คำนวณเพิ่ม 10% จากยอดประมาณการรายได้เต็มปี ปี 65"]
[null,null,"กฟอ.หนองไผ่ พิจารณาขอตั้งงบประมาณปี 2567",null,null,null,null,null,510000]
[null,null,"กฟส.วิเชียรบุรี และ กฟย.พุเตย พิจารณาขอตั้งงบประมาณปี 2567",null,null,null,null,null,220000]
[null,null,"กฟส.บึงสามพัน พิจารณาขอตั้งงบประมาณปี 2567",null,null,null,null,null,45000]
[null,null,"กฟส.ศรีเทพ พิจารณาขอตั้งงบประมาณปี 2567",null,null,null,null,null,45000]
[]
[]
[49059990,{"$f":"IF(A624=\"\",\"<< กรอกรหัสบัญชี (รายได้)\",IFERROR(VLOOKUP(A624,'R001'!A:I,4,0),\"ไม่มีรหัสบัญชีนี้\"))","v":"รายได้อื่นที่ไม่เกี่ยวกับการดำเนินงาน"},null,null,null,null,null,{"$f":"IF(COUNTIF(A:A,A624)>1,\"รหัสบัญชีซ้ำ โปรดตรวจสอบ\",\"\")","v":""},null,{"$f":"ROUNDUP(SUBTOTAL(109,I623:I630),-1)","v":115000}]
[null,"รายละเอียด","คำนวณเพิ่ม 10% จากยอดประมาณการรายได้เต็มปี ปี 65"]
[null,null,"กฟอ.หนองไผ่ พิจารณาขอตั้งงบประมาณปี 2567",null,null,null,null,null,45000]
[null,null,"กฟส.วิเชียรบุรี และ กฟย.พุเตย พิจารณาขอตั้งงบประมาณปี 2567",null,null,null,null,null,20000]
[null,null,"กฟส.บึงสามพัน พิจารณาขอตั้งงบประมาณปี 2567",null,null,null,null,null,15000]
[null,null,"กฟส.ศรีเทพ พิจารณาขอตั้งงบประมาณปี 2567",null,null,null,null,null,35000]
[]
[null,"รวมงานประจำของหน่วยงาน (รายได้)",null,null,null,null,null,null,null,{"$f":"SUMIF(A6:INDIRECT(\"A\"&ROW()-1),\"<>\",J6:INDIRECT(\"j\"&ROW()-1))","v":2146600500}]
[]
[]
["รหัสบัญชี","รายการ /รายละเอียด / คำชี้แจงประกอบ",null,null,null,null,null,null,"รวม","รวมสุทธิ"]
[]
[51010010,{"$f":"IF(A636=\"\",\"<< กรอกรหัสบัญชี (ต้นทุนขาย/ บริการ)\",IFERROR(VLOOKUP(A636,'E001'!A:D,4,0),\"ไม่มีรหัสบัญชีนี้\"))","v":"ค่าซื้อไฟฟ้า-การไฟฟ้าฝ่ายผลิตแห่งประเทศไทย"},null,null,null,null,null,{"$f":"IF(COUNTIF(A:A,A636)>1,\"รหัสบัญชีซ้ำ โปรดตรวจสอบ\",\"\")","v":""},null,{"$f":"ROUNDUP(SUBTOTAL(109,I635:I642),-1)","v":1401000000}]
[null,"รายละเอียด"]
[null,null,"กฟอ.หนองไผ่ พิจารณาขอตั้งงบประมาณปี 2567",null,null,null,null,null,365000000]
[null,null,"กฟส.วิเชียรบุรี และ กฟย.พุเตย พิจารณาขอตั้งงบประมาณปี 2567",null,null,null,null,null,335000000]
[null,null,"กฟส.บึงสามพัน พิจารณาขอตั้งงบประมาณปี 2567",null,null,null,null,null,500000000]
[null,null,"กฟส.ศรีเทพ พิจารณาขอตั้งงบประมาณปี 2567",null,null,null,null,null,201000000]
[]
[]
[51010018,{"$f":"IF(A644=\"\",\"<< กรอกรหัสบัญชี (ต้นทุนขาย/ บริการ)\",IFERROR(VLOOKUP(A644,'E001'!A:D,4,0),\"ไม่มีรหัสบัญชีนี้\"))","v":"ปรับปรุงค่าซื้อไฟฟ้า"},null,null,null,null,null,{"$f":"IF(COUNTIF(A:A,A644)>1,\"รหัสบัญชีซ้ำ โปรดตรวจสอบ\",\"\")","v":""},null,{"$f":"ROUNDUP(SUBTOTAL(109,I643:I650),-1)","v":0}]
[null,"รายละเอียด"]
[]
[]
[]
[]
[]
[]
[51010020,{"$f":"IF(A652=\"\",\"<< กรอกรหัสบัญชี (ต้นทุนขาย/ บริการ)\",IFERROR(VLOOKUP(A652,'E001'!A:D,4,0),\"ไม่มีรหัสบัญชีนี้\"))","v":"ค่าซื้อไฟฟ้า-กรมพัฒนาพลังงานทดแทนฯ(พพ.)"},null,null,null,null,null,{"$f":"IF(COUNTIF(A:A,A652)>1,\"รหัสบัญชีซ้ำ โปรดตรวจสอบ\",\"\")","v":""},null,{"$f":"ROUNDUP(SUBTOTAL(109,I651:I658),-1)","v":0}]
[null,"รายละเอียด"]
[]
[]
[]
[]
[]
[]
[51010030,{"$f":"IF(A660=\"\",\"<< กรอกรหัสบัญชี (ต้นทุนขาย/ บริการ)\",IFERROR(VLOOKUP(A660,'E001'!A:D,4,0),\"ไม่มีรหัสบัญชีนี้\"))","v":"ค่าซื้อไฟฟ้า-ผู้ผลิตไฟฟ้าขนาดเล็กมาก"},null,null,null,null,null,{"$f":"IF(COUNTIF(A:A,A660)>1,\"รหัสบัญชีซ้ำ โปรดตรวจสอบ\",\"\")","v":""},null,{"$f":"ROUNDUP(SUBTOTAL(109,I659:I666),-1)","v":877650000}]
[null,"รายละเอียด"]
[null,null,"กฟอ.หนองไผ่ ไม่มีผู้ผลิตไฟฟ้าขนาดเล็กมาก",null,null,null,null,null,0]
[null,null,"กฟส.วิเชียรบุรี และ กฟย.พุเตย พิจารณาขอตั้งงบประมาณปี 2567",null,null,null,null,null,170000000]
[null,null,"กฟส.บึงสามพัน พิจารณาขอตั้งงบประมาณปี 2567",null,null,null,null,null,185000000]
[null,null,"กฟส.ศรีเทพ พิจารณาขอตั้งงบประมาณปี 2567",null,null,null,null,null,522650000]
[]
[]
[51010060,{"$f":"IF(A668=\"\",\"<< กรอกรหัสบัญชี (ต้นทุนขาย/ บริการ)\",IFERROR(VLOOKUP(A668,'E001'!A:D,4,0),\"ไม่มีรหัสบัญชีนี้\"))","v":"ค่าซื้อไฟฟ้า-พลังงานแสงอาทิตย์"},null,null,null,null,null,{"$f":"IF(COUNTIF(A:A,A668)>1,\"รหัสบัญชีซ้ำ โปรดตรวจสอบ\",\"\")","v":""},null,{"$f":"ROUNDUP(SUBTOTAL(109,I667:I674),-1)","v":2318000}]
[null,"รายละเอียด"]
[null,null,"กฟอ.หนองไผ่ พิจารณาขอตั้งงบประมาณปี 2567",null,null,null,null,null,750000]
[null,null,"กฟส.วิเชียรบุรี และ กฟย.พุเตย พิจารณาขอตั้งงบประมาณปี 2567",null,null,null,null,null,800000]
[null,null,"กฟส.บึงสามพัน พิจารณาขอตั้งงบประมาณปี 2567",null,null,null,null,null,100000]
[null,null,"กฟส.ศรีเทพ พิจารณาขอตั้งงบประมาณปี 2567",null,null,null,null,null,668000]
[]
[]
[51010080,{"$f":"IF(A676=\"\",\"<< กรอกรหัสบัญชี (ต้นทุนขาย/ บริการ)\",IFERROR(VLOOKUP(A676,'E001'!A:D,4,0),\"ไม่มีรหัสบัญชีนี้\"))","v":"เงินนำส่งกองทุนพัฒนาไฟฟ้าจากการผลิตไฟฟ้า"},null,null,null,null,null,{"$f":"IF(COUNTIF(A:A,A676)>1,\"รหัสบัญชีซ้ำ โปรดตรวจสอบ\",\"\")","v":""},null,{"$f":"ROUNDUP(SUBTOTAL(109,I675:I682),-1)","v":0}]
[null,"รายละเอียด"]
[]
[]
[]
[]
[]
[]
[51010090,{"$f":"IF(A684=\"\",\"<< กรอกรหัสบัญชี (ต้นทุนขาย/ บริการ)\",IFERROR(VLOOKUP(A684,'E001'!A:D,4,0),\"ไม่มีรหัสบัญชีนี้\"))","v":"เงินนำส่งกองทุนพัฒนาไฟฟ้าเพื่อพลังงานหมุนเวียน"},null,null,null,null,null,{"$f":"IF(COUNTIF(A:A,A684)>1,\"รหัสบัญชีซ้ำ โปรดตรวจสอบ\",\"\")","v":""},null,{"$f":"ROUNDUP(SUBTOTAL(109,I683:I690),-1)","v":2110000}]
[null,"รายละเอียด"]
[null,null,"กฟอ.หนองไผ่ พิจารณาขอตั้งงบประมาณปี 2567",null,null,null,null,null,430000]
[null,null,"กฟส.วิเชียรบุรี และ กฟย.พุเตย พิจารณาขอตั้งงบประมาณปี 2567",null,null,null,null,null,500000]
[null,null,"กฟส.บึงสามพัน พิจารณาขอตั้งงบประมาณปี 2567",null,null,null,null,null,800000]
[null,null,"กฟส.ศรีเทพ พิจารณาขอตั้งงบประมาณปี 2567",null,null,null,null,null,380000]
[]
[]
[51010100,{"$f":"IF(A692=\"\",\"<< กรอกรหัสบัญชี (ต้นทุนขาย/ บริการ)\",IFERROR(VLOOKUP(A692,'E001'!A:D,4,0),\"ไม่มีรหัสบัญชีนี้\"))","v":"เงินนำส่งกองทุนพัฒนาไฟฟ้าเพื่อส่งเสริมสังคม"},null,null,null,null,null,{"$f":"IF(COUNTIF(A:A,A692)>1,\"รหัสบัญชีซ้ำ โปรดตรวจสอบ\",\"\")","v":""},null,{"$f":"ROUNDUP(SUBTOTAL(109,I691:I698),-1)","v":852000}]
[null,"รายละเอียด"]
[null,null,"กฟอ.หนองไผ่ พิจารณาขอตั้งงบประมาณปี 2567",null,null,null,null,null,180000]
[null,null,"กฟส.วิเชียรบุรี และ กฟย.พุเตย พิจารณาขอตั้งงบประมาณปี 2567",null,null,null,null,null,200000]
[null,null,"กฟส.บึงสามพัน พิจารณาขอตั้งงบประมาณปี 2567",null,null,null,null,null,320000]
[null,null,"กฟส.ศรีเทพ พิจารณาขอตั้งงบประมาณปี 2567",null,null,null,null,null,152000]
[]
[]
[51010130,{"$f":"IF(A700=\"\",\"<< กรอกรหัสบัญชี (ต้นทุนขาย/ บริการ)\",IFERROR(VLOOKUP(A700,'E001'!A:D,4,0),\"ไม่มีรหัสบัญชีนี้\"))","v":"ต้นทุนจำหน่ายไฟฟ้าของสถานีอัดประจุ"},null,null,null,null,null,{"$f":"IF(COUNTIF(A:A,A700)>1,\"รหัสบัญชีซ้ำ โปรดตรวจสอบ\",\"\")","v":""},null,{"$f":"ROUNDUP(SUBTOTAL(109,I699:I706),-1)","v":0}]
[null,"รายละเอียด"]
[]
[]
[]
[]
[]
[]
[51011010,{"$f":"IF(A708=\"\",\"<< กรอกรหัสบัญชี (ต้นทุนขาย/ บริการ)\",IFERROR(VLOOKUP(A708,'E001'!A:D,4,0),\"ไม่มีรหัสบัญชีนี้\"))","v":"ค่าเชื้อเพลิงผลิตกระแสไฟฟ้า"},null,null,null,null,null,{"$f":"IF(COUNTIF(A:A,A708)>1,\"รหัสบัญชีซ้ำ โปรดตรวจสอบ\",\"\")","v":""},null,{"$f":"ROUNDUP(SUBTOTAL(109,I707:I714),-1)","v":30000}]
[null,"รายละเอียด"]
[null,null,"กฟอ.หนองไผ่ พิจารณาขอตั้งงบประมาณปี 2567",null,null,null,null,null,30000]
[]
[]
[]
[]
[]
[51011020,{"$f":"IF(A716=\"\",\"<< กรอกรหัสบัญชี (ต้นทุนขาย/ บริการ)\",IFERROR(VLOOKUP(A716,'E001'!A:D,4,0),\"ไม่มีรหัสบัญชีนี้\"))","v":"ค่าสารหล่อลื่นผลิตกระแสไฟฟ้า"},null,null,null,null,null,{"$f":"IF(COUNTIF(A:A,A716)>1,\"รหัสบัญชีซ้ำ โปรดตรวจสอบ\",\"\")","v":""},null,{"$f":"ROUNDUP(SUBTOTAL(109,I715:I722),-1)","v":0}]
[null,"รายละเอียด"]
[]
[]
[]
[]
[]
[]
[51020010,{"$f":"IF(A724=\"\",\"<< กรอกรหัสบัญชี (ต้นทุนขาย/ บริการ)\",IFERROR(VLOOKUP(A724,'E001'!A:D,4,0),\"ไม่มีรหัสบัญชีนี้\"))","v":"ต้นทุนจากการจำหน่ายอุปกรณ์ไฟฟ้า"},null,null,null,null,null,{"$f":"IF(COUNTIF(A:A,A724)>1,\"รหัสบัญชีซ้ำ โปรดตรวจสอบ\",\"\")","v":""},null,{"$f":"ROUNDUP(SUBTOTAL(109,I723:I730),-1)","v":0}]
[null,"รายละเอียด"]
[]
[]
[]
[]
[]
[null,"รวมงานประจำของหน่วยงาน (ต้นทุนขายและบริการ)",null,null,null,null,null,null,null,{"$f":"SUMIF(A634:INDIRECT(\"A\"&ROW()-1),\"<>\",J634:INDIRECT(\"j\"&ROW()-1))","v":2283960000}]
[]
[]
["ห้ามแก้ไขข้อความหรือกระทำการใดๆ ตั้งแต่บรรทัดนี้เป็นต้นไป"]
[]
["รายได้","กดปุ่ม \"New account - Revenue\" ด้านบนเพื่อเพิ่มบัญชีใหม่ด้านรายได้"]
[]
[null,{"$f":"IF(A738=\"\",\"<< กรอกรหัสบัญชี (รายได้)\",IFERROR(VLOOKUP(A738,'R001'!A:I,4,0),\"ไม่มีรหัสบัญชีนี้\"))","v":"<< กรอกรหัสบัญชี (รายได้)"},null,null,null,null,null,{"$f":"IF(COUNTIF(A:A,A738)>1,\"รหัสบัญชีซ้ำ โปรดตรวจสอบ\",\"\")","v":""},null,{"$f":"ROUNDUP(SUBTOTAL(109,I737:I744),-1)","v":0}]
[null,"รายละเอียด"]
[]
[]
[]
[]
[]
[]
[]
["ต้นทุน","กดปุ่ม \"New account - Cost\" ด้านบนเพื่อเพิ่มบัญชีใหม่ด้านต้นทุนขาย/ บริการ"]
[]
[null,{"$f":"IF(A749=\"\",\"<< กรอกรหัสบัญชี (ต้นทุนขาย/ บริการ)\",IFERROR(VLOOKUP(A749,'E001'!A:D,4,0),\"ไม่มีรหัสบัญชีนี้\"))","v":"<< กรอกรหัสบัญชี (ต้นทุนขาย/ บริการ)"},null,null,null,null,null,{"$f":"IF(COUNTIF(A:A,A749)>1,\"รหัสบัญชีซ้ำ โปรดตรวจสอบ\",\"\")","v":""},null,{"$f":"ROUNDUP(SUBTOTAL(109,I748:I755),-1)","v":0}]
[null,"รายละเอียด"]

{"sheet":"E110","index":7,"n_rows":467,"n_cols":17,"rows_kept":467,"cut":false,"hidden":false,"merged":[[454,1,454,7],[133,5,135,5],[0,0,0,7],[1,0,1,7],[2,0,2,7],[285,2,285,5],[95,2,95,5],[149,2,149,5]]}
["คำชี้แจงประกอบ",null,null,null,null,null,null,null,"งป. (ท)_1"]
[{"$f":"\"งบประมาณทำการประจำปี \"&A_Budget_year","v":"งบประมาณทำการประจำปี 2567"}]
["งานประจำของหน่วยงาน - ค่าใช้จ่ายเกี่ยวกับบุคคลากร"]
[null,null,null,null,null,null,null,{"$f":"Head_division","v":"เขต: "},{"$f":"Head_division2","v":"กฟน.3 - 07"}]
[null,null,null,null,null,null,null,"หน่วย:","บาท"]
["รหัสบัญชี",null,null,"รายการ /รายละเอียด / คำชี้แจงประกอบ",null,null,null,null,"วงเงิน"]
[52010010,{"$f":"VLOOKUP(A7,'E001'!A:D,4,0)","v":"เงินเดือนพนักงาน"},null,null,null,null,null,null,{"$f":"ROUNDUP(G36+G43,-1)","v":47812890}]
[null,{"$f":"\"A) คำนวณประมาณการเงินเดือนพนักงานปี \"&A_Budget_year-1","v":"A) คำนวณประมาณการเงินเดือนพนักงานปี 2566"},null,null,null,"(A)"]
[null,{"$f":"\"เงินเดือน ก.ค. \"&A_Budget_year-2&\" จาก SAP (จำนวนพนักงานทั้งหมด \"&Cover!C39&\" คน)\"","v":"เงินเดือน ก.ค. 2565 จาก SAP (จำนวนพนักงานทั้งหมด 104 คน)"},null,null,null,null,{"$f":"Cover!C49","v":3811883}]
[null,"บวก","อัตราเพิ่ม 7.5%",null,null,null,{"$f":"G9*0.075","v":285891.22499999998}]
[null,"หัก",{"$f":"\"เงินเดือนของพนักงานที่เกษียณอายุในปี \"&A_Budget_year-2&\" จำนวน \"&Cover!D39&\" คน (คูณ 7.5% แล้ว)\"","v":"เงินเดือนของพนักงานที่เกษียณอายุในปี 2565 จำนวน 2 คน (คูณ 7.5% แล้ว)"},null,null,null,{"$f":"-Cover!C50*1.075","v":-295384.2}]
[null,{"$f":"\"ประมาณการเงินเดือนพนักงาน ปี \"&A_Budget_year-1&\" (ต่อเดือน)\"","v":"ประมาณการเงินเดือนพนักงาน ปี 2566 (ต่อเดือน)"},null,null,null,null,{"$f":"SUM(G9:G11)","v":3802390.0249999999},"A"]
[]
[null,{"$f":"\"B) คำนวณประมาณการเงินเดือนของพนักงานที่เกษียณอายุในปี \"&A_Budget_year","v":"B) คำนวณประมาณการเงินเดือนของพนักงานที่เกษียณอายุในปี 2567"},null,null,null,"(B)"]
[null,{"$f":"\"B1) เงินเดือนเดือน ต.ค. - ธ.ค. \"&A_Budget_year&\" ของผู้เกษียณอายุ (หลังวันเกษียณอายุ)\"","v":"B1) เงินเดือนเดือน ต.ค. - ธ.ค. 2567 ของผู้เกษียณอายุ (หลังวันเกษียณอายุ)"},null,null,null,"(B1)"]
[null,null,{"$f":"\"เงินเดือน ณ ปี \"&A_Budget_year-2&\" (จำนวน \"&Cover!H39&\" คน)\"","v":"เงินเดือน ณ ปี 2565 (จำนวน 3 คน)"},null,null,null,{"$f":"Cover!C52","v":202040}]
[null,"บวก","อัตราเพิ่ม 7.5%",null,null,null,{"$f":"+G16*0.075","v":15153}]
[null,null,{"$f":"\"ประมาณการเงินเดือนปี \"&A_Budget_year-1","v":"ประมาณการเงินเดือนปี 2566"},null,null,null,{"$f":"SUM(G16:G17)","v":217193}]
[null,"บวก","อัตราเพิ่ม 7.5%",null,null,null,{"$f":"+G18*0.075","v":16289.474999999999}]
[null,null,{"$f":"\"ประมาณการเงินเดือนปี \"&A_Budget_year&\" (ต่อเดือน)\"","v":"ประมาณการเงินเดือนปี 2567 (ต่อเดือน)"},null,null,null,{"$f":"SUM(G18:G19)","v":233482.47500000001}]
[]
[null,null,{"$f":"\"ประมาณการเงินเดือนปี \"&A_Budget_year&\" (3 เดือน)\"","v":"ประมาณการเงินเดือนปี 2567 (3 เดือน)"},null,null,null,{"$f":"G20*3","v":700447.42500000005},"B1"]
[]
[null,"B2) เงินตอบแทนความชอบในการทำงานของผู้เกษียณอายุ"]
[null,null,{"$f":"\"6 % ของเงินเดือน ณ ก.ย. \"&A_Budget_year&\" (\"&G20&\" x 6%)\"","v":"6 % ของเงินเดือน ณ ก.ย. 2567 (233482.475 x 6%)"},null,null,"(B2)",{"$f":"G20*0.06","v":14008.9485},"B2"]
[]
[null,{"$f":"\"C) คำนวณประมาณการเงินเดือนพนักงานปี \"&A_Budget_year&\" (สุทธิ)\"","v":"C) คำนวณประมาณการเงินเดือนพนักงานปี 2567 (สุทธิ)"},null,null,null,"(C)"]
[null,{"$f":"\"ประมาณการเงินเดือนพนักงาน ปี \"&A_Budget_year-1&\" (ต่อเดือน)\"","v":"ประมาณการเงินเดือนพนักงาน ปี 2566 (ต่อเดือน)"},null,null,null,null,{"$f":"G12","v":3802390.0249999999},"A"]
[null,"บวก","อัตราเพิ่ม 7.5% (A x 7.5%)",null,null,null,{"$f":"G28*0.075","v":285179.25187499996}]
[null,"หัก",{"$f":"\"เงินเดือนของพนักงานที่เกษียณอายุในปี \"&A_Budget_year-1&\" จำนวน \"&Cover!F39&\" คน (บวกอัตราเพิ่ม 7.5% แล้ว)\"","v":"เงินเดือนของพนักงานที่เกษียณอายุในปี 2566 จำนวน 1 คน (บวกอัตราเพิ่ม 7.5% แล้ว)"},null,null,null,{"$f":"-Cover!C51*1.075*1.075","v":-63674.9375}]
[null,{"$f":"\"ประมาณการเงินเดือนพนักงาน ปี \"&A_Budget_year&\" (ต่อเดือน)\"","v":"ประมาณการเงินเดือนพนักงาน ปี 2567 (ต่อเดือน)"},null,null,null,null,{"$f":"SUM(G28:G30)","v":4023894.339375},"C"]
[]
[null,{"$f":"\"ประมาณการเงินเดือนพนักงาน ปี \"&A_Budget_year&\" (ต่อปี) (C x 12)\"","v":"ประมาณการเงินเดือนพนักงาน ปี 2567 (ต่อปี) (C x 12)"},null,null,null,null,{"$f":"G31*12","v":48286732.072499998}]
[null,"หัก",{"$f":"\"เงินเดือนผู้เกษียณอายุในปี \"&A_Budget_year&\" เดือน ต.ค. - ธ.ค. \"&A_Budget_year","v":"เงินเดือนผู้เกษียณอายุในปี 2567 เดือน ต.ค. - ธ.ค. 2567"},null,null,null,{"$f":"-G22","v":-700447.42500000005},"B1"]
[null,"บวก","เงินตอบแทนความชอบในการทำงานของผู้เกษียณอายุ",null,null,null,{"$f":"+G25","v":14008.9485},"B2"]
[null,{"$f":"\"ประมาณการเงินเดือนพนักงาน ปี \"&A_Budget_year&\" (สุทธิต่อปี)\"","v":"ประมาณการเงินเดือนพนักงาน ปี 2567 (สุทธิต่อปี)"},null,null,null,null,{"$f":"SUM(G33:G35)","v":47600293.596000001}]
[]
[null,{"$f":"\"D คำนวณประมาณการเงินเดือนปี \"&A_Budget_year&\" ของพนักงานที่เข้าใหม่หลัง 31 ก.ค. \"&A_Budget_year-2","v":"D คำนวณประมาณการเงินเดือนปี 2567 ของพนักงานที่เข้าใหม่หลัง 31 ก.ค. 2565"},null,null,null,"(D)"]
[null,{"$f":"\"เงินเดือนพนักงานที่เข้าใหม่หลัง 31 ก.ค. \"&A_Budget_year-2","v":"เงินเดือนพนักงานที่เข้าใหม่หลัง 31 ก.ค. 2565"},null,null,null,null,{"$f":"Cover!C57","v":16480}]
[null,"บวก","อัตราเพิ่ม 7.5%",null,null,null,{"$f":"G39*0.075","v":1236}]
[null,{"$f":"\"ประมาณการเงินเดือนพนักงาน ปี \"&A_Budget_year&\" ของพนักงานที่เข้าใหม่หลัง 31 ก.ค. \"&A_Budget_year-2&\" (ต่อเดือน)\"","v":"ประมาณการเงินเดือนพนักงาน ปี 2567 ของพนักงานที่เข้าใหม่หลัง 31 ก.ค. 2565 (ต่อเดือน)"},null,null,null,null,{"$f":"SUM(G39:G40)","v":17716},"D"]
[]
[null,{"$f":"\"ประมาณการเงินเดือนพนักงาน ปี \"&A_Budget_year&\" ของพนักงานที่เข้าใหม่หลัง 31 ก.ค. \"&A_Budget_year-2&\" (ต่อปี) (D x 12)\"","v":"ประมาณการเงินเดือนพนักงาน ปี 2567 ของพนักงานที่เข้าใหม่หลัง 31 ก.ค. 2565 (ต่อปี) (D x 12)"},null,null,null,null,{"$f":"G41*12","v":212592}]
[]
[]
[52010020,{"$f":"VLOOKUP(A46,'E001'!A:D,4,0)","v":"ค่าจ้างรายเดือนลูกจ้าง"},null,null,null,null,null,null,{"$f":"ROUNDUP(G71,-1)","v":6744160}]
[null,{"$f":"\"A) คำนวณประมาณการค่าจ้างรายเดือนลูกจ้างปี \"&A_Budget_year-1","v":"A) คำนวณประมาณการค่าจ้างรายเดือนลูกจ้างปี 2566"},null,null,null,"(A)"]
[null,{"$f":"\"ค่าจ้างรายเดือนลูกจ้าง ก.ค. \"&A_Budget_year-2&\" จาก SAP (จำนวนลูกจ้างทั้งหมด \"&Cover!C73&\" คน)\"","v":"ค่าจ้างรายเดือนลูกจ้าง ก.ค. 2565 จาก SAP (จำนวนลูกจ้างทั้งหมด 25 คน)"},null,null,null,null,{"$f":"Cover!C76","v":486328}]
[null,"บวก","อัตราเพิ่ม 7.5%",null,null,null,{"$f":"G48*0.075","v":36474.6}]
[null,"หัก",{"$f":"\"ค่าจ้างรายเดือนลูกจ้างที่เกษียณอายุในปี \"&A_Budget_year-2&\" (จำนวน \"&Cover!D73&\" คน)\"","v":"ค่าจ้างรายเดือนลูกจ้างที่เกษียณอายุในปี 2565 (จำนวน 0 คน)"},null,null,null,{"$f":"-Cover!C77*1.075","v":0}]
[null,{"$f":"\"ประมาณการค่าจ้างรายเดือนลูกจ้างปี \"&A_Budget_year-1&\" (ต่อเดือน)\"","v":"ประมาณการค่าจ้างรายเดือนลูกจ้างปี 2566 (ต่อเดือน)"},null,null,null,null,{"$f":"SUM(G48:G50)","v":522802.6},"A"]
[]
[null,{"$f":"\"B) คำนวณประมาณการค่าจ้างรายเดือนลูกจ้างที่เกษียณอายุในปี \"&A_Budget_year","v":"B) คำนวณประมาณการค่าจ้างรายเดือนลูกจ้างที่เกษียณอายุในปี 2567"},null,null,null,"(B)"]
[null,{"$f":"\"ค่าจ้างรายเดือนลูกจ้างเดือน ต.ค. - ธ.ค. \"&A_Budget_year&\" (หลังวันเกษียณอายุ)\"","v":"ค่าจ้างรายเดือนลูกจ้างเดือน ต.ค. - ธ.ค. 2567 (หลังวันเกษียณอายุ)"}]
[null,null,{"$f":"\"เงินเดือนลูกจ้างเกษียณ ณ ปี \"&A_Budget_year-2","v":"เงินเดือนลูกจ้างเกษียณ ณ ปี 2565"},null,null,null,{"$f":"Cover!C79","v":0}]
[null,"บวก","อัตราเพิ่ม 7.5%",null,null,null,{"$f":"+G55*0.075","v":0}]
[null,null,{"$f":"\"ประมาณการเงินเดือนผู้เกษียณปี \"&A_Budget_year-1","v":"ประมาณการเงินเดือนผู้เกษียณปี 2566"},null,null,null,{"$f":"SUM(G55:G56)","v":0}]
[null,"บวก",{"$f":"\"อัตราเพิ่ม 7.5% เป็นเงินเดือน ปี \"&A_Budget_year","v":"อัตราเพิ่ม 7.5% เป็นเงินเดือน ปี 2567"},null,null,null,{"$f":"+G57*0.075","v":0}]
[null,null,{"$f":"\"ประมาณการเงินเดือนผู้เกษียณปี \"&A_Budget_year","v":"ประมาณการเงินเดือนผู้เกษียณปี 2567"},null,null,null,{"$f":"SUM(G57:G58)","v":0}]
[]
[null,null,{"$f":"\"ประมาณการเงินเดือนผู้เกษียณปี \"&A_Budget_year&\" (3 เดือน)\"","v":"ประมาณการเงินเดือนผู้เกษียณปี 2567 (3 เดือน)"},null,null,null,{"$f":"G59*3","v":0},"B"]
[]
[null,{"$f":"\"C) คำนวณประมาณการค่าจ้างรายเดือนลูกจ้างปี \"&A_Budget_year&\" (สุทธิ)\"","v":"C) คำนวณประมาณการค่าจ้างรายเดือนลูกจ้างปี 2567 (สุทธิ)"},null,null,null,"(C)"]
[null,{"$f":"\"ประมาณการค่าจ้างรายเดือนลูกจ้าง ปี \"&A_Budget_year-1&\" (ต่อเดือน)\"","v":"ประมาณการค่าจ้างรายเดือนลูกจ้าง ปี 2566 (ต่อเดือน)"},null,null,null,null,{"$f":"G51","v":522802.6},"A"]
[null,"บวก","อัตราเพิ่ม 7.5% (A x 7.5%)",null,null,null,{"$f":"G64*0.075","v":39210.195}]
[null,"หัก",{"$f":"\"ค่าจ้างรายเดือนลูกจ้างที่เกษียณอายุในปี \"&A_Budget_year-1&\" (จำนวน \"&Cover!F73&\" คน)\"","v":"ค่าจ้างรายเดือนลูกจ้างที่เกษียณอายุในปี 2566 (จำนวน 0 คน)"},null,null,null,{"$f":"-Cover!C78*1.075*1.075","v":0}]
[null,{"$f":"\"ประมาณการค่าจ้างรายเดือนลูกจ้าง ปี \"&A_Budget_year&\" (ต่อเดือน)\"","v":"ประมาณการค่าจ้างรายเดือนลูกจ้าง ปี 2567 (ต่อเดือน)"},null,null,null,null,{"$f":"SUM(G64:G66)","v":562012.79499999993},"C"]
[]
[null,{"$f":"\"ประมาณการค่าจ้างรายเดือนลูกจ้าง ปี \"&A_Budget_year&\" (ต่อปี) (C x 12)\"","v":"ประมาณการค่าจ้างรายเดือนลูกจ้าง ปี 2567 (ต่อปี) (C x 12)"},null,null,null,null,{"$f":"G67*12","v":6744153.5399999991}]
[null,"หัก",{"$f":"\"ค่าจ้างรายเดือนลูกจ้างที่เกษียณอายุในปี \"&A_Budget_year&\" เดือน ต.ค. - ธ.ค. \"&A_Budget_year","v":"ค่าจ้างรายเดือนลูกจ้างที่เกษียณอายุในปี 2567 เดือน ต.ค. - ธ.ค. 2567"},null,null,null,{"$f":"-G61","v":0},"B"]
[null,{"$f":"\"ประมาณการค่าจ้างรายเดือนลูกจ้าง ปี \"&A_Budget_year&\" (สุทธิต่อปี)\"","v":"ประมาณการค่าจ้างรายเดือนลูกจ้าง ปี 2567 (สุทธิต่อปี)"},null,null,null,null,{"$f":"SUM(G69:G70)","v":6744153.5399999991}]
[]
[]
[52010030,{"$f":"VLOOKUP(A74,'E001'!A:D,4,0)","v":"ค่าล่วงเวลาพนักงาน"},null,null,null,null,null,null,{"$f":"ROUNDUP(G81,-1)","v":700000}]
[null,"หลักเกณฑ์:","จัดทำแผนงานไว้ตามความจำเป็น โดยกำหนดในแต่ละกิจกรรม ว่าควรมีพนักงาน"]
[null,null,"ระดับใดบ้างที่ต้องอยู่ล่วงเวลา และ คำนวณวงเงิน/ คน/ เดือน/ ปี"]
[null,null,"กฟอ.หนองไผ่ พิจารณาตามค่าใช้จ่ายจริงของแต่ละแผนก และประมาณการเพิ่มเติมในแผนกที่ใช้เยอะ",null,null,null,700000]
[]
[]
[]
[null,null,"รวม",null,null,null,700000]
[]
[]
[52010040,{"$f":"IF(A84=\"\",\"<< กรอกรหัสบัญชี\",IFERROR(VLOOKUP(A84,'E001'!A:D,4,0),\"ไม่มีรหัสบัญชีนี้\"))","v":"ค่าตอบแทนอยู่เวรแก้ไฟฟ้าขัดข้อง"},null,null,null,null,{"$f":"IF(COUNTIF(A:A,A84)>1,\"รหัสบัญชีซ้ำ โปรดตรวจสอบ\",\"\")","v":""},null,{"$f":"ROUNDUP(G96,-1)","v":673320}]
[null,"หลักเกณฑ์:","ตามระเบียบ กฟภ. ว่าด้วยการจัดเวรและการจ่ายเงินค่าอยู่เวรแก้ไฟฟ้าขัดข้องพ.ศ. 2560 ประกาศ ณ วันที่ 29 ธ.ค. 2560",null,null,null,null,null,null,"(Rate)"]
[null,null,"วัน/ เวลา","อัตราค่าตอบแทน","จำนวนผู้ปฏิบัติงาน","จำนวนวัน","จำนวนเงิน"]
[null,null,"พนักงานช่าง"]
[null,null,"วันทำการ (16:30 - 8:30)",{"$f":"Rate!D80","v":150},{"$f":"Cover!C92","v":4},{"$f":"Cover!D92","v":239},{"$f":"Cover!E92*D88","v":143400}]
[null,null,"วันหยุดฯ (8:30 - 16:30)",{"$f":"Rate!D81","v":175},{"$f":"Cover!C93","v":4},{"$f":"Cover!D93","v":126},{"$f":"Cover!E93*D89","v":88200}]
[null,null,"วันหยุดฯ (16:30 - 8:30)",{"$f":"Rate!D82","v":150},{"$f":"Cover!C94","v":4},{"$f":"Cover!D94","v":126},{"$f":"Cover!E94*D90","v":75600}]
[]
[null,null,"หัวหน้าชุดงาน"]
[null,null,"วันทำการ (16:30 - 8:30)",{"$f":"Rate!E80","v":180},{"$f":"Cover!C97","v":4},{"$f":"Cover!D97","v":239},{"$f":"Cover!E97*D93","v":172080}]
[null,null,"วันหยุดฯ (8:30 - 16:30)",{"$f":"Rate!E81","v":205},{"$f":"Cover!C98","v":4},{"$f":"Cover!D98","v":126},{"$f":"Cover!E98*D94","v":103320}]
[null,null,"วันหยุดฯ (16:30 - 8:30)",{"$f":"Rate!E82","v":180},{"$f":"Cover!C99","v":4},{"$f":"Cover!D99","v":126},{"$f":"Cover!E99*D95","v":90720}]
[null,null,"รวม",null,null,null,{"$f":"SUM(G88:G95)","v":673320}]
[]
[]
[null,{"$f":"IF(A99=\"\",\"<< กรอกรหัสบัญชี\",IFERROR(VLOOKUP(A99,'E001'!A:D,4,0),\"ไม่มีรหัสบัญชีนี้\"))","v":"<< กรอกรหัสบัญชี"},null,null,null,null,{"$f":"IF(COUNTIF(A:A,A99)>1,\"รหัสบัญชีซ้ำ โปรดตรวจสอบ\",\"\")","v":""},null,{"$f":"ROUNDUP(G104,-1)","v":0}]
[null,"รายละเอียด"]
[]
[]
[]
[null,null,"รวม"]
[]
[]
[52010070,{"$f":"VLOOKUP(A107,'E001'!A:D,4,0)","v":"สวัสดิการและค่าตอบแทนอื่น- ลูกจ้าง "},null,null,null,null,null,null,{"$f":"ROUNDUP(G111,-1)","v":675000}]
[null,"หลักเกณฑ์:","คนละ 27,000 บาท"]
[null,null,"จำนวนลูกจ้าง (คน)",null,null,null,{"$f":"Cover!G73","v":25}]
[null,null,"อัตราสวัสดิการลูกจ้าง (บาท/คน)",null,null,null,{"$f":"Rate!E2","v":27000},null,null,"(Rate)"]
[null,null,"รวม",null,null,null,{"$f":"+G109*G110","v":675000}]
[]
[]
[52010990,{"$f":"VLOOKUP(A114,'E001'!A:D,4,0)","v":"ค่าตอบแทนอื่น-พนักงาน"},null,null,null,null,null,null,{"$f":"ROUNDUP(G119,-1)","v":24000}]
[null,"**หมายเหตุ ไม่ต้องตั้งงบประมาณสำหรับค่า smart device"]
[null,"หลักเกณฑ์:","ให้พิจารณาจากข้อมูลของปีก่อนหน้า และปัจจุบัน"]
[null,null,"กฟอ.นผ. มีเงินช่วยเหลือค่าโทรศัพท์สำหรับอ่านหน่วย คนละ 400/เดือน 3 คน และ Key User 1 คน 800/เดือน",null,null,null,24000]
[]
[null,null,"รวม",null,null,null,24000]
[]
[]
[52011020,{"$f":"VLOOKUP(A122,'E001'!A:D,4,0)","v":"เงินสมทบกองทุนสำรองเลี้ยงชีพ"},null,null,null,null,null,null,{"$f":"ROUNDUP(G126,-1)","v":5020360}]
[null,"หลักเกณฑ์:","คำนวณในภาพรวมของหน่วยงาน  =  10.5 % ของเงินเดือนที่ขอตั้ง"]
[null,null,"เงินเดือนที่ขอตั้ง",null,null,null,{"$f":"I7","v":47812890}]
[null,null,"อัตราเงินสมทบกองทุนสำรองเลี้ยงชีพตามหลักเกณฑ์",null,null,null,{"$f":"Rate!E3","v":0.105},null,null,"(Rate)"]
[null,null,"รวม",null,null,null,{"$f":"+G124*G125","v":5020353.45}]
[]
[]
[52012010,{"$f":"VLOOKUP(A129,'E001'!A:D,4,0)","v":"เงินเพิ่มพิเศษวิชาชีพ"},null,null,null,null,null,null,{"$f":"ROUNDUP(G140,-1)","v":114000}]
[null,"หลักเกณฑ์:","สำหรับพนักงานในสาขาวิชาชีพตามรายละเอียดด้านล่าง ระดับ 4 - 11"]
[null,null,"อัตรา 1,900 บาท/ เดือน/ คน"]
[]
[null,null,"สาขาวิชาชีพ",null,"จำนวน (คน)","อัตรา (บาท)","ค่าใช้จ่าย"]
[null,1,"วิศวกรรมศาสตร์",null,{"$f":"Cover!C63","v":5},{"$f":"Rate!E4","v":1900},{"$f":"+E134*$F$134","v":9500},null,null,"(Rate)"]
[null,2,"สถาปัตยกรรมศาสตร์",null,{"$f":"Cover!C64","v":0},null,{"$f":"+E135*$F$134","v":0}]
[null,3,"คอมพิวเตอร์",null,{"$f":"Cover!C65","v":0},null,{"$f":"+E136*$F$134","v":0}]
[null,null,"รวม/ เดือน",null,{"$f":"SUM(E134:E136)","v":5},null,{"$f":"SUM(G134:G136)","v":9500}]
[]
[null,null,"จำนวนเดือน (เดือน)",null,null,null,12]
[null,"รวม","เงินเพิ่มพิเศษวิชาชีพ",null,null,null,{"$f":"+G137*G139","v":114000}]
[]
[]
[52012020,{"$f":"IF(A143=\"\",\"<< กรอกรหัสบัญชี\",IFERROR(VLOOKUP(A143,'E001'!A:D,4,0),\"ไม่มีรหัสบัญชีนี้\"))","v":"เงินเพิ่มฮอทไลน์"},null,null,null,null,{"$f":"IF(COUNTIF(A:A,A143)>1,\"รหัสบัญชีซ้ำ โปรดตรวจสอบ\",\"\")","v":""},null,{"$f":"ROUNDUP(G156,-1)","v":636750}]
[null,"หลักเกณฑ์:","คำนวณเป็นรายวัน วันละ 150 บาทในการปฎิบัติงานทุกพื้นที่"]
[null,null,"(ระเบียบ กฟภ. ว่าด้วยการจ่ายเงินเพิ่มพิเศษให้แก่พนักงานผู้ปฏิบัติงานฮอทไลน์ พ.ศ.2556 ประกาศ ณ วันที่ 9 ส.ค. 2556)"]
[]
[null,null,"รายละเอียด","จำนวนพนักงาน","วันทำงาน","อัตราเงินเพิ่ม","จำนวนเงิน",null,null,"(Rate)"]
[null,null,"พนักงานฮอทไลน์",{"$f":"Cover!C104","v":7},{"$f":"Cover!D104","v":315},{"$f":"Rate!D86","v":150},{"$f":"Cover!E104*F148","v":330750}]
[null,null,"พนักงานเชื่อมสาย",{"$f":"Cover!C105","v":12},{"$f":"Cover!D105","v":170},{"$f":"Rate!D87","v":150},{"$f":"Cover!E105*F149","v":306000}]
[null,null,"รวม",null,null,null,{"$f":"SUM(G148:G149)","v":636750}]
[]
[null,null,"อื่น ๆ (ถ้ามี)",null,null,null,"จำนวนเงิน"]
[null,1]
[null,2]
[null,3]
[null,null,null,null,null,null,{"$f":"SUM(G150,G153:INDIRECT(\"g\"&ROW()-1))","v":636750}]
[null,null,"คำอธิบาย"]
[]
[]
[]
[]
[]
[52012030,{"$f":"IF(A163=\"\",\"<< กรอกรหัสบัญชี\",IFERROR(VLOOKUP(A163,'E001'!A:D,4,0),\"ไม่มีรหัสบัญชีนี้\"))","v":"เงินเพิ่มสู้รบ (พสร.)"},null,null,null,null,{"$f":"IF(COUNTIF(A:A,A163)>1,\"รหัสบัญชีซ้ำ โปรดตรวจสอบ\",\"\")","v":""},null,{"$f":"ROUNDUP(G168,-1)","v":0}]
[null,"รายละเอียด"]
[]
[]
[]
[null,null,"รวม"]
[]
[]
[52012040,{"$f":"IF(A171=\"\",\"<< กรอกรหัสบัญชี\",IFERROR(VLOOKUP(A171,'E001'!A:D,4,0),\"ไม่มีรหัสบัญชีนี้\"))","v":"เงินยังชีพ (14 จังหวัดภาคใต้)"},null,null,null,null,{"$f":"IF(COUNTIF(A:A,A171)>1,\"รหัสบัญชีซ้ำ โปรดตรวจสอบ\",\"\")","v":""},null,{"$f":"ROUNDUP(G177,-1)","v":0}]
[null,"หลักเกณฑ์:","สำหรับพนักงานที่ปฎิบัติงานอยู่ในเขต14 จังหวัดภาคใต้ ตามอัตราที่กำหนด"]
[]
[null,null,"อัตราเงินเดือน (บาท)","จำนวนพนักงาน","อัตราเงินยังชีพ (บาท/ เดือน)","จำนวนเดือน","จำนวนเงิน (บาท)",null,null,"(Rate)"]
[null,null,"น้อยกว่า 10,440 บาท",{"$f":"Cover!C110","v":0},{"$f":"Rate!D92","v":50},12,{"$f":"D175*E175*F175","v":0}]
[null,null,"มากกว่า 10,440 บาท",{"$f":"Cover!C111","v":0},{"$f":"Rate!D93","v":100},12,{"$f":"D176*E176*F176","v":0}]
[null,null,null,null,null,"รวม",{"$f":"SUM(G175:G176)","v":0}]
[]
[]
[52012050,{"$f":"IF(A180=\"\",\"<< กรอกรหัสบัญชี\",IFERROR(VLOOKUP(A180,'E001'!A:D,4,0),\"ไม่มีรหัสบัญชีนี้\"))","v":"เงินเพิ่มพิเศษสำหรับผู้ทำงานอยู่กะ"},null,null,null,null,{"$f":"IF(COUNTIF(A:A,A180)>1,\"รหัสบัญชีซ้ำ โปรดตรวจสอบ\",\"\")","v":""},null,{"$f":"ROUNDUP(G185,-1)","v":0}]
[null,"รายละเอียด"]
[]
[]
[]
[null,null,"รวม"]
[]
[]
[52012060,{"$f":"VLOOKUP(A188,'E001'!A:D,4,0)","v":"ค่าโทรศัพท์บ้านพัก- ผู้บริหาร"},null,null,null,null,null,null,{"$f":"ROUNDUP(G203,-1)","v":19200}]
[null,"หลักเกณฑ์:","1) ค่าโทรศัพท์ที่บ้านตามสิทธิ์แบบเหมาจ่ายของผู้บริหารตั้งแต่ระดับรองผู้อำนวยการกองขึ้นไป"]
[null,null,"2) ค่าโทรศัพท์ตามสิทธิ์แบบเหมาจ่ายของผู้ช่วยผู้จัดการขึ้นไป"]
[]
[null,null,"ระดับ/ ตำแหน่ง",null,null,null,"รวม (คน)"]
[null,null,"ผู้บริหารตั้งแต่ระดับ รก. ขึ้นไป (สำนักงานใหญ่)",null,null,null,{"$f":"SUM(Cover!C13:C18)","v":0}]
[null,null,"ตำแหน่ง ชจก. และ ผจก. กฟย. ขึ้นไป (ส่วนภูมิภาค) *",null,null,null,{"$f":"SUM(Cover!C22:C30)","v":7}]
[null,null,"นักวิชาการระดับ 10 ขึ้นไป",null,null,null,{"$f":"SUM(Cover!C33:C36)","v":0}]
[null,"หัก","พนักงานที่เลือกเบิกค่าโทรศัพท์บ้านพัก"]
[null,null,"ในบัญชีค่าโทรศัพท์เคลื่อนที่ (ส่วนภูมิภาค) *",null,null,null,{"$f":"-SUM(Cover!E45:E46)","v":-3}]
[null,null,{"$f":"\"พนักงานตำแหน่ง ชก. ที่จะปรับตำแหน่งเป็น รก. ในปี \"&A_Budget_year","v":"พนักงานตำแหน่ง ชก. ที่จะปรับตำแหน่งเป็น รก. ในปี 2567"},null,null,null,0]
[null,null,"รวมผู้มีสิทธิเบิกค่าโทรศัพท์บ้านพัก",null,null,null,{"$f":"SUM(G193:G198)","v":4}]
[]
[null,null,"อัตราค่าโทรศัพท์บ้านพัก (บาท/ เดือน)",null,null,null,{"$f":"Rate!E5","v":400},null,null,"(Rate)"]
[null,null,"จำนวนเดือน (เดือน)",null,null,null,12]
[null,"รวม","ค่าโทรศัพท์บ้านพัก- ผู้บริหาร",null,null,null,{"$f":"+G199*G201*G202","v":19200}]
[null,"หมายเหตุ"]
[null,"พนักงานตำแหน่ง ชจก. และ ผจก. กฟย. ให้เลือกค่าโทรศัพท์บ้านพัก หรือ ค่าโทรศัพท์เคลื่อนที่"]
[null,"เพียงบัญชีใดบัญชีหนึ่งเท่านั้น"]
[]
[]
[52012070,{"$f":"VLOOKUP(A209,'E001'!A:D,4,0)","v":"ค่าโทรศัพท์เคลื่อนที่ -ผู้บริหาร"},null,null,null,null,null,null,{"$f":"ROUNDUP(G221,-1)","v":62400}]
[null,"หลักเกณฑ์:","ค่าโทรศัพท์เคลื่อนที่ตามสิทธิ์แบบเหมาจ่ายของผู้บริหาร"]
[]
[null,null,"ระดับ/ ตำแหน่ง",null,"จำนวน (คน)","อัตรา (บาท)","ค่าใช้จ่าย (บาท)"]
[null,1,"ตำแหน่ง รผก. ผชก. และระดับ 13",null,{"$f":"SUM(Cover!C13:C14,Cover!C22,Cover!C33)","v":0},{"$f":"Rate!E15","v":2000},{"$f":"+E213*F213","v":0},null,null,"(Rate)"]
[null,2,"ตำแหน่ง อก. ถึง อฝ. และระดับ 12",null,{"$f":"SUM(Cover!C15:C17,Cover!C23:C25,Cover!C34)","v":0},{"$f":"Rate!E16","v":1000},{"$f":"+E214*F214","v":0},null,null,"(Rate)"]
[null,3,"ตำแหน่ง ผจก.กฟฟ. ชั้น 1,2,3 และ ผจก. กฟส.",null,{"$f":"SUM(Cover!C27,Cover!C29)","v":4},{"$f":"Rate!E17","v":1000},{"$f":"+E215*F215","v":4000},null,null,"(Rate)"]
[null,4,"พนักงานที่เลือกเบิกค่าโทรศัพท์บ้านพัก"]
[null,null,"ในบัญชีค่าโทรศัพท์เคลื่อนที่ (ส่วนภูมิภาค) *",null,{"$f":"SUM(Cover!E45:E46)","v":3},400,{"$f":"+E217*F217","v":1200}]
[null,null,null,null,{"$f":"SUM(E213:E217)","v":7},null,{"$f":"SUM(G213:G217)","v":5200}]
[]
[null,null,"จำนวนเดือน (เดือน)",null,null,null,12]
[null,"รวม","ค่าโทรศัพท์บ้านพัก- ผู้บริหาร",null,null,null,{"$f":"+G220*G218","v":62400}]
[null,"หมายเหตุ"]
[null,"พนักงานตำแหน่ง ชจก. และ ผจก. กฟย. ให้เลือกค่าโทรศัพท์บ้านพัก หรือ ค่าโทรศัพท์เคลื่อนที่"]
[null,"เพียงบัญชีใดบัญชีหนึ่งเท่านั้น"]
[]
[]
[52012990,{"$f":"IF(A227=\"\",\"<< กรอกรหัสบัญชี\",IFERROR(VLOOKUP(A227,'E001'!A:D,4,0),\"ไม่มีรหัสบัญชีนี้\"))","v":"เงินเพิ่มพิเศษอื่น"},null,null,null,null,{"$f":"IF(COUNTIF(A:A,A227)>1,\"รหัสบัญชีซ้ำ โปรดตรวจสอบ\",\"\")","v":""},null,{"$f":"ROUNDUP(G232,-1)","v":0}]
[null,"รายละเอียด"]
[]
[]
[]
[null,null,"รวม"]
[]
[]
[52020010,{"$f":"VLOOKUP(A235,'E001'!A:D,4,0)","v":"เงินช่วยเหลือค่าไฟฟ้า"},null,null,null,null,null,null,{"$f":"ROUNDUP(G244,-1)","v":9477330}]
[null,"หลักเกณฑ์:",{"$f":"\"อัตราเฉลี่ยของค่ากระแสไฟฟ้า (ข้อมูล ณ ก.ค. \"&A_Budget_year&\" ) x เงินเดือนที่ขอตั้ง\"","v":"อัตราเฉลี่ยของค่ากระแสไฟฟ้า (ข้อมูล ณ ก.ค. 2567 ) x เงินเดือนที่ขอตั้ง"}]
[]
[]
[]
[null,"(A)","เงินช่วยเหลือค่ากระแสไฟฟ้ารวมของหน่วยงาน",null,null,null,{"$f":"Cover!H86","v":755579.84}]
[null,"(B)","เงินเดือนพนักงานรวมของหน่วยงาน",null,null,null,{"$f":"Cover!C49","v":3811883}]
[null,null,"อัตราเฉลี่ยของค่ากระแสไฟฟ้า",null,null,null,{"$f":"IFERROR(G240/G241,0)","v":0.19821695471765527}]
[null,null,"เงินเดือนที่ขอตั้ง ",null,null,null,{"$f":"I7","v":47812890}]
[null,null,"เงินช่วยเหลือค่าไฟฟ้า",null,null,null,{"$f":"IFERROR(G242*G243,0)","v":9477325.4520502333}]
[]
[]
[52020020,{"$f":"IF(A247=\"\",\"<< กรอกรหัสบัญชี\",IFERROR(VLOOKUP(A247,'E001'!A:D,4,0),\"ไม่มีรหัสบัญชีนี้\"))","v":"เงินช่วยเหลือค่าเครื่องแบบพนักงาน"},null,null,null,null,{"$f":"IF(COUNTIF(A:A,A247)>1,\"รหัสบัญชีซ้ำ โปรดตรวจสอบ\",\"\")","v":""},null,{"$f":"ROUNDUP(G257,-1)","v":12000}]
[null,"หลักเกณฑ์:","1) สำหรับพนักงานช่าง พนักงาน และลูกจ้างช่างที่เข้าเงื่อนไขมีสิทธิได้รับเงินช่วยเหลือค่าเครื่องแบบและค่ารองเท้า"]
[null,null,"2) ได้รับเงินเดือนหรือค่าจ้างต่ำกว่าเดือนละ 15,000 บาท"]
[null,null,"3) อัตราคนละ 1,500 บาท/ ปี (ค่าเครื่องแบบ 1,200 บาท ค่ารองเท้า 300 บาท)"]
[null,null,"(ระเบียบกฟภ. ว่าด้วยหลักเกณฑ์ในการจ่ายเงินช่วยเหลือค่าเครื่องแบบและรองเท้า ให้แก่พนักงานและลูกจ้างช่าง พ.ศ. 2560)"]
[]
[null,null,"กลุ่ม",null,"จำนวน (คน)","อัตรา","จำนวนเงิน (บาท)",null,null,"(Rate)"]
[null,null,"พนักงานช่าง",null,{"$f":"Cover!C116","v":6},{"$f":"Rate!C98","v":1500},{"$f":"E254*F254","v":9000}]
[null,null,"พนักงาน",null,{"$f":"Cover!C117","v":0},{"$f":"Rate!C99","v":1500},{"$f":"E255*F255","v":0}]
[null,null,"ลูกจ้างช่าง",null,{"$f":"Cover!C118","v":2},{"$f":"Rate!C100","v":1500},{"$f":"E256*F256","v":3000}]
[null,null,"รวม",null,null,null,{"$f":"SUM(G254:G256)","v":12000}]
[]
[]
[52020030,{"$f":"VLOOKUP(A260,'E001'!A:D,4,0)","v":"เงินช่วยเหลือค่าเล่าเรียนบุตร"},null,null,null,null,null,null,{"$f":"SUBTOTAL(109,I261:I288)","v":603100}]
[null,"หลักเกณฑ์:","ตั้งตามหลักของกรมบัญชีกลาง"]
[]
[null,"ลำดับ","ระดับ","สถานศึกษา","คณะ (ปวช.-เอกชน\nและ ปวส. เท่านั้น)","จำนวน (คน)","เงินช่วยเหลือ (บาท/ คน)",null,null,"(Rate)"]
[null,1,"AA) อนุบาลหรือเทียบเท่า","A.1) รัฐบาล",null,null,{"$f":"IF(LEFT(C264,1)=\"A\",INDEX(Rate!$B$22:$E$26,MATCH(MID(C264,5,LEN(C264)-4),Rate!$B$22:$B$26,0),MATCH(LEFT(D264,3),Rate!$B$22:$E$22,0)),IF(LEFT(C264,1)=\"B\",IF(LEFT(D264,3)=\"B.1\",4800,INDEX(Rate!$B$33:$E$41,MATCH(E264,Rate!$B$33:$B$41,0),MATCH(LEFT(D264,3),Rate!$B$33:$E$33,0))),IF(LEFT(C264,1)=\"C\",VLOOKUP(E264,Rate!$B$44:$D$52,3,0),IF(LEFT(C264,1)=\"D\",13700,IF(LEFT(C264,1)=\"E\",25000,0)))))","v":5800},null,{"$f":"IFERROR(F264*G264,0)","v":0},null,null,{"$f":"IF(LEFT(C264,1)=\"A\",INDEX(Rate!$B$22:$E$26,MATCH(MID(C264,5,LEN(C264)-4),Rate!$B$22:$B$26,0),MATCH(LEFT(D264,3),Rate!$B$22:$E$22,0)),IF(LEFT(C264,1)=\"B\",IF(LEFT(D264,3)=\"B.1\",4800,INDEX(Rate!$B$33:$E$41,MATCH(E264,Rate!$B$33:$B$41,0),MATCH(LEFT(D264,3),Rate!$B$33:$E$33,0))),IF(LEFT(C264,1)=\"C\",VLOOKUP(E264,Rate!$B$44:$D$52,3,0),IF(LEFT(C264,1)=\"D\",13700,IF(LEFT(C264,1)=\"E\",25000,0)))))","v":5800},1,{"$f":"INDEX(Rate!$B$22:$E$26,MATCH(MID(C264,5,LEN(C264)-4),Rate!$B$22:$B$26,0),MATCH(LEFT(D264,3),Rate!$B$22:$E$22,0))","v":5800},{"$f":"MID(C264,5,LEN(C264)-4)","v":"อนุบาลหรือเทียบเท่า"},{"$f":"MATCH(O264,Rate!$B$22:$B$26,0)","v":2},{"$f":"MATCH(LEFT(D264,3),Rate!B22:E22,0)","v":2}]
[null,{"$f":"B264+1","v":2},"AA) อนุบาลหรือเทียบเท่า","A.2) เอกชนไม่รับงินอุดหนุน",null,null,{"$f":"IF(LEFT(C265,1)=\"A\",INDEX(Rate!$B$22:$E$26,MATCH(MID(C265,5,LEN(C265)-4),Rate!$B$22:$B$26,0),MATCH(LEFT(D265,3),Rate!$B$22:$E$22,0)),IF(LEFT(C265,1)=\"B\",IF(LEFT(D265,3)=\"B.1\",4800,INDEX(Rate!$B$33:$E$41,MATCH(E265,Rate!$B$33:$B$41,0),MATCH(LEFT(D265,3),Rate!$B$33:$E$33,0))),IF(LEFT(C265,1)=\"C\",VLOOKUP(E265,Rate!$B$44:$D$52,3,0),IF(LEFT(C265,1)=\"D\",13700,IF(LEFT(C265,1)=\"E\",25000,0)))))","v":13600},null,{"$f":"IFERROR(F265*G265,0)","v":0},null,null,{"$f":"IF(LEFT(C264,1)=\"B\",IF(LEFT(D264,3)=\"B.1\",4800,INDEX(Rate!$B$33:$E$41,MATCH(E264,Rate!$B$33:$B$41,0),MATCH(LEFT(D264,3),Rate!$B$33:$E$33,0))),IF(LEFT(C264,1)=\"C\",VLOOKUP(E264,Rate!$B$44:$D$52,3,0),IF(LEFT(C264,1)=\"D\",13700,IF(LEFT(C264,1)=\"E\",25000,0))))","v":0},2,{"$f":"IF(LEFT(D265,3)=\"B.1\",4800,INDEX(Rate!$B$33:$E$41,MATCH(E265,Rate!$B$33:$B$41,0),MATCH(LEFT(D265,3),Rate!$B$33:$E$33,0)))","v":{"$error":"#N/A"}},{"$f":"E265","v":0},{"$f":"MATCH(O265,Rate!B33:B41,0)","v":{"$error":"#N/A"}},{"$f":"MATCH(LEFT(D265,3),Rate!B33:E33,0)","v":{"$error":"#N/A"}}]
[null,3,"AA) อนุบาลหรือเทียบเท่า","A.3) เอกชนรับเงินอุดหนุน",null,3,{"$f":"IF(LEFT(C266,1)=\"A\",INDEX(Rate!$B$22:$E$26,MATCH(MID(C266,5,LEN(C266)-4),Rate!$B$22:$B$26,0),MATCH(LEFT(D266,3),Rate!$B$22:$E$22,0)),IF(LEFT(C266,1)=\"B\",IF(LEFT(D266,3)=\"B.1\",4800,INDEX(Rate!$B$33:$E$41,MATCH(E266,Rate!$B$33:$B$41,0),MATCH(LEFT(D266,3),Rate!$B$33:$E$33,0))),IF(LEFT(C266,1)=\"C\",VLOOKUP(E266,Rate!$B$44:$D$52,3,0),IF(LEFT(C266,1)=\"D\",13700,IF(LEFT(C266,1)=\"E\",25000,0)))))","v":4800},null,14400,null,null,{"$f":"IF(LEFT(C264,1)=\"C\",VLOOKUP(E264,Rate!$B$44:$D$52,3,0),IF(LEFT(C264,1)=\"D\",13700,IF(LEFT(C264,1)=\"E\",25000,0)))","v":0},3,{"$f":"VLOOKUP(E266,Rate!$B$44:$D$52,3,0)","v":{"$error":"#N/A"}}]
[null,4,"AA) ประถมศึกษาหรือเทียบเท่า","A.1) รัฐบาล",null,1,{"$f":"IF(LEFT(C267,1)=\"A\",INDEX(Rate!$B$22:$E$26,MATCH(MID(C267,5,LEN(C267)-4),Rate!$B$22:$B$26,0),MATCH(LEFT(D267,3),Rate!$B$22:$E$22,0)),IF(LEFT(C267,1)=\"B\",IF(LEFT(D267,3)=\"B.1\",4800,INDEX(Rate!$B$33:$E$41,MATCH(E267,Rate!$B$33:$B$41,0),MATCH(LEFT(D267,3),Rate!$B$33:$E$33,0))),IF(LEFT(C267,1)=\"C\",VLOOKUP(E267,Rate!$B$44:$D$52,3,0),IF(LEFT(C267,1)=\"D\",13700,IF(LEFT(C267,1)=\"E\",25000,0)))))","v":4000},null,4000,null,null,{"$f":"IF(LEFT(C264,1)=\"D\",13700,IF(LEFT(C264,1)=\"E\",25000,0))","v":0},4,13700]
[null,5,"AA) ประถมศึกษาหรือเทียบเท่า","A.2) เอกชนไม่รับงินอุดหนุน",null,11,{"$f":"IF(LEFT(C268,1)=\"A\",INDEX(Rate!$B$22:$E$26,MATCH(MID(C268,5,LEN(C268)-4),Rate!$B$22:$B$26,0),MATCH(LEFT(D268,3),Rate!$B$22:$E$22,0)),IF(LEFT(C268,1)=\"B\",IF(LEFT(D268,3)=\"B.1\",4800,INDEX(Rate!$B$33:$E$41,MATCH(E268,Rate!$B$33:$B$41,0),MATCH(LEFT(D268,3),Rate!$B$33:$E$33,0))),IF(LEFT(C268,1)=\"C\",VLOOKUP(E268,Rate!$B$44:$D$52,3,0),IF(LEFT(C268,1)=\"D\",13700,IF(LEFT(C268,1)=\"E\",25000,0)))))","v":13200},null,145200,null,null,null,5,25000]
[null,6,"AA) ประถมศึกษาหรือเทียบเท่า","A.3) เอกชนรับเงินอุดหนุน",null,8,{"$f":"IF(LEFT(C269,1)=\"A\",INDEX(Rate!$B$22:$E$26,MATCH(MID(C269,5,LEN(C269)-4),Rate!$B$22:$B$26,0),MATCH(LEFT(D269,3),Rate!$B$22:$E$22,0)),IF(LEFT(C269,1)=\"B\",IF(LEFT(D269,3)=\"B.1\",4800,INDEX(Rate!$B$33:$E$41,MATCH(E269,Rate!$B$33:$B$41,0),MATCH(LEFT(D269,3),Rate!$B$33:$E$33,0))),IF(LEFT(C269,1)=\"C\",VLOOKUP(E269,Rate!$B$44:$D$52,3,0),IF(LEFT(C269,1)=\"D\",13700,IF(LEFT(C269,1)=\"E\",25000,0)))))","v":4200},null,{"$f":"IFERROR(F269*G269,0)","v":33600}]
[null,7,"AA) มัธยมศึกษาตอนต้นหรือเทียบเท่า","A.1) รัฐบาล",null,1,{"$f":"IF(LEFT(C270,1)=\"A\",INDEX(Rate!$B$22:$E$26,MATCH(MID(C270,5,LEN(C270)-4),Rate!$B$22:$B$26,0),MATCH(LEFT(D270,3),Rate!$B$22:$E$22,0)),IF(LEFT(C270,1)=\"B\",IF(LEFT(D270,3)=\"B.1\",4800,INDEX(Rate!$B$33:$E$41,MATCH(E270,Rate!$B$33:$B$41,0),MATCH(LEFT(D270,3),Rate!$B$33:$E$33,0))),IF(LEFT(C270,1)=\"C\",VLOOKUP(E270,Rate!$B$44:$D$52,3,0),IF(LEFT(C270,1)=\"D\",13700,IF(LEFT(C270,1)=\"E\",25000,0)))))","v":4800},null,4800]
[null,8,"AA) มัธยมศึกษาตอนต้นหรือเทียบเท่า","A.2) เอกชนไม่รับงินอุดหนุน",null,5,{"$f":"IF(LEFT(C271,1)=\"A\",INDEX(Rate!$B$22:$E$26,MATCH(MID(C271,5,LEN(C271)-4),Rate!$B$22:$B$26,0),MATCH(LEFT(D271,3),Rate!$B$22:$E$22,0)),IF(LEFT(C271,1)=\"B\",IF(LEFT(D271,3)=\"B.1\",4800,INDEX(Rate!$B$33:$E$41,MATCH(E271,Rate!$B$33:$B$41,0),MATCH(LEFT(D271,3),Rate!$B$33:$E$33,0))),IF(LEFT(C271,1)=\"C\",VLOOKUP(E271,Rate!$B$44:$D$52,3,0),IF(LEFT(C271,1)=\"D\",13700,IF(LEFT(C271,1)=\"E\",25000,0)))))","v":15800},null,79000]
[null,9,"AA) มัธยมศึกษาตอนต้นหรือเทียบเท่า","A.3) เอกชนรับเงินอุดหนุน",null,1,{"$f":"IF(LEFT(C272,1)=\"A\",INDEX(Rate!$B$22:$E$26,MATCH(MID(C272,5,LEN(C272)-4),Rate!$B$22:$B$26,0),MATCH(LEFT(D272,3),Rate!$B$22:$E$22,0)),IF(LEFT(C272,1)=\"B\",IF(LEFT(D272,3)=\"B.1\",4800,INDEX(Rate!$B$33:$E$41,MATCH(E272,Rate!$B$33:$B$41,0),MATCH(LEFT(D272,3),Rate!$B$33:$E$33,0))),IF(LEFT(C272,1)=\"C\",VLOOKUP(E272,Rate!$B$44:$D$52,3,0),IF(LEFT(C272,1)=\"D\",13700,IF(LEFT(C272,1)=\"E\",25000,0)))))","v":3300},null,3300]
[null,10,"AA) มัธยมศึกษาตอนปลายหรือเทียบเท่า","A.1) รัฐบาล",null,null,{"$f":"IF(LEFT(C273,1)=\"A\",INDEX(Rate!$B$22:$E$26,MATCH(MID(C273,5,LEN(C273)-4),Rate!$B$22:$B$26,0),MATCH(LEFT(D273,3),Rate!$B$22:$E$22,0)),IF(LEFT(C273,1)=\"B\",IF(LEFT(D273,3)=\"B.1\",4800,INDEX(Rate!$B$33:$E$41,MATCH(E273,Rate!$B$33:$B$41,0),MATCH(LEFT(D273,3),Rate!$B$33:$E$33,0))),IF(LEFT(C273,1)=\"C\",VLOOKUP(E273,Rate!$B$44:$D$52,3,0),IF(LEFT(C273,1)=\"D\",13700,IF(LEFT(C273,1)=\"E\",25000,0)))))","v":4800},null,0]
[null,11,"AA) มัธยมศึกษาตอนปลายหรือเทียบเท่า","A.2) เอกชนไม่รับงินอุดหนุน",null,null,{"$f":"IF(LEFT(C274,1)=\"A\",INDEX(Rate!$B$22:$E$26,MATCH(MID(C274,5,LEN(C274)-4),Rate!$B$22:$B$26,0),MATCH(LEFT(D274,3),Rate!$B$22:$E$22,0)),IF(LEFT(C274,1)=\"B\",IF(LEFT(D274,3)=\"B.1\",4800,INDEX(Rate!$B$33:$E$41,MATCH(E274,Rate!$B$33:$B$41,0),MATCH(LEFT(D274,3),Rate!$B$33:$E$33,0))),IF(LEFT(C274,1)=\"C\",VLOOKUP(E274,Rate!$B$44:$D$52,3,0),IF(LEFT(C274,1)=\"D\",13700,IF(LEFT(C274,1)=\"E\",25000,0)))))","v":16200},null,0]
[null,12,"AA) มัธยมศึกษาตอนปลายหรือเทียบเท่า","A.3) เอกชนรับเงินอุดหนุน",null,null,{"$f":"IF(LEFT(C275,1)=\"A\",INDEX(Rate!$B$22:$E$26,MATCH(MID(C275,5,LEN(C275)-4),Rate!$B$22:$B$26,0),MATCH(LEFT(D275,3),Rate!$B$22:$E$22,0)),IF(LEFT(C275,1)=\"B\",IF(LEFT(D275,3)=\"B.1\",4800,INDEX(Rate!$B$33:$E$41,MATCH(E275,Rate!$B$33:$B$41,0),MATCH(LEFT(D275,3),Rate!$B$33:$E$33,0))),IF(LEFT(C275,1)=\"C\",VLOOKUP(E275,Rate!$B$44:$D$52,3,0),IF(LEFT(C275,1)=\"D\",13700,IF(LEFT(C275,1)=\"E\",25000,0)))))","v":3200},null,0]
[null,13,"BB) ปวช.","B.1) รัฐบาล",null,null,{"$f":"IF(LEFT(C276,1)=\"A\",INDEX(Rate!$B$22:$E$26,MATCH(MID(C276,5,LEN(C276)-4),Rate!$B$22:$B$26,0),MATCH(LEFT(D276,3),Rate!$B$22:$E$22,0)),IF(LEFT(C276,1)=\"B\",IF(LEFT(D276,3)=\"B.1\",4800,INDEX(Rate!$B$33:$E$41,MATCH(E276,Rate!$B$33:$B$41,0),MATCH(LEFT(D276,3),Rate!$B$33:$E$33,0))),IF(LEFT(C276,1)=\"C\",VLOOKUP(E276,Rate!$B$44:$D$52,3,0),IF(LEFT(C276,1)=\"D\",13700,IF(LEFT(C276,1)=\"E\",25000,0)))))","v":4800},null,0]
[null,14,"BB) ปวช.","B.2) เอกชนไม่รับงินอุดหนุน",null,null,{"$f":"IF(LEFT(C277,1)=\"A\",INDEX(Rate!$B$22:$E$26,MATCH(MID(C277,5,LEN(C277)-4),Rate!$B$22:$B$26,0),MATCH(LEFT(D277,3),Rate!$B$22:$E$22,0)),IF(LEFT(C277,1)=\"B\",IF(LEFT(D277,3)=\"B.1\",4800,INDEX(Rate!$B$33:$E$41,MATCH(E277,Rate!$B$33:$B$41,0),MATCH(LEFT(D277,3),Rate!$B$33:$E$33,0))),IF(LEFT(C277,1)=\"C\",VLOOKUP(E277,Rate!$B$44:$D$52,3,0),IF(LEFT(C277,1)=\"D\",13700,IF(LEFT(C277,1)=\"E\",25000,0)))))","v":{"$error":"#N/A"}},null,0]
[null,15,"BB) ปวช.","B.3) เอกชนรับเงินอุดหนุน","B) พาณิชยกรรม หรือบริหารธุรกิจ",1,{"$f":"IF(LEFT(C278,1)=\"A\",INDEX(Rate!$B$22:$E$26,MATCH(MID(C278,5,LEN(C278)-4),Rate!$B$22:$B$26,0),MATCH(LEFT(D278,3),Rate!$B$22:$E$22,0)),IF(LEFT(C278,1)=\"B\",IF(LEFT(D278,3)=\"B.1\",4800,INDEX(Rate!$B$33:$E$41,MATCH(E278,Rate!$B$33:$B$41,0),MATCH(LEFT(D278,3),Rate!$B$33:$E$33,0))),IF(LEFT(C278,1)=\"C\",VLOOKUP(E278,Rate!$B$44:$D$52,3,0),IF(LEFT(C278,1)=\"D\",13700,IF(LEFT(C278,1)=\"E\",25000,0)))))","v":5100},null,5100]
[null,16,"CC) ปวส. (หรือเทียบเท่า)/ ปวท.","C.1) เอกชน",null,null,{"$f":"IF(LEFT(C279,1)=\"A\",INDEX(Rate!$B$22:$E$26,MATCH(MID(C279,5,LEN(C279)-4),Rate!$B$22:$B$26,0),MATCH(LEFT(D279,3),Rate!$B$22:$E$22,0)),IF(LEFT(C279,1)=\"B\",IF(LEFT(D279,3)=\"B.1\",4800,INDEX(Rate!$B$33:$E$41,MATCH(E279,Rate!$B$33:$B$41,0),MATCH(LEFT(D279,3),Rate!$B$33:$E$33,0))),IF(LEFT(C279,1)=\"C\",VLOOKUP(E279,Rate!$B$44:$D$52,3,0),IF(LEFT(C279,1)=\"D\",13700,IF(LEFT(C279,1)=\"E\",25000,0)))))","v":{"$error":"#N/A"}},null,0]
[null,17,"DD) อนุปริญญาหรือเทียบเท่า","D.1) รัฐบาล",null,1,{"$f":"IF(LEFT(C280,1)=\"A\",INDEX(Rate!$B$22:$E$26,MATCH(MID(C280,5,LEN(C280)-4),Rate!$B$22:$B$26,0),MATCH(LEFT(D280,3),Rate!$B$22:$E$22,0)),IF(LEFT(C280,1)=\"B\",IF(LEFT(D280,3)=\"B.1\",4800,INDEX(Rate!$B$33:$E$41,MATCH(E280,Rate!$B$33:$B$41,0),MATCH(LEFT(D280,3),Rate!$B$33:$E$33,0))),IF(LEFT(C280,1)=\"C\",VLOOKUP(E280,Rate!$B$44:$D$52,3,0),IF(LEFT(C280,1)=\"D\",13700,IF(LEFT(C280,1)=\"E\",25000,0)))))","v":13700},null,13700]
[null,18,"EE) ปริญญาตรี","E.1) รัฐบาล",null,1,{"$f":"IF(LEFT(C281,1)=\"A\",INDEX(Rate!$B$22:$E$26,MATCH(MID(C281,5,LEN(C281)-4),Rate!$B$22:$B$26,0),MATCH(LEFT(D281,3),Rate!$B$22:$E$22,0)),IF(LEFT(C281,1)=\"B\",IF(LEFT(D281,3)=\"B.1\",4800,INDEX(Rate!$B$33:$E$41,MATCH(E281,Rate!$B$33:$B$41,0),MATCH(LEFT(D281,3),Rate!$B$33:$E$33,0))),IF(LEFT(C281,1)=\"C\",VLOOKUP(E281,Rate!$B$44:$D$52,3,0),IF(LEFT(C281,1)=\"D\",13700,IF(LEFT(C281,1)=\"E\",25000,0)))))","v":25000},null,25000]
[null,19,"EE) ปริญญาตรี","E.2) เอกชน",null,11,{"$f":"IF(LEFT(C282,1)=\"A\",INDEX(Rate!$B$22:$E$26,MATCH(MID(C282,5,LEN(C282)-4),Rate!$B$22:$B$26,0),MATCH(LEFT(D282,3),Rate!$B$22:$E$22,0)),IF(LEFT(C282,1)=\"B\",IF(LEFT(D282,3)=\"B.1\",4800,INDEX(Rate!$B$33:$E$41,MATCH(E282,Rate!$B$33:$B$41,0),MATCH(LEFT(D282,3),Rate!$B$33:$E$33,0))),IF(LEFT(C282,1)=\"C\",VLOOKUP(E282,Rate!$B$44:$D$52,3,0),IF(LEFT(C282,1)=\"D\",13700,IF(LEFT(C282,1)=\"E\",25000,0)))))","v":25000},null,275000]
[null,20,null,null,null,null,{"$f":"IF(LEFT(C283,1)=\"A\",INDEX(Rate!$B$22:$E$26,MATCH(MID(C283,5,LEN(C283)-4),Rate!$B$22:$B$26,0),MATCH(LEFT(D283,3),Rate!$B$22:$E$22,0)),IF(LEFT(C283,1)=\"B\",IF(LEFT(D283,3)=\"B.1\",4800,INDEX(Rate!$B$33:$E$41,MATCH(E283,Rate!$B$33:$B$41,0),MATCH(LEFT(D283,3),Rate!$B$33:$E$33,0))),IF(LEFT(C283,1)=\"C\",VLOOKUP(E283,Rate!$B$44:$D$52,3,0),IF(LEFT(C283,1)=\"D\",13700,IF(LEFT(C283,1)=\"E\",25000,0)))))","v":0},null,0]
[null,21,null,null,null,null,{"$f":"IF(LEFT(C284,1)=\"A\",INDEX(Rate!$B$22:$E$26,MATCH(MID(C284,5,LEN(C284)-4),Rate!$B$22:$B$26,0),MATCH(LEFT(D284,3),Rate!$B$22:$E$22,0)),IF(LEFT(C284,1)=\"B\",IF(LEFT(D284,3)=\"B.1\",4800,INDEX(Rate!$B$33:$E$41,MATCH(E284,Rate!$B$33:$B$41,0),MATCH(LEFT(D284,3),Rate!$B$33:$E$33,0))),IF(LEFT(C284,1)=\"C\",VLOOKUP(E284,Rate!$B$44:$D$52,3,0),IF(LEFT(C284,1)=\"D\",13700,IF(LEFT(C284,1)=\"E\",25000,0)))))","v":0},null,0]
[null,22,null,null,null,null,{"$f":"IF(LEFT(C285,1)=\"A\",INDEX(Rate!$B$22:$E$26,MATCH(MID(C285,5,LEN(C285)-4),Rate!$B$22:$B$26,0),MATCH(LEFT(D285,3),Rate!$B$22:$E$22,0)),IF(LEFT(C285,1)=\"B\",IF(LEFT(D285,3)=\"B.1\",4800,INDEX(Rate!$B$33:$E$41,MATCH(E285,Rate!$B$33:$B$41,0),MATCH(LEFT(D285,3),Rate!$B$33:$E$33,0))),IF(LEFT(C285,1)=\"C\",VLOOKUP(E285,Rate!$B$44:$D$52,3,0),IF(LEFT(C285,1)=\"D\",13700,IF(LEFT(C285,1)=\"E\",25000,0)))))","v":0},null,0]
[null,null,"เลือกระดับ/ สถานศึกษา หรือคณะ ให้เริ่มเลือกจาก ทางซ้าย --------> ทางขวา และต้องเลือกทุกช่อง\n<ห้ามแก้ไขข้อความหรือกระทำการใดๆ ที่บรรทัดนี้ >"]
[null,{"$f":"B286+1","v":1},null,null,null,null,{"$f":"IF(LEFT(C287,1)=\"A\",INDEX(Rate!$B$22:$E$26,MATCH(MID(C287,5,LEN(C287)-4),Rate!$B$22:$B$26,0),MATCH(LEFT(D287,3),Rate!$B$22:$E$22,0)),IF(LEFT(C287,1)=\"B\",IF(LEFT(D287,3)=\"B.1\",4800,INDEX(Rate!$B$33:$E$41,MATCH(E287,Rate!$B$33:$B$41,0),MATCH(LEFT(D287,3),Rate!$B$33:$E$33,0))),IF(LEFT(C287,1)=\"C\",VLOOKUP(E287,Rate!$B$44:$D$52,3,0),IF(LEFT(C287,1)=\"D\",13700,IF(LEFT(C287,1)=\"E\",25000,0)))))","v":0},null,0]
[]
[]
[52020040,{"$f":"VLOOKUP(A290,'E001'!A:D,4,0)","v":"เงินช่วยเหลือบุตร"},null,null,null,null,null,null,{"$f":"ROUNDUP(G296,-1)","v":360000}]
[null,"หลักเกณฑ์:","สำหรับบุตรของพนักงาน ที่อายุยังไม่ครบ 20 ปี อัตรา 500 บาท/ คน/ เดือน"]
[]
[null,null,"จำนวนบุตร",null,null,null,{"$f":"Cover!H83","v":60}]
[null,null,"อัตรา (บาท/ คน/ เดือน)",null,null,null,{"$f":"Rate!E54","v":500},null,null,"(Rate)"]
[null,null,"จำนวนเดือน",null,null,null,12]
[null,null,"เงินช่วยเหลือบุตร",null,null,null,{"$f":"+G293*G294*G295","v":360000}]
[]
[]
[52020990,{"$f":"VLOOKUP(A299,'E001'!A:D,4,0)","v":"เงินช่วยเหลืออื่น"},null,null,null,null,null,null,{"$f":"ROUNDUP(G305,-1)","v":20000}]
[null,"หลักเกณฑ์:","ประมาณการจากข้อมูลปีก่อนหน้าและปีปัจจุบัน โดยให้เป็นไปตามอัตราที่กำหนดในระเบียบของ กฟภ."]
[null,null,"กฟอ.นผ. พิจารณาของบประมาณปี 67",null,null,null,20000]
[]
[]
[]
[null,null,"รวมสุทธิ",null,null,null,20000]
[]
[]
[52021010,{"$f":"VLOOKUP(A308,'E001'!A:D,4,0)","v":"ค่ารักษาพยาบาล-พนักงาน"},null,null,null,null,null,null,{"$f":"ROUNDUP(G315,-1)","v":1897200}]
[null,"หลักเกณฑ์:","ตั้งตามจำนวนพนักงาน คนละ 18,600 บาท/ ปี"]
[]
[null,null,"จำนวนพนักงาน",null,null,null,{"$f":"SUM(Cover!G39,Cover!C56)","v":102}]
[null,null,"อัตรา (บาท/ คน/ ปี)",null,null,null,{"$f":"Rate!E55","v":18600},null,null,"(Rate)"]
[null,null,"ค่ารักษาพยาบาล-พนักงาน",null,null,null,{"$f":"+G311*G312","v":1897200}]
[null,null,"ค่าใช้จ่ายเพิ่มเติม (สำหรับ กพบ. เท่านั้น)",null,null,null,{"$f":"G320","v":0}]
[null,null,"รวม",null,null,null,{"$f":"SUM(G313:G314)","v":1897200}]
[]
[null,"รายละเอียดค่าใช้จ่ายเพิ่มเติม",null,null,null,null,"จำนวนเงิน"]
[null,1]
[null,2]
[null,null,"รวม",null,null,null,{"$f":"SUM(G318:INDIRECT(\"g\"&ROW()-1))","v":0}]
[]
[]
[52021020,{"$f":"VLOOKUP(A323,'E001'!A:D,4,0)","v":"ค่ารักษาพยาบาล-ครอบครัวพนักงาน"},null,null,null,null,null,null,{"$f":"ROUNDUP(G328,-1)","v":1938000}]
[null,"หลักเกณฑ์:","ตั้งตามจำนวนพนักงาน คนละ 19,000 บาท/ ปี"]
[]
[null,null,"จำนวนพนักงาน",null,null,null,{"$f":"SUM(Cover!G39,Cover!C56)","v":102}]
[null,null,"อัตรา (บาท/ คน/ เดือน)",null,null,null,{"$f":"Rate!E56","v":19000},null,null,"(Rate)"]
[null,null,"ค่ารักษาพยาบาล-ครอบครัวพนักงาน",null,null,null,{"$f":"+G326*G327","v":1938000}]
[]
[]
[52022010,{"$f":"VLOOKUP(A331,'E001'!A:D,4,0)","v":"ค่าพาหนะเดินทางไปปฏิบัติงานต่างท้องที่-พนักงาน"},null,null,null,null,null,null,{"$f":"ROUNDUP(G340,-1)","v":127000}]
[null,"หลักเกณฑ์:","ประมาณการจาก แผนงาน ตามภาระหน้าที่โดยจัดลำดับความสำคัญของงาน"]
[null,null,"พร้อมทั้งดูความสามารถในการทำงาน และช่วงเวลาในการปฏิบัติงาน"]
[]
[null,null,"รายละเอียด",null,null,null,"จำนวนเงิน"]
[null,1,"กฟอ.นผ. พิจารณาเพิ่ม 10% จาดยอดประมาณการค่าใช้จ่ายเต็มปี 65",null,null,null,67000]
[null,2,"กฟส.วร. และ กฟย.พต. ขอตั้งงบประมาณปี 67",null,null,null,25000]
[null,3,"กฟส.บงส. ขอตั้งงบประมาณปี 67",null,null,null,20000]
[null,4,"กฟส.ศรเทพ ขอตั้งงบประมาณปี 67",null,null,null,15000]
[null,null,null,null,null,null,{"$f":"SUM(G335:G339)","v":127000}]
[]
[]
[52022020,{"$f":"VLOOKUP(A343,'E001'!A:D,4,0)","v":"ค่าเบี้ยเลี้ยง-พนักงาน"},null,null,null,null,null,null,{"$f":"ROUNDUP(SUBTOTAL(109,I344:I367),-1)","v":802320}]
[null,null,"รายละเอียดงาน","ระดับพนักงาน","จำนวนคน","จำนวนวัน","ค่าเบี้ยเลี้ยง",null,null,"(Rate)"]
[null,null,"พนักงานฮอทไลน์ กฟฟ.อื่น ช่วยงาน นผ",7,2,60,{"$f":"IFERROR(VLOOKUP(D345,PD_house,3,1),0)","v":315},null,{"$f":"E345*G345*F345","v":37800}]
[null,null,"พนักงานฮอทไลน์ กฟฟ.อื่น ช่วยงาน นผ",5,4,60,255,null,61200]
[null,null,"ประจำ กฟอ.นผ.",6,2,40,255,null,20400]
[null,null,"ผบค.นผ.",7,2,8,315,null,5040]
[null,null,"ผมต.นผ.",7,3,22,{"$f":"IFERROR(VLOOKUP(D349,PD_house,3,1),0)","v":315},null,{"$f":"E349*G349*F349","v":20790}]
[null,null,"ผปบ.นผ.",7,3,22,315,null,20790]
[null,null,"ผกส.นผ.",6,2,40,255,null,20400]
[null,null,"ผบป.นผ.",6,2,20,255,null,10200]
[null,null,"ผคพ.นผ.",6,2,30,255,null,15300]
[null,null,"ผบห.นผ.",7,2,16,315,null,10080]
[null,null,"ฮอทไลน์ นผ. ไปปฏิบัติงานพื้นที่ วร.",5,10,150,255,null,382500]
[null,null,"กฟส.วร. และ กฟย.พต.",8,10,5,315,null,15750]
[null,null,"กฟส.วร. และ กฟย.พต.",4,7,5,255,null,8925]
[null,null,"กฟส.วร. และ กฟย.พต.",3,5,5,{"$f":"IFERROR(VLOOKUP(D358,PD_house,3,1),0)","v":255},null,{"$f":"E358*G358*F358","v":6375}]
[null,null,"กฟส.บงส.",8,7,16,315,null,35280]
[null,null,"กฟส.บงส.",5,6,10,255,null,15300]
[null,null,"ฮอทไลน์ บำรุงรักษาตามแผนและนอกแผน ศท.",7,3,30,315,null,28350]
[null,null,"ฮอทไลน์ บำรุงรักษาตามแผนและนอกแผน ศท.",5,10,30,255,null,76500]
[null,null,"กฟส.ศรีเทพ (ผจก.)",9,1,12,315,null,3780]
[null,null,"กฟส.ศรีเทพ",8,3,8,315,null,7560]
[null,null,"ห้ามแก้ไขข้อความหรือกระทำการใดๆ ที่บรรทัดนี้"]
[null,null,null,"รผก. หรือ ผชก.",null,null,{"$f":"IFERROR(VLOOKUP(D366,PD_house,3,1),0)","v":2000},null,{"$f":"E366*G366*F366","v":0}]
[]
[]
[52022030,{"$f":"VLOOKUP(A369,'E001'!A:D,4,0)","v":"ค่าที่พัก-พนักงาน"},null,null,null,null,null,null,{"$f":"ROUNDUP(SUBTOTAL(109,I370:I393),-1)","v":1575880}]
[null,null,"รายละเอียดงาน","ระดับพนักงาน","จำนวนคน","จำนวนคืน","ค่าที่พัก",null,null,"(Rate)"]
[null,null,"พนักงานฮอทไลน์ กฟฟ.อื่น ช่วยงาน นผ",7,2,50,{"$f":"IFERROR(VLOOKUP(D371,PD_house,4,1),0)","v":750},null,{"$f":"E371*G371*F371","v":75000}]
[null,null,"พนักงานฮอทไลน์ กฟฟ.อื่น ช่วยงาน นผ",6,4,50,500,null,100000]
[null,null,"ประจำ กฟอ.นผ.",6,2,35,500,null,35000]
[null,null,"ผบค.นผ.",7,2,7,750,null,10500]
[null,null,"ผมต.นผ.",7,3,13,750,null,29250]
[null,null,"ผปบ.นผ.",7,3,12,750,null,27000]
[null,null,"ผกส.นผ.",6,2,40,500,null,40000]
[null,null,"ผบป.นผ.",6,2,15,500,null,15000]
[null,null,"ผคพ.นผ.",6,2,25,500,null,25000]
[null,null,"ผบห.นผ.",7,2,10,750,null,15000]
[null,null,"ฮอทไลน์ นผ. ไปปฏิบัติงานพื้นที่ วร.",5,10,150,500,null,750000]
[null,null,"กฟส.วร. และ กฟย.พต.",8,10,5,750,null,37500]
[null,null,"กฟส.วร. และ กฟย.พต.",5,7,5,500,null,17500]
[null,null,"กฟส.วร. และ กฟย.พต.",3,5,5,445,null,11125]
[null,null,"กฟส.บงส.",8,7,16,750,null,84000]
[null,null,"กฟส.บงส.",5,6,10,500,null,30000]
[null,null,"ฮอทไลน์ บำรุงรักษาตามแผนและนอกแผน ศท.",7,3,35,750,null,78750]
[null,null,"ฮอทไลน์ บำรุงรักษาตามแผนและนอกแผน ศท.",5,10,35,{"$f":"IFERROR(VLOOKUP(D388,PD_house,4,1),0)","v":500},null,{"$f":"E388*G388*F388","v":175000}]
[null,null,"กฟส.ศรีเทพ (ผจก.)",9,1,12,{"$f":"IFERROR(VLOOKUP(D389,PD_house,4,1),0)","v":750},null,{"$f":"E389*G389*F389","v":9000}]
[null,null,"กฟส.ศรีเทพ",8,3,5,{"$f":"IFERROR(VLOOKUP(D390,PD_house,4,1),0)","v":750},null,{"$f":"E390*G390*F390","v":11250}]
[null,null,"ห้ามแก้ไขข้อความหรือกระทำการใดๆ ที่บรรทัดนี้"]
[null,null,null,null,null,null,{"$f":"IFERROR(VLOOKUP(D392,PD_house,4,1),0)","v":0},null,{"$f":"E392*G392*F392","v":0}]
[]
[]
[52022050,{"$f":"IF(A395=\"\",\"<< กรอกรหัสบัญชี\",IFERROR(VLOOKUP(A395,'E001'!A:D,4,0),\"ไม่มีรหัสบัญชีนี้\"))","v":"ค่าชดเชยการใช้ยานพาหนะส่วนตัว"},null,null,null,null,{"$f":"IF(COUNTIF(A:A,A395)>1,\"รหัสบัญชีซ้ำ โปรดตรวจสอบ\",\"\")","v":""},null,{"$f":"ROUNDUP(G400,-1)","v":0}]
[null,"รายละเอียด"]
[]
[]
[]
[null,null,"รวม"]
[]
[]
[52022060,{"$f":"VLOOKUP(A403,'E001'!A:D,4,0)","v":"ค่าพาหนะเดินทางไปปฏิบัติงานต่างท้องที่-ลูกจ้าง"},null,null,null,null,null,null,{"$f":"$G$410","v":32500}]
[52022070,{"$f":"VLOOKUP(A404,'E001'!A:D,4,0)","v":"ค่าเบี้ยเลี้ยง-ลูกจ้าง"},null,null,null,null,null,null,{"$f":"$G$410","v":32500}]
[52022080,{"$f":"VLOOKUP(A405,'E001'!A:D,4,0)","v":"ค่าที่พัก-ลูกจ้าง"},null,null,null,null,null,null,{"$f":"$G$410","v":32500}]
[null,"หลักเกณฑ์:","ตั้งตามจำนวนลูกจ้าง คนละ 1,300 บาท/ ปี"]
[]
[null,null,"จำนวนลูกจ้าง",null,null,null,{"$f":"Cover!G73","v":25}]
[null,null,"อัตรา (บาท/ คน/ ปี)",null,null,null,{"$f":"Rate!E68","v":1300},null,null,"(Rate)"]
[null,null,"รวม",null,null,null,{"$f":"+G408*G409","v":32500}]
[]
[]
[52029010,{"$f":"VLOOKUP(A413,'E001'!A:D,4,0)","v":"ค่าเช่าบ้าน"},null,null,null,null,null,null,{"$f":"ROUNDUP(G425,-1)","v":804000}]
[null,"หลักเกณฑ์:","สำหรับพนักงานที่ได้รับสิทธิ ค่าเช่าบ้าน ให้เป็นไปตามตามคำสั่ง กฟภ."]
[null,null,"ระเบียบ กฟภ. ว่าด้วยเรื่องค่าเช่าบ้าน ค่าเช่าซื้อ หรือค่าผ่อนชำระเงินกู้ พ.ศ. 2562 ประกาศ ณ วันที่ 14 พ.ย. 2562"]
[]
[null,null,"อัตราเงินเดือน (บาท)","จำนวนพนักงาน","อัตราค่าเช่าบ้าน",null,"จำนวนเงิน (บาท)",null,null,"(Rate)"]
[null,null,"ไม่เกิน 15,000 บาท",{"$f":"Cover!C124","v":0},{"$f":"Rate!D105","v":2500},null,{"$f":"D418*E418","v":0}]
[null,null,"15,001 - 25,000",{"$f":"Cover!C125","v":4},{"$f":"Rate!D106","v":3500},null,{"$f":"D419*E419","v":14000}]
[null,null,"25,001 - 35,000",{"$f":"Cover!C126","v":3},{"$f":"Rate!D107","v":4000},null,12000]
[null,null,"35,001 - 50,000",{"$f":"Cover!C127","v":1},{"$f":"Rate!D108","v":5000},null,5000]
[null,null,"50,000 บาทขึ้นไป",{"$f":"Cover!C128","v":6},{"$f":"Rate!D109","v":6000},null,36000]
[null,null,null,null,null,null,{"$f":"SUM(G418:G422)","v":67000}]
[null,null,null,null,null,"คูณ 12 เดือน",12]
[null,null,null,null,null,"รวม",{"$f":"G423*G424","v":804000}]
[]
[]
[52029990,{"$f":"VLOOKUP(A428,'E001'!A:D,4,0)","v":"ค่าสวัสดิการอื่น ๆ"},null,null,null,null,null,null,{"$f":"ROUNDUP(G433,-1)","v":0}]
[null,"หลักเกณฑ์:","ประมาณการจากการพิจารณาข้อมูลปีก่อนหน้า และปัจจุบัน"]
[]
[]
[]
[null,null,"รวมสุทธิ"]
[]
[]
[52030010,{"$f":"IF(A436=\"\",\"<< กรอกรหัสบัญชี\",IFERROR(VLOOKUP(A436,'E001'!A:D,4,0),\"ไม่มีรหัสบัญชีนี้\"))","v":"ค่าใช้จ่ายในการอบรมสัมมนา-ในแผน"},null,null,null,null,{"$f":"IF(COUNTIF(A:A,A436)>1,\"รหัสบัญชีซ้ำ โปรดตรวจสอบ\",\"\")","v":""},null,{"$f":"ROUNDUP(G441,-1)","v":0}]
[null,"รายละเอียด"]
[]
[]
[]
[null,null,"รวม"]
[]
[]
[52030020,{"$f":"VLOOKUP(A444,'E001'!A:D,4,0)","v":"ค่าใช้จ่ายในการอบรมสัมมนา-นอกแผน"},null,null,null,null,null,null,{"$f":"ROUNDUP(G449,-1)","v":224400}]
[null,"หลักเกณฑ์:","2,200 บาท/ พนักงาน 1 คน (งานประจำ)"]
[]
[null,null,"จำนวนพนักงาน",null,null,null,{"$f":"SUM(Cover!G39,Cover!C56)","v":102}]
[null,null,"อัตราค่าใช้จ่าย",null,null,null,{"$f":"Rate!E71","v":2200},null,null,"(Rate)"]
[null,null,"รวม (ตามหลักเกณฑ์ 2,200 บาท/ พนักงาน 1 คน)",null,null,null,{"$f":"G447*G448","v":224400}]
[]
[]
[52030030,{"$f":"VLOOKUP(A452,'E001'!A:D,4,0)","v":"ค่าใช้จ่ายในการประชุมชี้แจง"},null,null,null,null,null,null,{"$f":"ROUNDUP(G453,-1)","v":20000}]
[null,null,"ขอตั้งงบประมาณตามรายละเอียดในแบบฟอร์ม งป.(ท)_2/2",null,null,null,{"$f":"'E220'!F14","v":20000}]
[]
[null,"รวมงานประจำของหน่วยงาน (ค่าใช้จ่ายเกี่ยวกับบุคคลากร)",null,null,null,null,null,null,{"$f":"SUMIF(A6:INDIRECT(\"A\"&ROW()-1),\"<>\",I6:INDIRECT(\"I\"&ROW()-1))","v":80440810}]
[]
[]
["ห้ามแก้ไขข้อความหรือกระทำการใดๆ ตั้งแต่บรรทัดนี้เป็นต้นไป"]
[]
[null,"กดปุ่ม \"New account\" ด้านบนเพื่อเพิ่มบัญชีใหม่"]
[]
[null,{"$f":"IF(A462=\"\",\"<< กรอกรหัสบัญชี\",IFERROR(VLOOKUP(A462,'E001'!A:D,4,0),\"ไม่มีรหัสบัญชีนี้\"))","v":"<< กรอกรหัสบัญชี"},null,null,null,null,{"$f":"IF(COUNTIF(A:A,A462)>1,\"รหัสบัญชีซ้ำ โปรดตรวจสอบ\",\"\")","v":""},null,{"$f":"ROUNDUP(G467,-1)","v":0}]
[null,"รายละเอียด"]
[]
[]
[]
[null,null,"รวม"]

{"sheet":"E120","index":8,"n_rows":979,"n_cols":10,"rows_kept":979,"cut":false,"hidden":false,"merged":[[5,1,5,7],[0,0,0,8],[1,0,1,8],[2,0,2,8],[970,1,970,7],[11,1,11,7],[19,1,19,7],[29,1,29,7],[7,1,7,7]]}
["คำชี้แจงประกอบ",null,null,null,null,null,null,null,null,"งป. (ท)_1"]
[{"$f":"\"งบประมาณทำการประจำปี \"&A_Budget_year","v":"งบประมาณทำการประจำปี 2567"}]
["งานประจำของหน่วยงาน - ค่าใช้จ่ายในการดำเนินงาน"]
[null,null,null,null,null,null,null,null,{"$f":"Head_division","v":"เขต: "},{"$f":"Head_division2","v":"กฟน.3 - 07"}]
[null,null,null,null,null,null,null,null,"หน่วย:","บาท"]
["รหัสบัญชี","รายการ /รายละเอียด / คำชี้แจงประกอบ",null,null,null,null,null,null,"รวม","รวมสุทธิ"]
[]
[null,"กลุ่มบัญชี ค่าป้องกันระบบจำหน่ายและค่าตัดต้นไม้ งป.(ท)_1/1 (E121)"]
[53050010,{"$f":"VLOOKUP(A9,'E001'!A:L,4,0)","v":"ค่าป้องกันระบบไฟฟ้าและระบบควบคุม"},null,null,null,null,null,{"$f":"IF(COUNTIF(A:A,A9)>1,\"มีรหัสบัญชีซ้ำ โปรดตรวจสอบ\",\"\")","v":""},null,{"$f":"ROUNDUP('E121'!F9,-1)","v":0}]
[53050020,{"$f":"VLOOKUP(A10,'E001'!A:L,4,0)","v":"ค่าจ้างเหมาตัดต้นไม้"},null,null,null,null,null,{"$f":"IF(COUNTIF(A:A,A10)>1,\"มีรหัสบัญชีซ้ำ โปรดตรวจสอบ\",\"\")","v":""},null,{"$f":"ROUNDUP('E121'!F25,-1)","v":0}]
[]
[null,{"$f":"\"กลุ่มบัญชี ค่าวิจัยและที่ปรึกษา\"&\" (\"&'E250'!N1&\") \"&\" (E250)\"","v":"กลุ่มบัญชี ค่าวิจัยและที่ปรึกษา (งป. (ท) _2/5)  (E250)"}]
[53040010,{"$f":"VLOOKUP(A13,'E001'!A:L,4,0)","v":"ค่าใช้จ่ายในการวิจัย"},null,null,null,null,null,{"$f":"IF(COUNTIF(A:A,A13)>1,\"มีรหัสบัญชีซ้ำ โปรดตรวจสอบ\",\"\")","v":""},null,{"$f":"ROUNDUP('E250'!I14,-1)","v":0}]
[53061020,{"$f":"VLOOKUP(A14,'E001'!A:L,4,0)","v":"ค่าที่ปรึกษา-ด้านบัญชี การเงิน"},null,null,null,null,null,"",null,{"$f":"ROUNDUP('E250'!J14,-1)","v":0}]
[53061030,{"$f":"VLOOKUP(A15,'E001'!A:L,4,0)","v":"ค่าที่ปรึกษา-ด้านกฏหมาย"},null,null,null,null,null,"",null,{"$f":"ROUNDUP('E250'!K14,-1)","v":0}]
[53061040,{"$f":"VLOOKUP(A16,'E001'!A:L,4,0)","v":"ค่าที่ปรึกษา-ด้านวิศวกรรม"},null,null,null,null,null,"",null,{"$f":"ROUNDUP('E250'!L14,-1)","v":0}]
[53061050,{"$f":"VLOOKUP(A17,'E001'!A:L,4,0)","v":"ค่าที่ปรึกษา-ด้านการพัฒนาระบบสารสนเทศ"},null,null,null,null,null,"",null,{"$f":"ROUNDUP('E250'!M14,-1)","v":0}]
[53061090,{"$f":"VLOOKUP(A18,'E001'!A:L,4,0)","v":"ค่าที่ปรึกษา-ด้านอื่นๆ"},null,null,null,null,null,"",null,{"$f":"ROUNDUP('E250'!N14,-1)","v":0}]
[]
[null,{"$f":"\"กลุ่มบัญชี ค่ากิจกรรมเพื่อสังคม\"&\" (\"&'E240'!M1&\") \"&\" (E240)\"","v":"กลุ่มบัญชี ค่ากิจกรรมเพื่อสังคม (งป. (ท) _2/4)  (E240)"}]
[53065010,{"$f":"VLOOKUP(A21,'E001'!A:L,4,0)","v":"เงินชดเชยเพื่อมนุษยธรรม"},null,null,null,null,null,{"$f":"IF(COUNTIF(A:A,A21)>1,\"มีรหัสบัญชีซ้ำ โปรดตรวจสอบ\",\"\")","v":""},null,{"$f":"ROUNDUP('E240'!F13,-1)","v":0}]
[53065020,{"$f":"VLOOKUP(A22,'E001'!A:L,4,0)","v":"ค่าใช้จ่ายเกี่ยวกับไฟสาธารณะ"},null,null,null,null,null,"",null,{"$f":"ROUNDUP('E240'!G13,-1)","v":0}]
[53065030,{"$f":"VLOOKUP(A23,'E001'!A:L,4,0)","v":"ค่าใช้จ่ายส่งเสริมการประหยัด/ปลอดภัยในการใช้ไฟฟ้า"},null,null,null,null,null,"",null,{"$f":"ROUNDUP('E240'!H13,-1)","v":0}]
[53065040,{"$f":"VLOOKUP(A24,'E001'!A:L,4,0)","v":"ค่าใช้จ่ายอื่นเพื่อผู้ใช้ไฟ"},null,null,null,null,null,"",null,{"$f":"ROUNDUP('E240'!I13,-1)","v":0}]
[53065050,{"$f":"VLOOKUP(A25,'E001'!A:L,4,0)","v":"ค่าใช้จ่ายเพื่อสังคมหรือสิ่งแวดล้อม"},null,null,null,null,null,"",null,{"$f":"ROUNDUP('E240'!J13,-1)","v":0}]
[53065080,{"$f":"VLOOKUP(A26,'E001'!A:L,4,0)","v":"ค่าผลประโยชน์เงินประกันฯจ่ายคืนผู้ใช้ไฟ - ประเภท 3,4,5"},null,null,null,null,null,"",null,{"$f":"ROUNDUP('E240'!K13,-1)","v":0}]
[53065090,{"$f":"VLOOKUP(A27,'E001'!A:L,4,0)","v":"ค่าผลประโยชน์เงินประกันฯจ่ายคืนผู้ใช้ไฟ - ประเภท 1,2"},null,null,null,null,null,"",null,{"$f":"ROUNDUP('E240'!L13,-1)","v":0}]
[53065990,{"$f":"VLOOKUP(A28,'E001'!A:L,4,0)","v":"ค่าใช้จ่ายเพื่อสาธารณประโยชน์และการกุศล"},null,null,null,null,null,"",null,{"$f":"ROUNDUP('E240'!M13,-1)","v":0}]
[]
[null,{"$f":"\"กลุ่มบัญชี ค่าประชาสัมพันธ์\"&\" (\"&'E230'!H1&\") \"&\" (E230)\"","v":"กลุ่มบัญชี ค่าประชาสัมพันธ์ (งป. (ท) _2/3)  (E230)"}]
[53021010,{"$f":"VLOOKUP(A31,'E001'!A:L,4,0)","v":"ค่าป้ายประชาสัมพันธ์"},null,null,null,null,null,{"$f":"IF(COUNTIF(A:A,A31)>1,\"มีรหัสบัญชีซ้ำ โปรดตรวจสอบ\",\"\")","v":""},null,{"$f":"ROUNDUP('E230'!F15,-1)","v":80000}]
[53021020,{"$f":"VLOOKUP(A32,'E001'!A:L,4,0)","v":"ค่าประชาสัมพันธ์อื่น"},null,null,null,null,null,{"$f":"IF(COUNTIF(A:A,A32)>1,\"มีรหัสบัญชีซ้ำ โปรดตรวจสอบ\",\"\")","v":""},null,{"$f":"ROUNDUP('E230'!G15,-1)","v":75000}]
[53021030,{"$f":"VLOOKUP(A33,'E001'!A:L,4,0)","v":"ค่าประชาสัมพันธ์ทางสื่อ"},null,null,null,null,null,{"$f":"IF(COUNTIF(A:A,A33)>1,\"มีรหัสบัญชีซ้ำ โปรดตรวจสอบ\",\"\")","v":""},null,{"$f":"ROUNDUP('E230'!H15,-1)","v":20000}]
[]
[]
[53010010,{"$f":"IF(A36=\"\",\"<< กรอกรหัสบัญชี\",IFERROR(VLOOKUP(A36,'E001'!A:L,4,0),\"ไม่มีรหัสบัญชีนี้\"))","v":"ค่าตอบแทน-การจดหน่วยการใช้ไฟฟ้า"},null,null,null,null,null,{"$f":"IF(COUNTIF(A:A,A36)>1,\"รหัสบัญชีซ้ำ โปรดตรวจสอบ\",\"\")","v":""},null,{"$f":"G41","v":0}]
[null,"หลักเกณฑ์:","ประมาณการจากจำนวนผู้ใช้ไฟ x อัตราค่าตอบแทน x 12 เดือน"]
[null,null,"จำนวนผู้ใช้ไฟ",null,null,null,{"$f":"Cover!C133","v":0},"ราย"]
[null,null,"อัตราค่าตอบแทน",null,null,null,{"$f":"Cover!D133","v":0},"บาท"]
[null,null,"จำนวนเดือน",null,null,null,12,"เดือน"]
[null,null,"รวม",null,null,null,{"$f":"G38*G39*G40","v":0}]
[]
[]
[53010020,{"$f":"IF(A44=\"\",\"<< กรอกรหัสบัญชี\",IFERROR(VLOOKUP(A44,'E001'!A:L,4,0),\"ไม่มีรหัสบัญชีนี้\"))","v":"ค่าตอบแทน-การจดหน่วยพร้อมแจ้งค่าไฟฟ้า"},null,null,null,null,null,{"$f":"IF(COUNTIF(A:A,A44)>1,\"รหัสบัญชีซ้ำ โปรดตรวจสอบ\",\"\")","v":""},null,{"$f":"G49","v":10290000}]
[null,"หลักเกณฑ์:","ประมาณการจากจำนวนผู้ใช้ไฟ x อัตราค่าตอบแทน x 12 เดือน"]
[null,null,"จำนวนผู้ใช้ไฟ",null,null,null,{"$f":"Cover!C134","v":122500},"ราย"]
[null,null,"อัตราค่าตอบแทน",null,null,null,{"$f":"Cover!D134","v":7},"บาท"]
[null,null,"จำนวนเดือน",null,null,null,12,"เดือน"]
[null,null,"รวม",null,null,null,{"$f":"G46*G47*G48","v":10290000}]
[]
[]
[53010030,{"$f":"IF(A52=\"\",\"<< กรอกรหัสบัญชี\",IFERROR(VLOOKUP(A52,'E001'!A:L,4,0),\"ไม่มีรหัสบัญชีนี้\"))","v":"ค่าตอบแทน-การเก็บเงินค่าไฟฟ้า"},null,null,null,null,null,{"$f":"IF(COUNTIF(A:A,A52)>1,\"รหัสบัญชีซ้ำ โปรดตรวจสอบ\",\"\")","v":""},null,{"$f":"G57","v":0}]
[null,"หลักเกณฑ์:","ประมาณการจากจำนวนผู้ใช้ไฟ x อัตราค่าตอบแทน x 12 เดือน"]
[null,null,"จำนวนผู้ใช้ไฟ",null,null,null,{"$f":"Cover!C135","v":0},"ราย"]
[null,null,"อัตราค่าตอบแทน",null,null,null,{"$f":"Cover!D135","v":0},"บาท"]
[null,null,"จำนวนเดือน",null,null,null,12,"เดือน"]
[null,null,"รวม",null,null,null,{"$f":"G54*G55*G56","v":0}]
[]
[]
[53010040,{"$f":"IF(A60=\"\",\"<< กรอกรหัสบัญชี\",IFERROR(VLOOKUP(A60,'E001'!A:L,4,0),\"ไม่มีรหัสบัญชีนี้\"))","v":"ค่าจ้างเหมางานงดจ่ายไฟและต่อกลับมิเตอร์"},null,null,null,null,null,{"$f":"IF(COUNTIF(A:A,A60)>1,\"รหัสบัญชีซ้ำ โปรดตรวจสอบ\",\"\")","v":""},null,{"$f":"ROUNDUP(SUBTOTAL(109,I59:I66),-1)","v":3788000}]
[null,"รายละเอียด"]
[null,null,"กฟอ.หนองไผ่ พิจารณาเพิ่มขึ้น 5% จากค่าใช้จ่ายปี 65 ประมาณการเต็มปี",null,null,null,null,null,760000]
[null,null,"กฟส.วิเชียรบุรี และ กฟย.พุเตย ขอตั้งงบประมาณปี 2567 เดือนละ 1,600 ราย@ 65 บาท",null,null,null,null,null,1248000]
[null,null,"กฟส.บึงสามพัน ขอตั้งงบประมาณปี 2567",null,null,null,null,null,1000000]
[null,null,"กฟส.ศรีเทพ ขอตั้งงบประมาณปี 2567 เดือนละ 1,000 ราย@ 65 บาท",null,null,null,null,null,780000]
[]
[]
[53010070,{"$f":"IF(A68=\"\",\"<< กรอกรหัสบัญชี\",IFERROR(VLOOKUP(A68,'E001'!A:L,4,0),\"ไม่มีรหัสบัญชีนี้\"))","v":"ค่าแรงคนงานรายวันงานบำรุงรักษา"},null,null,null,null,null,{"$f":"IF(COUNTIF(A:A,A68)>1,\"รหัสบัญชีซ้ำ โปรดตรวจสอบ\",\"\")","v":""},null,{"$f":"ROUNDUP(SUBTOTAL(109,I67:I74),-1)","v":10200000}]
[null,"รายละเอียด"]
[null,null,"กฟอ.หนองไผ่ พิจารณาจากจำนวนคนงาน ผปบ. 17 คน ทำงาน 313 วัน/ปี ตามอัตราประเภทคนงาน",null,null,null,null,null,2700000]
[null,null,"กฟส.วิเชียรบุรี และ กฟย.พุเตย ขอตั้งงบประมาณปี 2567 จากค่าใช้จ่าย 65 เพิ่มปีละ 5%",null,null,null,null,null,3600000]
[null,null,"กฟส.บึงสามพัน ขอตั้งงบประมาณปี 2567",null,null,null,null,null,2000000]
[null,null,"กฟส.ศรีเทพ ขอตั้งงบประมาณปี 2567 จากค่าใช้จ่าย 65 เพิ่มปีละ 5%",null,null,null,null,null,1900000]
[]
[]
[53010080,{"$f":"IF(A76=\"\",\"<< กรอกรหัสบัญชี\",IFERROR(VLOOKUP(A76,'E001'!A:L,4,0),\"ไม่มีรหัสบัญชีนี้\"))","v":"ค่าแรงคนงานรายวันงานบริการ/ค่าจ้างเหมางานมิเตอร์"},null,null,null,null,null,{"$f":"IF(COUNTIF(A:A,A76)>1,\"รหัสบัญชีซ้ำ โปรดตรวจสอบ\",\"\")","v":""},null,{"$f":"ROUNDUP(SUBTOTAL(109,I75:I82),-1)","v":3085000}]
[null,"รายละเอียด"]
[null,null,"กฟอ.นผ. พิจารณาจากจำนวนคนงาน ผมต. 4 คน ทำงาน 313 วัน/ปี และค่าตอบแทนผู้รับเหมา",null,null,null,null,null,900000]
[null,null,"กฟส.วิเชียรบุรี และ กฟย.พุเตย ขอตั้งงบประมาณปี 2567 จากค่าใช้จ่าย 65 เพิ่มปีละ 5%",null,null,null,null,null,1135000]
[null,null,"กฟส.บึงสามพัน ขอตั้งงบประมาณปี 2567",null,null,null,null,null,650000]
[null,null,"กฟส.ศรีเทพ ขอตั้งงบประมาณปี 2567 จากค่าใช้จ่าย 65 เพิ่มปีละ 5%",null,null,null,null,null,400000]
[]
[]
[53010090,{"$f":"IF(A84=\"\",\"<< กรอกรหัสบัญชี\",IFERROR(VLOOKUP(A84,'E001'!A:L,4,0),\"ไม่มีรหัสบัญชีนี้\"))","v":"ค่าแรง/ค่าจ้างเหมาคนงานรายวันทั่วไป"},null,null,null,null,null,{"$f":"IF(COUNTIF(A:A,A84)>1,\"รหัสบัญชีซ้ำ โปรดตรวจสอบ\",\"\")","v":""},null,{"$f":"ROUNDUP(SUBTOTAL(109,I83:I90),-1)","v":6575000}]
[null,"รายละเอียด"]
[null,null,"กฟอ.หนองไผ่ พิจารณาขอตั้งงบประมาณปี 2567",null,null,null,null,null,2975000]
[null,null,"กฟส.วิเชียรบุรี และ กฟย.พุเตย ขอตั้งงบประมาณปี 2567 จากค่าใช้จ่าย 65 เพิ่มปีละ 5%",null,null,null,null,null,1730000]
[null,null,"กฟส.บึงสามพัน ขอตั้งงบประมาณปี 2567",null,null,null,null,null,970000]
[null,null,"กฟส.ศรีเทพ ขอตั้งงบประมาณปี 2567 จากค่าใช้จ่าย 65 เพิ่มปีละ 5%",null,null,null,null,null,900000]
[]
[]
[53010100,{"$f":"IF(A92=\"\",\"<< กรอกรหัสบัญชี\",IFERROR(VLOOKUP(A92,'E001'!A:L,4,0),\"ไม่มีรหัสบัญชีนี้\"))","v":"ค่าจ้างส่งหนังสือแจ้งเตือนก่อนงดจ่ายไฟฟ้า"},null,null,null,null,null,{"$f":"IF(COUNTIF(A:A,A92)>1,\"รหัสบัญชีซ้ำ โปรดตรวจสอบ\",\"\")","v":""},null,{"$f":"ROUNDUP(SUBTOTAL(109,I91:I98),-1)","v":2100000}]
[null,"รายละเอียด"]
[null,null,"กฟอ.นผ. พิจารณาของบจากค่าใช้จ่ายปี 65",null,null,null,null,null,500000]
[null,null,"กฟส.วิเชียรบุรี และ กฟย.พุเตย ขอตั้งงบประมาณปี 2567 ประมาณ 4000 รายต่อเดือน @10 บาท",null,null,null,null,null,400000]
[null,null,"กฟส.บึงสามพัน ขอตั้งงบประมาณปี 2567",null,null,null,null,null,600000]
[null,null,"กฟส.ศรีเทพ ขอตั้งงบประมาณปี 2567 จากค่าใช้จ่าย 65 เพิ่มปีละ 5% ",null,null,null,null,null,600000]
[]
[]
[53011010,{"$f":"IF(A100=\"\",\"<< กรอกรหัสบัญชี\",IFERROR(VLOOKUP(A100,'E001'!A:L,4,0),\"ไม่มีรหัสบัญชีนี้\"))","v":"ค่าตอบแทนรายเดือน-ผวก."},null,null,null,null,null,{"$f":"IF(COUNTIF(A:A,A100)>1,\"รหัสบัญชีซ้ำ โปรดตรวจสอบ\",\"\")","v":""},null,{"$f":"ROUNDUP(SUBTOTAL(109,I99:I106),-1)","v":0}]
[null,"รายละเอียด"]
[]
[]
[]
[]
[]
[]
[53011020,{"$f":"IF(A108=\"\",\"<< กรอกรหัสบัญชี\",IFERROR(VLOOKUP(A108,'E001'!A:L,4,0),\"ไม่มีรหัสบัญชีนี้\"))","v":"ค่ารับรอง-ผวก."},null,null,null,null,null,{"$f":"IF(COUNTIF(A:A,A108)>1,\"รหัสบัญชีซ้ำ โปรดตรวจสอบ\",\"\")","v":""},null,{"$f":"ROUNDUP(SUBTOTAL(109,I107:I114),-1)","v":0}]
[null,"รายละเอียด"]
[]
[]
[]
[]
[]
[]
[53011030,{"$f":"IF(A116=\"\",\"<< กรอกรหัสบัญชี\",IFERROR(VLOOKUP(A116,'E001'!A:L,4,0),\"ไม่มีรหัสบัญชีนี้\"))","v":"ค่าพาหนะเบี้ยเลี้ยงและที่พัก-ผวก."},null,null,null,null,null,{"$f":"IF(COUNTIF(A:A,A116)>1,\"รหัสบัญชีซ้ำ โปรดตรวจสอบ\",\"\")","v":""},null,{"$f":"ROUNDUP(SUBTOTAL(109,I115:I122),-1)","v":0}]
[null,"รายละเอียด"]
[]
[]
[]
[]
[]
[]
[53011040,{"$f":"IF(A124=\"\",\"<< กรอกรหัสบัญชี\",IFERROR(VLOOKUP(A124,'E001'!A:L,4,0),\"ไม่มีรหัสบัญชีนี้\"))","v":"ค่าใช้จ่ายเกี่ยวกับเครื่องมือสื่อสาร-ผวก."},null,null,null,null,null,{"$f":"IF(COUNTIF(A:A,A124)>1,\"รหัสบัญชีซ้ำ โปรดตรวจสอบ\",\"\")","v":""},null,{"$f":"ROUNDUP(SUBTOTAL(109,I123:I130),-1)","v":0}]
[null,"รายละเอียด"]
[]
[]
[]
[]
[]
[]
[53011990,{"$f":"IF(A132=\"\",\"<< กรอกรหัสบัญชี\",IFERROR(VLOOKUP(A132,'E001'!A:L,4,0),\"ไม่มีรหัสบัญชีนี้\"))","v":"ค่าตอบแทนอื่น-ผวก."},null,null,null,null,null,{"$f":"IF(COUNTIF(A:A,A132)>1,\"รหัสบัญชีซ้ำ โปรดตรวจสอบ\",\"\")","v":""},null,{"$f":"ROUNDUP(SUBTOTAL(109,I131:I138),-1)","v":0}]
[null,"รายละเอียด"]
[]
[]
[]
[]
[]
[]
[53012010,{"$f":"IF(A140=\"\",\"<< กรอกรหัสบัญชี\",IFERROR(VLOOKUP(A140,'E001'!A:L,4,0),\"ไม่มีรหัสบัญชีนี้\"))","v":"ค่าเบี้ยประชุมคณะกรรมการ กฟภ."},null,null,null,null,null,{"$f":"IF(COUNTIF(A:A,A140)>1,\"รหัสบัญชีซ้ำ โปรดตรวจสอบ\",\"\")","v":""},null,{"$f":"ROUNDUP(SUBTOTAL(109,I139:I146),-1)","v":0}]
[null,"รายละเอียด"]
[]
[]
[]
[]
[]
[]
[53012030,{"$f":"IF(A148=\"\",\"<< กรอกรหัสบัญชี\",IFERROR(VLOOKUP(A148,'E001'!A:L,4,0),\"ไม่มีรหัสบัญชีนี้\"))","v":"เงินโบนัสคณะกรรมการ"},null,null,null,null,null,{"$f":"IF(COUNTIF(A:A,A148)>1,\"รหัสบัญชีซ้ำ โปรดตรวจสอบ\",\"\")","v":""},null,{"$f":"ROUNDUP(SUBTOTAL(109,I147:I154),-1)","v":0}]
[null,"รายละเอียด"]
[]
[]
[]
[]
[]
[]
[53012040,{"$f":"IF(A156=\"\",\"<< กรอกรหัสบัญชี\",IFERROR(VLOOKUP(A156,'E001'!A:L,4,0),\"ไม่มีรหัสบัญชีนี้\"))","v":"ค่าตอบแทนรายเดือนคณะกรรมการ กฟภ."},null,null,null,null,null,{"$f":"IF(COUNTIF(A:A,A156)>1,\"รหัสบัญชีซ้ำ โปรดตรวจสอบ\",\"\")","v":""},null,{"$f":"ROUNDUP(SUBTOTAL(109,I155:I162),-1)","v":0}]
[null,"รายละเอียด"]
[]
[]
[]
[]
[]
[]
[53012990,{"$f":"IF(A164=\"\",\"<< กรอกรหัสบัญชี\",IFERROR(VLOOKUP(A164,'E001'!A:L,4,0),\"ไม่มีรหัสบัญชีนี้\"))","v":"ค่าตอบแทนอื่น-คณะกรรมการ กฟภ."},null,null,null,null,null,{"$f":"IF(COUNTIF(A:A,A164)>1,\"รหัสบัญชีซ้ำ โปรดตรวจสอบ\",\"\")","v":""},null,{"$f":"ROUNDUP(SUBTOTAL(109,I163:I170),-1)","v":0}]
[null,"รายละเอียด"]
[]
[]
[]
[]
[]
[]
[53019990,{"$f":"IF(A172=\"\",\"<< กรอกรหัสบัญชี\",IFERROR(VLOOKUP(A172,'E001'!A:L,4,0),\"ไม่มีรหัสบัญชีนี้\"))","v":"ค่าตอบแทนอื่น ๆ"},null,null,null,null,null,{"$f":"IF(COUNTIF(A:A,A172)>1,\"รหัสบัญชีซ้ำ โปรดตรวจสอบ\",\"\")","v":""},null,{"$f":"ROUNDUP(SUBTOTAL(109,I171:I178),-1)","v":0}]
[null,"รายละเอียด"]
[]
[]
[]
[]
[]
[]
[53030010,{"$f":"IF(A180=\"\",\"<< กรอกรหัสบัญชี\",IFERROR(VLOOKUP(A180,'E001'!A:L,4,0),\"ไม่มีรหัสบัญชีนี้\"))","v":"ค่าวัสดุสำนักงาน"},null,null,null,null,null,{"$f":"IF(COUNTIF(A:A,A180)>1,\"รหัสบัญชีซ้ำ โปรดตรวจสอบ\",\"\")","v":""},null,{"$f":"ROUNDUP(SUBTOTAL(109,I179:I186),-1)","v":1149000}]
[null,"รายละเอียด"]
[null,null,"กฟอ.นผ. ประมาการเพิ่ม 10% ของค่าใช้จ่ายเต็มปี ปี 65",null,null,null,null,null,230000]
[null,null,"กฟส.วิเชียรบุรี และ กฟย.พุเตย ขอตั้งงบประมาณปี 2567 จากค่าใช้จ่าย 65 เพิ่มปีละ 5%",null,null,null,null,null,279000]
[null,null,"กฟส.บึงสามพัน ขอตั้งงบประมาณปี 2567",null,null,null,null,null,400000]
[null,null,"กฟส.ศรีเทพ ขอตั้งงบประมาณปี 2567 จากค่าใช้จ่าย 65 เพิ่มปีละ 5%",null,null,null,null,null,240000]
[]
[]
[53030030,{"$f":"IF(A188=\"\",\"<< กรอกรหัสบัญชี\",IFERROR(VLOOKUP(A188,'E001'!A:L,4,0),\"ไม่มีรหัสบัญชีนี้\"))","v":"ค่าวัสดุเบ็ดเตล็ดในสำนักงาน"},null,null,null,null,null,{"$f":"IF(COUNTIF(A:A,A188)>1,\"รหัสบัญชีซ้ำ โปรดตรวจสอบ\",\"\")","v":""},null,{"$f":"ROUNDUP(SUBTOTAL(109,I187:I194),-1)","v":252000}]
[null,"รายละเอียด"]
[null,null,"กฟอ.นผ. ประมาการเพิ่ม 10% ของค่าใช้จ่ายเต็มปี ปี 65",null,null,null,null,null,40000]
[null,null,"กฟส.วิเชียรบุรี และ กฟย.พุเตย ขอตั้งงบประมาณปี 2567 จากค่าใช้จ่าย 65 เพิ่มปีละ 5%",null,null,null,null,null,52000]
[null,null,"กฟส.บึงสามพัน ขอตั้งงบประมาณปี 2567",null,null,null,null,null,100000]
[null,null,"กฟส.ศรีเทพ ขอตั้งงบประมาณปี 2567 จากค่าใช้จ่าย 65 เพิ่มปีละ 5%",null,null,null,null,null,60000]
[]
[]
[53031010,{"$f":"IF(A196=\"\",\"<< กรอกรหัสบัญชี\",IFERROR(VLOOKUP(A196,'E001'!A:L,4,0),\"ไม่มีรหัสบัญชีนี้\"))","v":"ค่าน้ำดื่ม"},null,null,null,null,null,{"$f":"IF(COUNTIF(A:A,A196)>1,\"รหัสบัญชีซ้ำ โปรดตรวจสอบ\",\"\")","v":""},null,{"$f":"ROUNDUP(SUBTOTAL(109,I195:I202),-1)","v":108000}]
[null,"รายละเอียด"]
[null,null,"กฟอ.หนองไผ่ พิจารณาขอตั้งงบประมาณปี 2567",null,null,null,null,null,15000]
[null,null,"กฟส.วิเชียรบุรี และ กฟย.พุเตย ขอตั้งงบประมาณปี 2567 ประมาณการจากจำนวนพนักงาน",null,null,null,null,null,26000]
[null,null,"กฟส.บึงสามพัน ขอตั้งงบประมาณปี 2567",null,null,null,null,null,60000]
[null,null,"กฟส.ศรีเทพ ขอตั้งงบประมาณปี 2567 จากค่าใช้จ่าย 65 เพิ่มปีละ 5%",null,null,null,null,null,7000]
[]
[]
[53031020,{"$f":"IF(A204=\"\",\"<< กรอกรหัสบัญชี\",IFERROR(VLOOKUP(A204,'E001'!A:L,4,0),\"ไม่มีรหัสบัญชีนี้\"))","v":"ค่าน้ำประปา"},null,null,null,null,null,{"$f":"IF(COUNTIF(A:A,A204)>1,\"รหัสบัญชีซ้ำ โปรดตรวจสอบ\",\"\")","v":""},null,{"$f":"ROUNDUP(SUBTOTAL(109,I203:I210),-1)","v":188000}]
[null,"รายละเอียด"]
[null,null,"กฟอ.หนองไผ่ พิจารณาขอตั้งงบประมาณปี 2567",null,null,null,null,null,100000]
[null,null,"กฟส.วิเชียรบุรี และ กฟย.พุเตย ขอตั้งงบประมาณปี 2567 จากค่าใช้จ่าย 65 เพิ่มปีละ 5%",null,null,null,null,null,37000]
[null,null,"กฟส.บึงสามพัน ขอตั้งงบประมาณปี 2567",null,null,null,null,null,36000]
[null,null,"กฟส.ศรีเทพ ขอตั้งงบประมาณปี 2567 จากค่าใช้จ่าย 65 เพิ่มปีละ 5%",null,null,null,null,null,15000]
[]
[]
[53031030,{"$f":"IF(A212=\"\",\"<< กรอกรหัสบัญชี\",IFERROR(VLOOKUP(A212,'E001'!A:L,4,0),\"ไม่มีรหัสบัญชีนี้\"))","v":"ค่าไฟฟ้า"},null,null,null,null,null,{"$f":"IF(COUNTIF(A:A,A212)>1,\"รหัสบัญชีซ้ำ โปรดตรวจสอบ\",\"\")","v":""},null,{"$f":"ROUNDUP(SUBTOTAL(109,I211:I218),-1)","v":1142000}]
[null,"รายละเอียด"]
[null,null,"กฟอ.หนองไผ่ พิจารณาขอตั้งงบประมาณปี 2567",null,null,null,null,null,600000]
[null,null,"กฟส.วิเชียรบุรี และ กฟย.พุเตย ขอตั้งงบประมาณปี 2567 จากค่าใช้จ่าย 65 เพิ่มปีละ 5%",null,null,null,null,null,260000]
[null,null,"กฟส.บึงสามพัน ขอตั้งงบประมาณปี 2567",null,null,null,null,null,132000]
[null,null,"กฟส.ศรีเทพ ขอตั้งงบประมาณปี 2567 จากค่าใช้จ่าย 65 เพิ่มปีละ 5%",null,null,null,null,null,150000]
[]
[]
[53032010,{"$f":"IF(A220=\"\",\"<< กรอกรหัสบัญชี\",IFERROR(VLOOKUP(A220,'E001'!A:L,4,0),\"ไม่มีรหัสบัญชีนี้\"))","v":"ค่าใช้บริการโทรศัพท์"},null,null,null,null,null,{"$f":"IF(COUNTIF(A:A,A220)>1,\"รหัสบัญชีซ้ำ โปรดตรวจสอบ\",\"\")","v":""},null,{"$f":"ROUNDUP(SUBTOTAL(109,I219:I226),-1)","v":83000}]
[null,"รายละเอียด"]
[null,null,"กฟอ.หนองไผ่ พิจารณาขอตั้งงบประมาณปี 2567",null,null,null,null,null,60000]
[null,null,"กฟส.วิเชียรบุรี และ กฟย.พุเตย ขอตั้งงบประมาณปี 2567 จากค่าใช้จ่าย 65 เพิ่มปีละ 5%",null,null,null,null,null,3000]
[null,null,"กฟส.บึงสามพัน ขอตั้งงบประมาณปี 2567",null,null,null,null,null,15000]
[null,null,"กฟส.ศรีเทพ ขอตั้งงบประมาณปี 2567 จากค่าใช้จ่าย 65 เพิ่มปีละ 5%",null,null,null,null,null,5000]
[]
[]
[53032020,{"$f":"IF(A228=\"\",\"<< กรอกรหัสบัญชี\",IFERROR(VLOOKUP(A228,'E001'!A:L,4,0),\"ไม่มีรหัสบัญชีนี้\"))","v":"ค่าบำรุงรักษาคู่สายโทรศัพท์"},null,null,null,null,null,{"$f":"IF(COUNTIF(A:A,A228)>1,\"รหัสบัญชีซ้ำ โปรดตรวจสอบ\",\"\")","v":""},null,{"$f":"ROUNDUP(SUBTOTAL(109,I227:I234),-1)","v":45000}]
[null,"รายละเอียด"]
[null,null,"กฟอ.หนองไผ่ พิจารณาขอตั้งงบประมาณปี 2567",null,null,null,null,null,20000]
[null,null,"กฟส.วิเชียรบุรี และ กฟย.พุเตย ขอตั้งงบประมาณปี 2567 จากค่าใช้จ่าย 65 เพิ่มปีละ 5%",null,null,null,null,null,9000]
[null,null,"กฟส.บึงสามพัน ขอตั้งงบประมาณปี 2567",null,null,null,null,null,10000]
[null,null,"กฟส.ศรีเทพ ขอตั้งงบประมาณปี 2567 จากค่าใช้จ่าย 65 เพิ่มปีละ 5%",null,null,null,null,null,6000]
[]
[]
[53032030,{"$f":"IF(A236=\"\",\"<< กรอกรหัสบัญชี\",IFERROR(VLOOKUP(A236,'E001'!A:L,4,0),\"ไม่มีรหัสบัญชีนี้\"))","v":"ค่าบริการโทรศัพท์เคลื่อนที่"},null,null,null,null,null,{"$f":"IF(COUNTIF(A:A,A236)>1,\"รหัสบัญชีซ้ำ โปรดตรวจสอบ\",\"\")","v":""},null,{"$f":"ROUNDUP(SUBTOTAL(109,I235:I242),-1)","v":0}]
[null,"รายละเอียด"]
[]
[]
[]
[]
[]
[]
[53032050,{"$f":"IF(A244=\"\",\"<< กรอกรหัสบัญชี\",IFERROR(VLOOKUP(A244,'E001'!A:L,4,0),\"ไม่มีรหัสบัญชีนี้\"))","v":"ค่าเช่าวงจรสื่อสาร"},null,null,null,null,null,{"$f":"IF(COUNTIF(A:A,A244)>1,\"รหัสบัญชีซ้ำ โปรดตรวจสอบ\",\"\")","v":""},null,{"$f":"ROUNDUP(SUBTOTAL(109,I243:I250),-1)","v":5000}]
[null,"รายละเอียด"]
[null,null,"กฟส.ศรีเทพ ขอตั้งงบประมาณปี 2567 ประมาณการจากค่าใช้จ่ายจริงปี 65",null,null,null,null,null,5000]
[]
[]
[]
[]
[]
[53032060,{"$f":"IF(A252=\"\",\"<< กรอกรหัสบัญชี\",IFERROR(VLOOKUP(A252,'E001'!A:L,4,0),\"ไม่มีรหัสบัญชีนี้\"))","v":"ค่าจัดส่งเอกสารและพัสดุภัณฑ์"},null,null,null,null,null,{"$f":"IF(COUNTIF(A:A,A252)>1,\"รหัสบัญชีซ้ำ โปรดตรวจสอบ\",\"\")","v":""},null,{"$f":"ROUNDUP(SUBTOTAL(109,I251:I258),-1)","v":108500}]
[null,"รายละเอียด"]
[null,null,"กฟอ.หนองไผ่ พิจารณาขอตั้งงบประมาณปี 2567",null,null,null,null,null,20000]
[null,null,"กฟส.วิเชียรบุรี และ กฟย.พุเตย ขอตั้งงบประมาณปี 2567 จากค่าใช้จ่าย 65 เพิ่มปีละ 5%",null,null,null,null,null,13500]
[null,null,"กฟส.บึงสามพัน ขอตั้งงบประมาณปี 2567",null,null,null,null,null,25000]
[null,null,"กฟส.ศรีเทพ ขอตั้งงบประมาณปี 2567",null,null,null,null,null,50000]
[]
[]
[53032070,{"$f":"IF(A260=\"\",\"<< กรอกรหัสบัญชี\",IFERROR(VLOOKUP(A260,'E001'!A:L,4,0),\"ไม่มีรหัสบัญชีนี้\"))","v":"ค่าติดตั้งอุปกรณ์สื่อสาร"},null,null,null,null,null,{"$f":"IF(COUNTIF(A:A,A260)>1,\"รหัสบัญชีซ้ำ โปรดตรวจสอบ\",\"\")","v":""},null,{"$f":"ROUNDUP(SUBTOTAL(109,I259:I266),-1)","v":0}]
[null,"รายละเอียด"]
[]
[]
[]
[]
[]
[]
[53032080,{"$f":"IF(A268=\"\",\"<< กรอกรหัสบัญชี\",IFERROR(VLOOKUP(A268,'E001'!A:L,4,0),\"ไม่มีรหัสบัญชีนี้\"))","v":"ค่าใช้จ่ายในการใช้อินเตอร์เน็ต"},null,null,null,null,null,{"$f":"IF(COUNTIF(A:A,A268)>1,\"รหัสบัญชีซ้ำ โปรดตรวจสอบ\",\"\")","v":""},null,{"$f":"ROUNDUP(SUBTOTAL(109,I267:I274),-1)","v":36000}]
[null,"รายละเอียด"]
[null,null,"กฟอ.หนองไผ่ พิจารณาขอตั้งงบประมาณปี 2567",null,null,null,null,null,8000]
[null,null,"กฟส.วิเชียรบุรี และ กฟย.พุเตย ขอตั้งงบประมาณปี 2567 จากค่าใช้จ่าย 65 เพิ่มปีละ 5%",null,null,null,null,null,18000]
[null,null,"กฟส.บึงสามพัน ขอตั้งงบประมาณปี 2567",null,null,null,null,null,0]
[null,null,"กฟส.ศรีเทพ ขอตั้งงบประมาณปี 2567",null,null,null,null,null,10000]
[]
[]
[53032990,{"$f":"IF(A276=\"\",\"<< กรอกรหัสบัญชี\",IFERROR(VLOOKUP(A276,'E001'!A:L,4,0),\"ไม่มีรหัสบัญชีนี้\"))","v":"ค่าใช้จ่ายในการติดต่อสื่อสารประเภทอี่น"},null,null,null,null,null,{"$f":"IF(COUNTIF(A:A,A276)>1,\"รหัสบัญชีซ้ำ โปรดตรวจสอบ\",\"\")","v":""},null,{"$f":"ROUNDUP(SUBTOTAL(109,I275:I282),-1)","v":10500}]
[null,"รายละเอียด"]
[null,null,"กฟอ.หนองไผ่ พิจารณาขอตั้งงบประมาณปี 2567",null,null,null,null,null,0]
[null,null,"กฟส.วิเชียรบุรี และ กฟย.พุเตย ขอตั้งงบประมาณปี 2567 จากค่าใช้จ่าย 65 เพิ่มปีละ 5%",null,null,null,null,null,10500]
[null,null,"กฟส.บึงสามพัน ขอตั้งงบประมาณปี 2567",null,null,null,null,null,0]
[null,null,"กฟส.ศรีเทพ ขอตั้งงบประมาณปี 2567",null,null,null,null,null,0]
[]
[]
[53033010,{"$f":"IF(A284=\"\",\"<< กรอกรหัสบัญชี\",IFERROR(VLOOKUP(A284,'E001'!A:L,4,0),\"ไม่มีรหัสบัญชีนี้\"))","v":"ค่าเช่าที่ดิน"},null,null,null,null,null,{"$f":"IF(COUNTIF(A:A,A284)>1,\"รหัสบัญชีซ้ำ โปรดตรวจสอบ\",\"\")","v":""},null,{"$f":"ROUNDUP(SUBTOTAL(109,I283:I290),-1)","v":0}]
[null,"รายละเอียด"]
[null,null,"กฟอ.นผ. ไม่ขอตั้งงบประมาณ เพราะเช่าที่ดินกองเสาดำเนินการรูปแบบสัญญาเช่าแล้ว",null,null,null,null,null,0]
[]
[]
[]
[]
[]
[53033020,{"$f":"IF(A292=\"\",\"<< กรอกรหัสบัญชี\",IFERROR(VLOOKUP(A292,'E001'!A:L,4,0),\"ไม่มีรหัสบัญชีนี้\"))","v":"ค่าเช่าสิ่งปลูกสร้าง"},null,null,null,null,null,{"$f":"IF(COUNTIF(A:A,A292)>1,\"รหัสบัญชีซ้ำ โปรดตรวจสอบ\",\"\")","v":""},null,{"$f":"ROUNDUP(SUBTOTAL(109,I291:I298),-1)","v":0}]
[null,"รายละเอียด"]
[]
[]
[]
[]
[]
[]
[53033030,{"$f":"IF(A300=\"\",\"<< กรอกรหัสบัญชี\",IFERROR(VLOOKUP(A300,'E001'!A:L,4,0),\"ไม่มีรหัสบัญชีนี้\"))","v":"ค่าเช่าเครื่องคอมพิวเตอร์"},null,null,null,null,null,{"$f":"IF(COUNTIF(A:A,A300)>1,\"รหัสบัญชีซ้ำ โปรดตรวจสอบ\",\"\")","v":""},null,{"$f":"ROUNDUP(SUBTOTAL(109,I299:I306),-1)","v":0}]
[null,"รายละเอียด"]
[]
[]
[]
[]
[]
[]
[53033040,{"$f":"IF(A308=\"\",\"<< กรอกรหัสบัญชี\",IFERROR(VLOOKUP(A308,'E001'!A:L,4,0),\"ไม่มีรหัสบัญชีนี้\"))","v":"ค่าเช่าเครื่องถ่ายเอกสาร"},null,null,null,null,null,{"$f":"IF(COUNTIF(A:A,A308)>1,\"รหัสบัญชีซ้ำ โปรดตรวจสอบ\",\"\")","v":""},null,{"$f":"ROUNDUP(SUBTOTAL(109,I307:I314),-1)","v":0}]
[null,"รายละเอียด"]
[]
[]
[]
[]
[]
[]
[53033060,{"$f":"IF(A316=\"\",\"<< กรอกรหัสบัญชี\",IFERROR(VLOOKUP(A316,'E001'!A:L,4,0),\"ไม่มีรหัสบัญชีนี้\"))","v":"ค่าเช่าโปรแกรมสำเร็จรูป"},null,null,null,null,null,{"$f":"IF(COUNTIF(A:A,A316)>1,\"รหัสบัญชีซ้ำ โปรดตรวจสอบ\",\"\")","v":""},null,{"$f":"ROUNDUP(SUBTOTAL(109,I315:I322),-1)","v":0}]
[null,"รายละเอียด"]
[]
[]
[]
[]
[]
[]
[53033070,{"$f":"IF(A324=\"\",\"<< กรอกรหัสบัญชี\",IFERROR(VLOOKUP(A324,'E001'!A:L,4,0),\"ไม่มีรหัสบัญชีนี้\"))","v":"ค่าเช่าเครื่องบันทึกข้อมูลการเดินทางของรถ"},null,null,null,null,null,{"$f":"IF(COUNTIF(A:A,A324)>1,\"รหัสบัญชีซ้ำ โปรดตรวจสอบ\",\"\")","v":""},null,{"$f":"ROUNDUP(SUBTOTAL(109,I323:I330),-1)","v":6000}]
[null,"รายละเอียด"]
[null,null,"กฟส.ศรีเทพ ขอตั้งงบประมาณปี 67 สำหรับรถยนต์หมายเลขทะเบียน 80-9221 พช 1 คัน",null,null,null,null,null,6000]
[]
[]
[]
[]
[]
[53033990,{"$f":"IF(A332=\"\",\"<< กรอกรหัสบัญชี\",IFERROR(VLOOKUP(A332,'E001'!A:L,4,0),\"ไม่มีรหัสบัญชีนี้\"))","v":"ค่าเช่าสินทรัพย์อื่นๆ "},null,null,null,null,null,{"$f":"IF(COUNTIF(A:A,A332)>1,\"รหัสบัญชีซ้ำ โปรดตรวจสอบ\",\"\")","v":""},null,{"$f":"ROUNDUP(SUBTOTAL(109,I331:I338),-1)","v":0}]
[null,"รายละเอียด"]
[]
[]
[]
[]
[]
[]
[53034010,{"$f":"IF(A340=\"\",\"<< กรอกรหัสบัญชี\",IFERROR(VLOOKUP(A340,'E001'!A:L,4,0),\"ไม่มีรหัสบัญชีนี้\"))","v":"ค่าจ้างเหมาทำความสะอาด"},null,null,null,null,null,{"$f":"IF(COUNTIF(A:A,A340)>1,\"รหัสบัญชีซ้ำ โปรดตรวจสอบ\",\"\")","v":""},null,{"$f":"ROUNDUP(SUBTOTAL(109,I339:I346),-1)","v":719550}]
[null,"รายละเอียด"]
[null,null,"กฟอ.หนองไผ่ พิจารณาขอตั้งงบประมาณปี 2567",null,null,null,null,null,300000]
[null,null,"กฟส.วิเชียรบุรี และ กฟย.พุเตย ขอตั้งงบประมาณปี 2567 จากค่าใช้จ่าย 65 เพิ่มปีละ 5%",null,null,null,null,null,155550]
[null,null,"กฟส.บึงสามพัน ขอตั้งงบประมาณปี 2567",null,null,null,null,null,150000]
[null,null,"กฟส.ศรีเทพ ขอตั้งงบประมาณปี 2567",null,null,null,null,null,114000]
[]
[]
[53034020,{"$f":"IF(A348=\"\",\"<< กรอกรหัสบัญชี\",IFERROR(VLOOKUP(A348,'E001'!A:L,4,0),\"ไม่มีรหัสบัญชีนี้\"))","v":"ค่ารักษาความปลอดภัย"},null,null,null,null,null,{"$f":"IF(COUNTIF(A:A,A348)>1,\"รหัสบัญชีซ้ำ โปรดตรวจสอบ\",\"\")","v":""},null,{"$f":"ROUNDUP(SUBTOTAL(109,I347:I354),-1)","v":2468000}]
[null,"รายละเอียด"]
[null,null,"กฟอ.หนองไผ่ พิจารณาขอตั้งงบประมาณปี 2567",null,null,null,null,null,984000]
[null,null,"กฟส.วิเชียรบุรี และ กฟย.พุเตย ขอตั้งงบประมาณปี 2567",null,null,null,null,null,492000]
[null,null,"กฟส.บึงสามพัน ขอตั้งงบประมาณปี 2567",null,null,null,null,null,500000]
[null,null,"กฟส.ศรีเทพ ขอตั้งงบประมาณปี 2567",null,null,null,null,null,492000]
[]
[]
[53034030,{"$f":"IF(A356=\"\",\"<< กรอกรหัสบัญชี\",IFERROR(VLOOKUP(A356,'E001'!A:L,4,0),\"ไม่มีรหัสบัญชีนี้\"))","v":"ค่าจ้างบำรุงรักษาสวน"},null,null,null,null,null,{"$f":"IF(COUNTIF(A:A,A356)>1,\"รหัสบัญชีซ้ำ โปรดตรวจสอบ\",\"\")","v":""},null,{"$f":"ROUNDUP(SUBTOTAL(109,I355:I362),-1)","v":64000}]
[null,"รายละเอียด"]
[null,null,"กฟอ.หนองไผ่ พิจารณาขอตั้งงบประมาณปี 2567",null,null,null,null,null,20000]
[null,null,"กฟส.วิเชียรบุรี และ กฟย.พุเตย ขอตั้งงบประมาณปี 2567",null,null,null,null,null,10000]
[null,null,"กฟส.บึงสามพัน ขอตั้งงบประมาณปี 2567",null,null,null,null,null,10000]
[null,null,"กฟส.ศรีเทพ ขอตั้งงบประมาณปี 2567",null,null,null,null,null,24000]
[]
[]
[53034040,{"$f":"IF(A364=\"\",\"<< กรอกรหัสบัญชี\",IFERROR(VLOOKUP(A364,'E001'!A:L,4,0),\"ไม่มีรหัสบัญชีนี้\"))","v":"ค่าบำรุงรักษาบริเวณสำนักงาน"},null,null,null,null,null,{"$f":"IF(COUNTIF(A:A,A364)>1,\"รหัสบัญชีซ้ำ โปรดตรวจสอบ\",\"\")","v":""},null,{"$f":"ROUNDUP(SUBTOTAL(109,I363:I370),-1)","v":220000}]
[null,"รายละเอียด"]
[null,null,"กฟอ.หนองไผ่ พิจารณาขอตั้งงบประมาณปี 2567",null,null,null,null,null,60000]
[null,null,"กฟส.วิเชียรบุรี และ กฟย.พุเตย ขอตั้งงบประมาณปี 2567 และมีค่าใช้จ่ายเกี่ยวกับถังดับเพลิงเพิ่มอีก 25,000",null,null,null,null,null,110000]
[null,null,"กฟส.บึงสามพัน ขอตั้งงบประมาณปี 2567 และมีค่าใช้จ่ายเกี่ยวกับถังดับเพลิงเพิ่มอีก 12,500",null,null,null,null,null,20000]
[null,null,"กฟส.ศรีเทพ ขอตั้งงบประมาณปี 2567 และมีค่าใช้จ่ายเกี่ยวกับถังดับเพลิงเพิ่มอีก 12,500",null,null,null,null,null,30000]
[]
[]
[53039010,{"$f":"IF(A372=\"\",\"<< โปรดกรอกรหัสบัญชี\",IFERROR(VLOOKUP(A372,'E001'!A:L,4,0),\"ไม่มีรหัสบัญชีนี้\"))","v":"ค่าเชื้อเพลิงยานพาหนะ"},null,null,null,null,null,{"$f":"IF(COUNTIF(A:A,A372)>1,\"รหัสบัญชีซ้ำ โปรดตรวจสอบ\",\"\")","v":""},null,{"$f":"ROUNDUP(SUBTOTAL(109,I371:I379),-1)","v":7035000}]
[null,"หลักเกณฑ์:","ประมาณการลิตรละ 29 บาท"]
[null,null,"ประมาณการปริมาณเชื้อเพลิงที่หน่วยงานคาดว่าจะใช้",null,null,null,{"$f":"Cover!H138","v":201000},"ลิตร"]
[null,null,"อัตราค่าใช้จ่าย",null,null,null,{"$f":"Rate!E75","v":35},"บาท",{"$f":"G374*G375","v":7035000}]
[null,"รายละเอียด"]
[]
[]
[]
[]
[53039020,{"$f":"IF(A381=\"\",\"<< กรอกรหัสบัญชี\",IFERROR(VLOOKUP(A381,'E001'!A:L,4,0),\"ไม่มีรหัสบัญชีนี้\"))","v":"ค่าหนังสือและสื่อความรู้"},null,null,null,null,null,{"$f":"IF(COUNTIF(A:A,A381)>1,\"รหัสบัญชีซ้ำ โปรดตรวจสอบ\",\"\")","v":""},null,{"$f":"ROUNDUP(SUBTOTAL(109,I380:I387),-1)","v":11000}]
[null,"รายละเอียด"]
[null,null,"กฟอ.หนองไผ่ พิจารณาขอตั้งงบประมาณปี 2567",null,null,null,null,null,3000]
[null,null,"กฟส.วิเชียรบุรี และ กฟย.พุเตย ขอตั้งงบประมาณปี 2567",null,null,null,null,null,4000]
[null,null,"กฟส.บึงสามพัน ขอตั้งงบประมาณปี 2567",null,null,null,null,null,0]
[null,null,"กฟส.ศรีเทพ ขอตั้งงบประมาณปี 2567",null,null,null,null,null,4000]
[]
[]
[53039990,{"$f":"IF(A389=\"\",\"<< กรอกรหัสบัญชี\",IFERROR(VLOOKUP(A389,'E001'!A:L,4,0),\"ไม่มีรหัสบัญชีนี้\"))","v":"ค่าใช้จ่ายเบ็ดเตล็ด"},null,null,null,null,null,{"$f":"IF(COUNTIF(A:A,A389)>1,\"รหัสบัญชีซ้ำ โปรดตรวจสอบ\",\"\")","v":""},null,{"$f":"ROUNDUP(SUBTOTAL(109,I388:I395),-1)","v":100000}]
[null,"รายละเอียด"]
[null,null,"กฟอ.หนองไผ่ พิจารณาขอตั้งงบประมาณปี 2567",null,null,null,null,null,40000]
[null,null,"กฟส.วิเชียรบุรี และ กฟย.พุเตย ขอตั้งงบประมาณปี 2567",null,null,null,null,null,10000]
[null,null,"กฟส.บึงสามพัน ขอตั้งงบประมาณปี 2567",null,null,null,null,null,30000]
[null,null,"กฟส.ศรีเทพ ขอตั้งงบประมาณปี 2567",null,null,null,null,null,20000]
[]
[]
[53051010,{"$f":"IF(A397=\"\",\"<< กรอกรหัสบัญชี\",IFERROR(VLOOKUP(A397,'E001'!A:L,4,0),\"ไม่มีรหัสบัญชีนี้\"))","v":"ค่าวัสดุเบิกจากคลังเพื่อซ่อมแซม บำรุงรักษาและบริการ"},null,null,null,null,null,{"$f":"IF(COUNTIF(A:A,A397)>1,\"รหัสบัญชีซ้ำ โปรดตรวจสอบ\",\"\")","v":""},null,{"$f":"ROUNDUP(SUBTOTAL(109,I396:I403),-1)","v":1000000}]
[null,"รายละเอียด"]
[null,null,"กฟอ.หนองไผ่ พิจารณาขอตั้งงบประมาณปี 2567"]
[null,null,"กฟส.วิเชียรบุรี และ กฟย.พุเตย ขอตั้งงบประมาณปี 2567"]
[null,null,"กฟส.บึงสามพัน ขอตั้งงบประมาณปี 2567"]
[null,null,"กฟส.ศรีเทพ ขอตั้งงบประมาณปี 2567",null,null,null,null,null,1000000]
[]
[]
[53051030,{"$f":"IF(A405=\"\",\"<< กรอกรหัสบัญชี\",IFERROR(VLOOKUP(A405,'E001'!A:L,4,0),\"ไม่มีรหัสบัญชีนี้\"))","v":"ค่าซ่อมแซมบำรุงรักษา-ระบบไฟฟ้าและระบบควบคุม"},null,null,null,null,null,{"$f":"IF(COUNTIF(A:A,A405)>1,\"รหัสบัญชีซ้ำ โปรดตรวจสอบ\",\"\")","v":""},null,{"$f":"ROUNDUP(SUBTOTAL(109,I404:I411),-1)","v":105000}]
[null,"รายละเอียด"]
[null,null,"กฟอ.หนองไผ่ พิจารณาขอตั้งงบประมาณปี 2567",null,null,null,null,null,30000]
[null,null,"กฟส.วิเชียรบุรี และ กฟย.พุเตย ขอตั้งงบประมาณปี 2567",null,null,null,null,null,0]
[null,null,"กฟส.บึงสามพัน ขอตั้งงบประมาณปี 2567",null,null,null,null,null,0]
[null,null,"กฟส.ศรีเทพ ขอตั้งงบประมาณปี 2567",null,null,null,null,null,75000]
[]
[]
[53051040,{"$f":"IF(A413=\"\",\"<< กรอกรหัสบัญชี\",IFERROR(VLOOKUP(A413,'E001'!A:L,4,0),\"ไม่มีรหัสบัญชีนี้\"))","v":"ค่าซ่อมแซมบำรุงรักษา-อาคาร"},null,null,null,null,null,{"$f":"IF(COUNTIF(A:A,A413)>1,\"รหัสบัญชีซ้ำ โปรดตรวจสอบ\",\"\")","v":""},null,{"$f":"ROUNDUP(SUBTOTAL(109,I412:I419),-1)","v":320000}]
[null,"รายละเอียด"]
[null,null,"กฟอ.หนองไผ่ พิจารณาขอตั้งงบประมาณปี 2567",null,null,null,null,null,120000]
[null,null,"กฟส.วิเชียรบุรี และ กฟย.พุเตย ขอตั้งงบประมาณปี 2567",null,null,null,null,null,50000]
[null,null,"กฟส.บึงสามพัน ขอตั้งงบประมาณปี 2567",null,null,null,null,null,50000]
[null,null,"กฟส.ศรีเทพ ขอตั้งงบประมาณปี 2567",null,null,null,null,null,100000]
[]
[]
[53051050,{"$f":"IF(A421=\"\",\"<< กรอกรหัสบัญชี\",IFERROR(VLOOKUP(A421,'E001'!A:L,4,0),\"ไม่มีรหัสบัญชีนี้\"))","v":"ค่าซ่อมแซมบำรุงรักษา-ยานพาหนะ"},null,null,null,null,null,{"$f":"IF(COUNTIF(A:A,A421)>1,\"รหัสบัญชีซ้ำ โปรดตรวจสอบ\",\"\")","v":""},null,{"$f":"ROUNDUP(SUBTOTAL(109,I420:I427),-1)","v":1748000}]
[null,"รายละเอียด"]
[null,null,"กฟอ.หนองไผ่ พิจารณาขอตั้งงบประมาณปี 2567",null,null,null,null,null,750000]
[null,null,"กฟส.วิเชียรบุรี และ กฟย.พุเตย ขอตั้งงบประมาณปี 2567",null,null,null,null,null,498000]
[null,null,"กฟส.บึงสามพัน ขอตั้งงบประมาณปี 2567",null,null,null,null,null,300000]
[null,null,"กฟส.ศรีเทพ ขอตั้งงบประมาณปี 2567",null,null,null,null,null,200000]
[]
[]
[53051060,{"$f":"IF(A429=\"\",\"<< โปรดกรอกรหัสบัญชี\",IFERROR(VLOOKUP(A429,'E001'!A:L,4,0),\"ไม่มีรหัสบัญชีนี้\"))","v":"ค่าซ่อมแซมบำรุงรักษา-คอมฯ&อุปกรณ์ต่อพ่วง"},null,null,null,null,null,{"$f":"IF(COUNTIF(A:A,A429)>1,\"รหัสบัญชีซ้ำ โปรดตรวจสอบ\",\"\")","v":""},null,{"$f":"ROUNDUP(SUBTOTAL(109,I428:I442),-1)","v":133920}]
[null,"หลักเกณฑ์:","พิจารณาจากอุปกรณ์ที่หมดระยะเวลารับประกันโดยประมาณการ 120 บาท/ เครื่อง/ เดือน"]
[null,null,"(Computer/ Notebook/ Printer/ Scaner) อุปกรณ์อื่นๆ ตั้งงบประมาณตามความเหมาะสม"]
[]
[null,null,"อุปกรณ์ที่หมดระยะเวลาประกัน",null,null,null,{"$f":"Cover!C147","v":93},"เครื่อง"]
[null,null,"อัตราค่าใช้จ่าย",null,null,null,{"$f":"Rate!E74","v":120},"บาท"]
[null,null,"จำนวนเดือน",null,null,null,12,"เดือน",{"$f":"G433*G434*G435","v":133920}]
[]
[null,null,"อุปกรณ์อื่นๆ (รวมถึงอุปกรณ์ที่หมดระยะเวลาประกันระหว่างปี) (ถ้ามี)"]
[]
[]
[]
[]
[]
[]
[53051070,{"$f":"IF(A444=\"\",\"<< กรอกรหัสบัญชี\",IFERROR(VLOOKUP(A444,'E001'!A:L,4,0),\"ไม่มีรหัสบัญชีนี้\"))","v":"ค่าปรับปรุงระบบจำหน่ายที่พระตำหนัก"},null,null,null,null,null,{"$f":"IF(COUNTIF(A:A,A444)>1,\"รหัสบัญชีซ้ำ โปรดตรวจสอบ\",\"\")","v":""},null,{"$f":"ROUNDUP(SUBTOTAL(109,I443:I450),-1)","v":0}]
[null,"รายละเอียด"]
[]
[]
[]
[]
[]
[]
[53051090,{"$f":"IF(A452=\"\",\"<< กรอกรหัสบัญชี\",IFERROR(VLOOKUP(A452,'E001'!A:L,4,0),\"ไม่มีรหัสบัญชีนี้\"))","v":"ค่าวัสดุเบ็ดเตล็ดด้านช่าง"},null,null,null,null,null,{"$f":"IF(COUNTIF(A:A,A452)>1,\"รหัสบัญชีซ้ำ โปรดตรวจสอบ\",\"\")","v":""},null,{"$f":"ROUNDUP(SUBTOTAL(109,I451:I458),-1)","v":250000}]
[null,"รายละเอียด"]
[null,null,"กฟอ.หนองไผ่ พิจารณาขอตั้งงบประมาณปี 2567",null,null,null,null,null,140000]
[null,null,"กฟส.วิเชียรบุรี และ กฟย.พุเตย ขอตั้งงบประมาณปี 2567",null,null,null,null,null,30000]
[null,null,"กฟส.บึงสามพัน ขอตั้งงบประมาณปี 2567",null,null,null,null,null,40000]
[null,null,"กฟส.ศรีเทพ ขอตั้งงบประมาณปี 2567",null,null,null,null,null,40000]
[]
[]
[53051100,{"$f":"IF(A460=\"\",\"<< กรอกรหัสบัญชี\",IFERROR(VLOOKUP(A460,'E001'!A:L,4,0),\"ไม่มีรหัสบัญชีนี้\"))","v":"ค่าซ่อมแซมบำรุงรักษา-อุปกรณ์ในสำนักงาน"},null,null,null,null,null,{"$f":"IF(COUNTIF(A:A,A460)>1,\"รหัสบัญชีซ้ำ โปรดตรวจสอบ\",\"\")","v":""},null,{"$f":"ROUNDUP(SUBTOTAL(109,I459:I466),-1)","v":297000}]
[null,"รายละเอียด"]
[null,null,"กฟอ.หนองไผ่ พิจารณาขอตั้งงบประมาณปี 2567 รวมค่าบำรุงระบบแจ้งเตือนเพลิงไหม้แล้ว",null,null,null,null,null,60000]
[null,null,"กฟส.วิเชียรบุรี ,กฟย.พุเตย ขอตั้งงบประมาณปี 67 และเพิ่มค่าบำรุงรักษาระบบแจ้งเตือนเพลิงไหม้ 20,000 ",null,null,null,null,null,157000]
[null,null,"กฟส.บึงสามพัน ขอตั้งงบประมาณปี 2567 และเพิ่มค่าบำรุงรักษาระบบแจ้งเตือนเพลิงไหม้ 10,000 ",null,null,null,null,null,30000]
[null,null,"กฟส.ศรีเทพ ขอตั้งงบประมาณปี 2567 และเพิ่มค่าบำรุงรักษาระบบแจ้งเตือนเพลิงไหม้ 10,000 ",null,null,null,null,null,50000]
[]
[]
[53051110,{"$f":"IF(A468=\"\",\"<< กรอกรหัสบัญชี\",IFERROR(VLOOKUP(A468,'E001'!A:L,4,0),\"ไม่มีรหัสบัญชีนี้\"))","v":"ค่าซ่อมแซมบำรุงรักษา-ระบบสื่อสารเคเบิลใยแก้วนำแสง"},null,null,null,null,null,{"$f":"IF(COUNTIF(A:A,A468)>1,\"รหัสบัญชีซ้ำ โปรดตรวจสอบ\",\"\")","v":""},null,{"$f":"ROUNDUP(SUBTOTAL(109,I467:I474),-1)","v":0}]
[null,"รายละเอียด"]
[]
[]
[]
[]
[]
[]
[53051120,{"$f":"IF(A476=\"\",\"<< กรอกรหัสบัญชี\",IFERROR(VLOOKUP(A476,'E001'!A:L,4,0),\"ไม่มีรหัสบัญชีนี้\"))","v":"ค่าอุปกรณ์ความปลอดภัย "},null,null,null,null,null,{"$f":"IF(COUNTIF(A:A,A476)>1,\"รหัสบัญชีซ้ำ โปรดตรวจสอบ\",\"\")","v":""},null,{"$f":"ROUNDUP(SUBTOTAL(109,I475:I482),-1)","v":1300820}]
[null,"รายละเอียด"]
[null,null,"กฟอ.หนองไผ่ พิจารณาขอตั้งงบประมาณปี 2567",null,null,null,null,null,755400]
[null,null,"กฟส.วิเชียรบุรี และ กฟย.พุเตย ขอตั้งงบประมาณปี 2567",null,null,null,null,null,233820]
[null,null,"กฟส.บึงสามพัน ขอตั้งงบประมาณปี 2567",null,null,null,null,null,162800]
[null,null,"กฟส.ศรีเทพ ขอตั้งงบประมาณปี 2567",null,null,null,null,null,148800]
[]
[]
[53051990,{"$f":"IF(A484=\"\",\"<< กรอกรหัสบัญชี\",IFERROR(VLOOKUP(A484,'E001'!A:L,4,0),\"ไม่มีรหัสบัญชีนี้\"))","v":"ค่าซ่อมแซมบำรุงรักษาอื่น ๆ"},null,null,null,null,null,{"$f":"IF(COUNTIF(A:A,A484)>1,\"รหัสบัญชีซ้ำ โปรดตรวจสอบ\",\"\")","v":""},null,{"$f":"ROUNDUP(SUBTOTAL(109,I483:I490),-1)","v":300000}]
[null,"รายละเอียด"]
[null,null,"กฟอ.หนองไผ่ พิจารณาขอตั้งงบประมาณปี 2567 รวมค่าบำรุงเครื่องกระตุกไฟฟ้าหัวใจ 5,000 แล้ว",null,null,null,null,null,215000]
[null,null,"กฟส.วิเชียรบุรี และ กฟย.พุเตย ขอตั้งงบประมาณปี 2567 และเพิ่มค่าบำรุงเครื่องกระตุกไฟฟ้าหัวใจ 5,000",null,null,null,null,null,35000]
[null,null,"กฟส.บึงสามพัน ขอตั้งงบประมาณปี 2567 และเพิ่มค่าบำรุงเครื่องกระตุกไฟฟ้าหัวใจ 5,000",null,null,null,null,null,15000]
[null,null,"กฟส.ศรีเทพ ขอตั้งงบประมาณปี 2567 และเพิ่มค่าบำรุงเครื่องกระตุกไฟฟ้าหัวใจ 5,000",null,null,null,null,null,35000]
[]
[]
[53061010,{"$f":"IF(A492=\"\",\"<< กรอกรหัสบัญชี\",IFERROR(VLOOKUP(A492,'E001'!A:L,4,0),\"ไม่มีรหัสบัญชีนี้\"))","v":"ค่าสอบบัญชี"},null,null,null,null,null,{"$f":"IF(COUNTIF(A:A,A492)>1,\"รหัสบัญชีซ้ำ โปรดตรวจสอบ\",\"\")","v":""},null,{"$f":"ROUNDUP(SUBTOTAL(109,I491:I498),-1)","v":0}]
[null,"รายละเอียด"]
[]
[]
[]
[]
[]
[]
[53062010,{"$f":"IF(A500=\"\",\"<< กรอกรหัสบัญชี\",IFERROR(VLOOKUP(A500,'E001'!A:L,4,0),\"ไม่มีรหัสบัญชีนี้\"))","v":"ค่าเบี้ยประกัน-พนักงาน"},null,null,null,null,null,{"$f":"IF(COUNTIF(A:A,A500)>1,\"รหัสบัญชีซ้ำ โปรดตรวจสอบ\",\"\")","v":""},null,{"$f":"ROUNDUP(SUBTOTAL(109,I499:I506),-1)","v":0}]
[null,"รายละเอียด"]
[]
[]
[]
[]
[]
[]
[53062020,{"$f":"IF(A508=\"\",\"<< กรอกรหัสบัญชี\",IFERROR(VLOOKUP(A508,'E001'!A:L,4,0),\"ไม่มีรหัสบัญชีนี้\"))","v":"ค่าเบี้ยประกัน-ยานพาหนะ"},null,null,null,null,null,{"$f":"IF(COUNTIF(A:A,A508)>1,\"รหัสบัญชีซ้ำ โปรดตรวจสอบ\",\"\")","v":""},null,{"$f":"ROUNDUP(SUBTOTAL(109,I507:I514),-1)","v":192000}]
[null,"รายละเอียด"]
[null,null,"กฟอ.หนองไผ่ ขอตั้งงบประมาณปี 2567",null,null,null,null,null,72000]
[null,null,"กฟส.วิเชียรบุรี และ กฟย.พุเตย ขอตั้งงบประมาณปี 2567",null,null,null,null,null,70000]
[null,null,"กฟส.บึงสามพัน ขอตั้งงบประมาณปี 2567",null,null,null,null,null,20000]
[null,null,"กฟส.ศรีเทพ ขอตั้งงบประมาณปี 2567",null,null,null,null,null,30000]
[]
[]
[53062030,{"$f":"IF(A516=\"\",\"<< กรอกรหัสบัญชี\",IFERROR(VLOOKUP(A516,'E001'!A:L,4,0),\"ไม่มีรหัสบัญชีนี้\"))","v":"ค่าเบี้ยประกัน-สินทรัพย์"},null,null,null,null,null,{"$f":"IF(COUNTIF(A:A,A516)>1,\"รหัสบัญชีซ้ำ โปรดตรวจสอบ\",\"\")","v":""},null,{"$f":"ROUNDUP(SUBTOTAL(109,I515:I522),-1)","v":0}]
[null,"รายละเอียด"]
[]
[]
[]
[]
[]
[]
[53062990,{"$f":"IF(A524=\"\",\"<< กรอกรหัสบัญชี\",IFERROR(VLOOKUP(A524,'E001'!A:L,4,0),\"ไม่มีรหัสบัญชีนี้\"))","v":"ค่าเบี้ยประกันภัยอื่น"},null,null,null,null,null,{"$f":"IF(COUNTIF(A:A,A524)>1,\"รหัสบัญชีซ้ำ โปรดตรวจสอบ\",\"\")","v":""},null,{"$f":"ROUNDUP(SUBTOTAL(109,I523:I530),-1)","v":0}]
[null,"รายละเอียด"]
[]
[]
[]
[]
[]
[]
[53063010,{"$f":"IF(A532=\"\",\"<< กรอกรหัสบัญชี\",IFERROR(VLOOKUP(A532,'E001'!A:L,4,0),\"ไม่มีรหัสบัญชีนี้\"))","v":"ค่ารับรอง"},null,null,null,null,null,{"$f":"IF(COUNTIF(A:A,A532)>1,\"รหัสบัญชีซ้ำ โปรดตรวจสอบ\",\"\")","v":""},null,{"$f":"ROUNDUP(SUBTOTAL(109,I531:I538),-1)","v":60000}]
[null,"รายละเอียด"]
[null,null,"กฟอ.หนองไผ่ พิจารณาขอตั้งงบประมาณปี 2567",null,null,null,null,null,60000]
[]
[]
[]
[]
[]
[53064010,{"$f":"IF(A540=\"\",\"<< กรอกรหัสบัญชี\",IFERROR(VLOOKUP(A540,'E001'!A:L,4,0),\"ไม่มีรหัสบัญชีนี้\"))","v":"ค่าภาษีที่ดินและสิ่งปลูกสร้าง"},null,null,null,null,null,{"$f":"IF(COUNTIF(A:A,A540)>1,\"รหัสบัญชีซ้ำ โปรดตรวจสอบ\",\"\")","v":""},null,{"$f":"ROUNDUP(SUBTOTAL(109,I539:I546),-1)","v":137000}]
[null,"รายละเอียด"]
[null,null,"กฟอ.หนองไผ่ พิจารณาขอตั้งงบประมาณปี 2567",null,null,null,null,null,100000]
[null,null,"กฟส.วิเชียรบุรี และ กฟย.พุเตย ขอตั้งงบประมาณปี 2567",null,null,null,null,null,5000]
[null,null,"กฟส.บึงสามพัน ขอตั้งงบประมาณปี 2567",null,null,null,null,null,12000]
[null,null,"กฟส.ศรีเทพ ขอตั้งงบประมาณปี 2567",null,null,null,null,null,20000]
[]
[]
[53064020,{"$f":"IF(A548=\"\",\"<< กรอกรหัสบัญชี\",IFERROR(VLOOKUP(A548,'E001'!A:L,4,0),\"ไม่มีรหัสบัญชีนี้\"))","v":"ค่าภาษีและค่าธรรมเนียมยานพาหนะ"},null,null,null,null,null,{"$f":"IF(COUNTIF(A:A,A548)>1,\"รหัสบัญชีซ้ำ โปรดตรวจสอบ\",\"\")","v":""},null,{"$f":"ROUNDUP(SUBTOTAL(109,I547:I554),-1)","v":90000}]
[null,"รายละเอียด"]
[null,null,"กฟอ.หนองไผ่ พิจารณาขอตั้งงบประมาณปี 67",null,null,null,null,null,50000]
[null,null,"กฟส.วิเชียรบุรี และ กฟย.พุเตย ขอตั้งงบประมาณปี 2567",null,null,null,null,null,20000]
[null,null,"กฟส.บึงสามพัน ขอตั้งงบประมาณปี 2567",null,null,null,null,null,10000]
[null,null,"กฟส.ศรีเทพ ขอตั้งงบประมาณปี 2567",null,null,null,null,null,10000]
[]
[]
[53069020,{"$f":"IF(A556=\"\",\"<< กรอกรหัสบัญชี\",IFERROR(VLOOKUP(A556,'E001'!A:L,4,0),\"ไม่มีรหัสบัญชีนี้\"))","v":"ค่าขนส่ง ขนย้าย"},null,null,null,null,null,{"$f":"IF(COUNTIF(A:A,A556)>1,\"รหัสบัญชีซ้ำ โปรดตรวจสอบ\",\"\")","v":""},null,{"$f":"ROUNDUP(SUBTOTAL(109,I555:I562),-1)","v":0}]
[null,"รายละเอียด"]
[]
[]
[]
[]
[]
[]
[53069030,{"$f":"IF(A564=\"\",\"<< กรอกรหัสบัญชี\",IFERROR(VLOOKUP(A564,'E001'!A:L,4,0),\"ไม่มีรหัสบัญชีนี้\"))","v":"ค่าจ้างเหมายานพาหนะ/เครื่งจักรกลหนัก"},null,null,null,null,null,{"$f":"IF(COUNTIF(A:A,A564)>1,\"รหัสบัญชีซ้ำ โปรดตรวจสอบ\",\"\")","v":""},null,{"$f":"ROUNDUP(SUBTOTAL(109,I563:I570),-1)","v":0}]
[null,"รายละเอียด"]
[]
[]
[]
[]
[]
[]
[53069060,{"$f":"IF(A572=\"\",\"<< กรอกรหัสบัญชี\",IFERROR(VLOOKUP(A572,'E001'!A:L,4,0),\"ไม่มีรหัสบัญชีนี้\"))","v":"ค่าอากรแสตมป์"},null,null,null,null,null,{"$f":"IF(COUNTIF(A:A,A572)>1,\"รหัสบัญชีซ้ำ โปรดตรวจสอบ\",\"\")","v":""},null,{"$f":"ROUNDUP(SUBTOTAL(109,I571:I578),-1)","v":500}]
[null,"รายละเอียด"]
[null,null,"กฟอ.นผ. พิจารณาขอตั้งงบประมาณปี 67",null,null,null,null,null,0]
[null,null,"กฟส.วิเชียรบุรี และ กฟย.พุเตย ขอตั้งงบประมาณปี 2567",null,null,null,null,null,500]
[null,null,"กฟส.บึงสามพัน ขอตั้งงบประมาณปี 2567",null,null,null,null,null,0]
[null,null,"กฟส.ศรีเทพ ขอตั้งงบประมาณปี 2567",null,null,null,null,null,0]
[]
[]
[53069070,{"$f":"IF(A580=\"\",\"<< กรอกรหัสบัญชี\",IFERROR(VLOOKUP(A580,'E001'!A:L,4,0),\"ไม่มีรหัสบัญชีนี้\"))","v":"ค่าธรรมเนียมธนาคาร"},null,null,null,null,null,{"$f":"IF(COUNTIF(A:A,A580)>1,\"รหัสบัญชีซ้ำ โปรดตรวจสอบ\",\"\")","v":""},null,{"$f":"ROUNDUP(SUBTOTAL(109,I579:I586),-1)","v":53000}]
[null,"รายละเอียด"]
[null,null,"กฟอ.นผ. พิจารณาขอตั้งงบประมาณปี 67",null,null,null,null,null,20000]
[null,null,"กฟส.วิเชียรบุรี และ กฟย.พุเตย ขอตั้งงบประมาณปี 2567",null,null,null,null,null,18000]
[null,null,"กฟส.บึงสามพัน ขอตั้งงบประมาณปี 2567",null,null,null,null,null,5000]
[null,null,"กฟส.ศรีเทพ ขอตั้งงบประมาณปี 2567",null,null,null,null,null,10000]
[]
[]
[53069080,{"$f":"IF(A588=\"\",\"<< กรอกรหัสบัญชี\",IFERROR(VLOOKUP(A588,'E001'!A:L,4,0),\"ไม่มีรหัสบัญชีนี้\"))","v":"ค่าใช้จ่ายดำเนินคดี"},null,null,null,null,null,{"$f":"IF(COUNTIF(A:A,A588)>1,\"รหัสบัญชีซ้ำ โปรดตรวจสอบ\",\"\")","v":""},null,{"$f":"ROUNDUP(SUBTOTAL(109,I587:I594),-1)","v":70000}]
[null,"รายละเอียด"]
[null,null,"กฟอ.หนองไผ่ พิจารณาขอตั้งงบประมาณปี 2567",null,null,null,null,null,10000]
[null,null,"กฟส.วิเชียรบุรี และ กฟย.พุเตย ขอตั้งงบประมาณปี 2567",null,null,null,null,null,10000]
[null,null,"กฟส.บึงสามพัน ขอตั้งงบประมาณปี 2567",null,null,null,null,null,20000]
[null,null,"กฟส.ศรีเทพ ขอตั้งงบประมาณปี 2567",null,null,null,null,null,30000]
[]
[]
[53069090,{"$f":"IF(A596=\"\",\"<< กรอกรหัสบัญชี\",IFERROR(VLOOKUP(A596,'E001'!A:L,4,0),\"ไม่มีรหัสบัญชีนี้\"))","v":"ค่าปรับปรุงที่ดินและสิ่งก่อสร้างที่มิใช่ของ กฟภ."},null,null,null,null,null,{"$f":"IF(COUNTIF(A:A,A596)>1,\"รหัสบัญชีซ้ำ โปรดตรวจสอบ\",\"\")","v":""},null,{"$f":"ROUNDUP(SUBTOTAL(109,I595:I602),-1)","v":0}]
[null,"รายละเอียด"]
[]
[]
[]
[]
[]
[]
[53069110,{"$f":"IF(A604=\"\",\"<< กรอกรหัสบัญชี\",IFERROR(VLOOKUP(A604,'E001'!A:L,4,0),\"ไม่มีรหัสบัญชีนี้\"))","v":"ค่าตรวจสภาพยานพาหนะ"},null,null,null,null,null,{"$f":"IF(COUNTIF(A:A,A604)>1,\"รหัสบัญชีซ้ำ โปรดตรวจสอบ\",\"\")","v":""},null,{"$f":"ROUNDUP(SUBTOTAL(109,I603:I610),-1)","v":2000}]
[null,"รายละเอียด"]
[null,null,"กฟอ.หนองไผ่ พิจารณาขอตั้งงบประมาณปี 2567",null,null,null,null,null,0]
[null,null,"กฟส.วิเชียรบุรี และ กฟย.พุเตย ขอตั้งงบประมาณปี 2567",null,null,null,null,null,0]
[null,null,"กฟส.บึงสามพัน ขอตั้งงบประมาณปี 2567",null,null,null,null,null,1000]
[null,null,"กฟส.ศรีเทพ ขอตั้งงบประมาณปี 2567",null,null,null,null,null,1000]
[]
[]
[53069140,{"$f":"IF(A612=\"\",\"<< กรอกรหัสบัญชี\",IFERROR(VLOOKUP(A612,'E001'!A:L,4,0),\"ไม่มีรหัสบัญชีนี้\"))","v":"ค่าธรรมเนียมประกอบกิจการพลังงาน"},null,null,null,null,null,{"$f":"IF(COUNTIF(A:A,A612)>1,\"รหัสบัญชีซ้ำ โปรดตรวจสอบ\",\"\")","v":""},null,{"$f":"ROUNDUP(SUBTOTAL(109,I611:I618),-1)","v":0}]
[null,"รายละเอียด"]
[]
[]
[]
[]
[]
[]
[53069150,{"$f":"IF(A620=\"\",\"<< กรอกรหัสบัญชี\",IFERROR(VLOOKUP(A620,'E001'!A:L,4,0),\"ไม่มีรหัสบัญชีนี้\"))","v":"ค่าธรรมเนียมธนาคาร- หักบช."},null,null,null,null,null,{"$f":"IF(COUNTIF(A:A,A620)>1,\"รหัสบัญชีซ้ำ โปรดตรวจสอบ\",\"\")","v":""},null,{"$f":"ROUNDUP(SUBTOTAL(109,I619:I626),-1)","v":0}]
[null,"รายละเอียด"]
[]
[]
[]
[]
[]
[]
[53069170,{"$f":"IF(A628=\"\",\"<< กรอกรหัสบัญชี\",IFERROR(VLOOKUP(A628,'E001'!A:L,4,0),\"ไม่มีรหัสบัญชีนี้\"))","v":"ค่าป้องกันและควบคุมโรค"},null,null,null,null,null,{"$f":"IF(COUNTIF(A:A,A628)>1,\"รหัสบัญชีซ้ำ โปรดตรวจสอบ\",\"\")","v":""},null,{"$f":"ROUNDUP(SUBTOTAL(109,I627:I634),-1)","v":104300}]
[null,"รายละเอียด"]
[null,null,"กฟอ.นผ. พิจารณาขอตั้งงบประมาณปี 67",null,null,null,null,null,29000]
[null,null,"กฟส.วร. และ กฟย.พต. พิจาราณาตั้งงบประมาณปี 67",null,null,null,null,null,34100]
[null,null,"กฟส.บงส. พิจารณาตั้งงบประมาณปี 67",null,null,null,null,null,20600]
[null,null,"กฟส.ศท. พิจารณาตั้งงบประมาณปี 67",null,null,null,null,null,20600]
[]
[]
[53069990,{"$f":"IF(A636=\"\",\"<< กรอกรหัสบัญชี\",IFERROR(VLOOKUP(A636,'E001'!A:L,4,0),\"ไม่มีรหัสบัญชีนี้\"))","v":"ค่าใช้จ่ายอื่น"},null,null,null,null,null,{"$f":"IF(COUNTIF(A:A,A636)>1,\"รหัสบัญชีซ้ำ โปรดตรวจสอบ\",\"\")","v":""},null,{"$f":"ROUNDUP(SUBTOTAL(109,I635:I642),-1)","v":140000}]
[null,"รายละเอียด"]
[null,null,"กฟอ.หนองไผ่ พิจารณาขอตั้งงบประมาณปี 2567",null,null,null,null,null,40000]
[null,null,"กฟส.วิเชียรบุรี และ กฟย.พุเตย ขอตั้งงบประมาณปี 2567",null,null,null,null,null,20000]
[null,null,"กฟส.บึงสามพัน ขอตั้งงบประมาณปี 2567",null,null,null,null,null,30000]
[null,null,"กฟส.ศรีเทพ ขอตั้งงบประมาณปี 2567",null,null,null,null,null,50000]
[]
[]
[54011010,{"$f":"IF(A644=\"\",\"<< กรอกรหัสบัญชี\",IFERROR(VLOOKUP(A644,'E001'!A:L,4,0),\"ไม่มีรหัสบัญชีนี้\"))","v":"ค่าเสื่อมราคา-ส่วนปรับปรุงที่ดิน"},null,null,null,null,null,{"$f":"IF(COUNTIF(A:A,A644)>1,\"รหัสบัญชีซ้ำ โปรดตรวจสอบ\",\"\")","v":""},null,{"$f":"ROUNDUP(SUBTOTAL(109,I643:I650),-1)","v":208370}]
[null,"รายละเอียด"]
[null,null,"กฟอ.นผ.",null,null,null,null,null,30281.5]
[null,null,"กฟส.วร. และ กฟย.พต.",null,null,null,null,null,130473.62]
[null,null,"กฟส.บงส.",null,null,null,null,null,20331.22]
[null,null,"กฟส.ศท.",null,null,null,null,null,27276.86]
[]
[]
[54020010,{"$f":"IF(A652=\"\",\"<< กรอกรหัสบัญชี\",IFERROR(VLOOKUP(A652,'E001'!A:L,4,0),\"ไม่มีรหัสบัญชีนี้\"))","v":"ค่าเสื่อมราคา-อาคารดำเนินงาน"},null,null,null,null,null,{"$f":"IF(COUNTIF(A:A,A652)>1,\"รหัสบัญชีซ้ำ โปรดตรวจสอบ\",\"\")","v":""},null,{"$f":"ROUNDUP(SUBTOTAL(109,I651:I658),-1)","v":182980}]
[null,"รายละเอียด"]
[null,null,"กฟอ.นผ.",null,null,null,null,null,169820.88]
[null,null,"กฟส.วร. และ กฟย.พต.",null,null,null,null,null,0]
[null,null,"กฟส.บงส.",null,null,null,null,null,13154.55]
[null,null,"กฟส.ศท.",null,null,null,null,null,0]
[]
[]
[54020020,{"$f":"IF(A660=\"\",\"<< กรอกรหัสบัญชี\",IFERROR(VLOOKUP(A660,'E001'!A:L,4,0),\"ไม่มีรหัสบัญชีนี้\"))","v":"ค่าเสื่อมราคา-อาคารสำนักงาน"},null,null,null,null,null,{"$f":"IF(COUNTIF(A:A,A660)>1,\"รหัสบัญชีซ้ำ โปรดตรวจสอบ\",\"\")","v":""},null,{"$f":"ROUNDUP(SUBTOTAL(109,I659:I666),-1)","v":1687560}]
[null,"รายละเอียด"]
[null,null,"กฟอ.นผ.",null,null,null,null,null,908071.59]
[null,null,"กฟส.วร. และ กฟย.พต.",null,null,null,null,null,174044.27]
[null,null,"กฟส.บงส.",null,null,null,null,null,540140.06999999995]
[null,null,"กฟส.ศท.",null,null,null,null,null,65295.85]
[]
[]
[54020030,{"$f":"IF(A668=\"\",\"<< กรอกรหัสบัญชี\",IFERROR(VLOOKUP(A668,'E001'!A:L,4,0),\"ไม่มีรหัสบัญชีนี้\"))","v":"ค่าเสื่อมราคา-อาคารพักอาศัย"},null,null,null,null,null,{"$f":"IF(COUNTIF(A:A,A668)>1,\"รหัสบัญชีซ้ำ โปรดตรวจสอบ\",\"\")","v":""},null,{"$f":"ROUNDUP(SUBTOTAL(109,I667:I674),-1)","v":65150}]
[null,"รายละเอียด"]
[null,null,"กฟอ.นผ.",null,null,null,null,null,16747.03]
[null,null,"กฟส.วร. และ กฟย.พต.",null,null,null,null,null,48399.34]
[null,null,"กฟส.บงส.",null,null,null,null,null,0]
[null,null,"กฟส.ศท.",null,null,null,null,null,0]
[]
[]
[54021010,{"$f":"IF(A676=\"\",\"<< กรอกรหัสบัญชี\",IFERROR(VLOOKUP(A676,'E001'!A:L,4,0),\"ไม่มีรหัสบัญชีนี้\"))","v":"ค่าเสื่อมราคา-ส่วนปรับปรุงอาคารเช่า"},null,null,null,null,null,{"$f":"IF(COUNTIF(A:A,A676)>1,\"รหัสบัญชีซ้ำ โปรดตรวจสอบ\",\"\")","v":""},null,{"$f":"ROUNDUP(SUBTOTAL(109,I675:I682),-1)","v":0}]
[null,"รายละเอียด"]
[null,null,"กฟอ.นผ.",null,null,null,null,null,0]
[null,null,"กฟส.วร. และ กฟย.พต.",null,null,null,null,null,0]
[null,null,"กฟส.บงส.",null,null,null,null,null,0]
[null,null,"กฟส.ศท.",null,null,null,null,null,0]
[]
[]
[54029990,{"$f":"IF(A684=\"\",\"<< กรอกรหัสบัญชี\",IFERROR(VLOOKUP(A684,'E001'!A:L,4,0),\"ไม่มีรหัสบัญชีนี้\"))","v":"ค่าเสื่อมราคา-สิ่งปลูกสร้างอื่น"},null,null,null,null,null,{"$f":"IF(COUNTIF(A:A,A684)>1,\"รหัสบัญชีซ้ำ โปรดตรวจสอบ\",\"\")","v":""},null,{"$f":"ROUNDUP(SUBTOTAL(109,I683:I690),-1)","v":92510}]
[null,"รายละเอียด"]
[null,null,"กฟอ.นผ.",null,null,null,null,null,56795.78]
[null,null,"กฟส.วร. และ กฟย.พต.",null,null,null,null,null,24136.38]
[null,null,"กฟส.บงส.",null,null,null,null,null,8939.39]
[null,null,"กฟส.ศท.",null,null,null,null,null,2636.36]
[]
[]
[54030010,{"$f":"IF(A692=\"\",\"<< กรอกรหัสบัญชี\",IFERROR(VLOOKUP(A692,'E001'!A:L,4,0),\"ไม่มีรหัสบัญชีนี้\"))","v":"ค่าเสื่อมราคา-ระบบผลิตกระแสไฟฟ้าเครื่องจักรดีเซล"},null,null,null,null,null,{"$f":"IF(COUNTIF(A:A,A692)>1,\"รหัสบัญชีซ้ำ โปรดตรวจสอบ\",\"\")","v":""},null,{"$f":"ROUNDUP(SUBTOTAL(109,I691:I698),-1)","v":50170}]
[null,"รายละเอียด"]
[null,null,"กฟอ.นผ.",null,null,null,null,null,50162.74]
[null,null,"กฟส.วร. และ กฟย.พต.",null,null,null,null,null,0]
[null,null,"กฟส.บงส.",null,null,null,null,null,0]
[null,null,"กฟส.ศท.",null,null,null,null,null,0]
[]
[]
[54030020,{"$f":"IF(A700=\"\",\"<< กรอกรหัสบัญชี\",IFERROR(VLOOKUP(A700,'E001'!A:L,4,0),\"ไม่มีรหัสบัญชีนี้\"))","v":"ค่าเสื่อมราคา-ระบบผลิตกระแสไฟฟ้าพลังน้ำ"},null,null,null,null,null,{"$f":"IF(COUNTIF(A:A,A700)>1,\"รหัสบัญชีซ้ำ โปรดตรวจสอบ\",\"\")","v":""},null,{"$f":"ROUNDUP(SUBTOTAL(109,I699:I706),-1)","v":0}]
[null,"รายละเอียด"]
[null,null,"กฟอ.นผ.",null,null,null,null,null,0]
[null,null,"กฟส.วร. และ กฟย.พต.",null,null,null,null,null,0]
[null,null,"กฟส.บงส.",null,null,null,null,null,0]
[null,null,"กฟส.ศท.",null,null,null,null,null,0]
[]
[]
[54030030,{"$f":"IF(A708=\"\",\"<< กรอกรหัสบัญชี\",IFERROR(VLOOKUP(A708,'E001'!A:L,4,0),\"ไม่มีรหัสบัญชีนี้\"))","v":"ค่าเสื่อมราคา-ระบบผลิตกระแสไฟฟ้าพลังแสงอาทิตย์"},null,null,null,null,null,{"$f":"IF(COUNTIF(A:A,A708)>1,\"รหัสบัญชีซ้ำ โปรดตรวจสอบ\",\"\")","v":""},null,{"$f":"ROUNDUP(SUBTOTAL(109,I707:I714),-1)","v":0}]
[null,"รายละเอียด"]
[null,null,"กฟอ.นผ.",null,null,null,null,null,0]
[null,null,"กฟส.วร. และ กฟย.พต.",null,null,null,null,null,0]
[null,null,"กฟส.บงส.",null,null,null,null,null,0]
[null,null,"กฟส.ศท.",null,null,null,null,null,0]
[]
[]
[54030040,{"$f":"IF(A716=\"\",\"<< กรอกรหัสบัญชี\",IFERROR(VLOOKUP(A716,'E001'!A:L,4,0),\"ไม่มีรหัสบัญชีนี้\"))","v":"ค่าเสื่อมราคา-ระบบผลิตกระแสไฟฟ้าพลังงานลม"},null,null,null,null,null,{"$f":"IF(COUNTIF(A:A,A716)>1,\"รหัสบัญชีซ้ำ โปรดตรวจสอบ\",\"\")","v":""},null,{"$f":"ROUNDUP(SUBTOTAL(109,I715:I722),-1)","v":0}]
[null,"รายละเอียด"]
[null,null,"กฟอ.นผ.",null,null,null,null,null,0]
[null,null,"กฟส.วร. และ กฟย.พต.",null,null,null,null,null,0]
[null,null,"กฟส.บงส.",null,null,null,null,null,0]
[null,null,"กฟส.ศท.",null,null,null,null,null,0]
[]
[]
[54040010,{"$f":"IF(A724=\"\",\"<< กรอกรหัสบัญชี\",IFERROR(VLOOKUP(A724,'E001'!A:L,4,0),\"ไม่มีรหัสบัญชีนี้\"))","v":"ค่าเสื่อมราคา-ระบบสายส่งและจำหน่าย"},null,null,null,null,null,{"$f":"IF(COUNTIF(A:A,A724)>1,\"รหัสบัญชีซ้ำ โปรดตรวจสอบ\",\"\")","v":""},null,{"$f":"ROUNDUP(SUBTOTAL(109,I723:I730),-1)","v":80365060}]
[null,"รายละเอียด"]
[null,null,"กฟอ.นผ.",null,null,null,null,null,28665668.09]
[null,null,"กฟส.วร. และ กฟย.พต.",null,null,null,null,null,25897480.109999999]
[null,null,"กฟส.บงส.",null,null,null,null,null,14540711.65]
[null,null,"กฟส.ศท.",null,null,null,null,null,11261194.029999999]
[]
[]
[54040020,{"$f":"IF(A732=\"\",\"<< กรอกรหัสบัญชี\",IFERROR(VLOOKUP(A732,'E001'!A:L,4,0),\"ไม่มีรหัสบัญชีนี้\"))","v":"ค่าเสื่อมราคา-ระบบไฟสัญญาณและไฟถนน"},null,null,null,null,null,{"$f":"IF(COUNTIF(A:A,A732)>1,\"รหัสบัญชีซ้ำ โปรดตรวจสอบ\",\"\")","v":""},null,{"$f":"ROUNDUP(SUBTOTAL(109,I731:I738),-1)","v":150}]
[null,"รายละเอียด"]
[null,null,"กฟอ.นผ.",null,null,null,null,null,142.13999999999999]
[null,null,"กฟส.วร. และ กฟย.พต.",null,null,null,null,null,0]
[null,null,"กฟส.บงส.",null,null,null,null,null,0]
[null,null,"กฟส.ศท.",null,null,null,null,null,0]
[]
[]
[54040030,{"$f":"IF(A740=\"\",\"<< กรอกรหัสบัญชี\",IFERROR(VLOOKUP(A740,'E001'!A:L,4,0),\"ไม่มีรหัสบัญชีนี้\"))","v":"ค่าเสื่อมราคา-อุปกรณ์ในสถานีไฟฟ้า"},null,null,null,null,null,{"$f":"IF(COUNTIF(A:A,A740)>1,\"รหัสบัญชีซ้ำ โปรดตรวจสอบ\",\"\")","v":""},null,{"$f":"ROUNDUP(SUBTOTAL(109,I739:I746),-1)","v":52640}]
[null,"รายละเอียด"]
[null,null,"กฟอ.นผ.",null,null,null,null,null,6646.45]
[null,null,"กฟส.วร. และ กฟย.พต.",null,null,null,null,null,19126.45]
[null,null,"กฟส.บงส.",null,null,null,null,null,6646.45]
[null,null,"กฟส.ศท.",null,null,null,null,null,20213.61]
[]
[]
[54040040,{"$f":"IF(A748=\"\",\"<< กรอกรหัสบัญชี\",IFERROR(VLOOKUP(A748,'E001'!A:L,4,0),\"ไม่มีรหัสบัญชีนี้\"))","v":"ค่าเสื่อมราคา-หม้อแปลงไฟฟ้าผ่านการใช้งาน"},null,null,null,null,null,{"$f":"IF(COUNTIF(A:A,A748)>1,\"รหัสบัญชีซ้ำ โปรดตรวจสอบ\",\"\")","v":""},null,{"$f":"ROUNDUP(SUBTOTAL(109,I747:I754),-1)","v":4301780}]
[null,"รายละเอียด"]
[null,null,"กฟอ.นผ.",null,null,null,null,null,1098934.46]
[null,null,"กฟส.วร. และ กฟย.พต.",null,null,null,null,null,1406333.76]
[null,null,"กฟส.บงส.",null,null,null,null,null,1132375.93]
[null,null,"กฟส.ศท.",null,null,null,null,null,664127.57999999996]
[]
[]
[54040050,{"$f":"IF(A756=\"\",\"<< กรอกรหัสบัญชี\",IFERROR(VLOOKUP(A756,'E001'!A:L,4,0),\"ไม่มีรหัสบัญชีนี้\"))","v":"ค่าเสื่อมราคา-มิเตอร์และส่วนประกอบผ่านการใช้งาน"},null,null,null,null,null,{"$f":"IF(COUNTIF(A:A,A756)>1,\"รหัสบัญชีซ้ำ โปรดตรวจสอบ\",\"\")","v":""},null,{"$f":"ROUNDUP(SUBTOTAL(109,I755:I762),-1)","v":3756580}]
[null,"รายละเอียด"]
[null,null,"กฟอ.นผ.",null,null,null,null,null,1033094.76]
[null,null,"กฟส.วร. และ กฟย.พต.",null,null,null,null,null,1246318.05]
[null,null,"กฟส.บงส.",null,null,null,null,null,875342.24]
[null,null,"กฟส.ศท.",null,null,null,null,null,601823.82999999996]
[]
[]
[54050010,{"$f":"IF(A764=\"\",\"<< กรอกรหัสบัญชี\",IFERROR(VLOOKUP(A764,'E001'!A:L,4,0),\"ไม่มีรหัสบัญชีนี้\"))","v":"ค่าเสื่อมราคา-เครื่องตกแต่งประจำสำนักงาน"},null,null,null,null,null,{"$f":"IF(COUNTIF(A:A,A764)>1,\"รหัสบัญชีซ้ำ โปรดตรวจสอบ\",\"\")","v":""},null,{"$f":"ROUNDUP(SUBTOTAL(109,I763:I770),-1)","v":517310}]
[null,"รายละเอียด"]
[null,null,"กฟอ.นผ.",null,null,null,null,null,278130.96000000002]
[null,null,"กฟส.วร. และ กฟย.พต.",null,null,null,null,null,84947.42]
[null,null,"กฟส.บงส.",null,null,null,null,null,127614.47]
[null,null,"กฟส.ศท.",null,null,null,null,null,26611.93]
[]
[]
[54050020,{"$f":"IF(A772=\"\",\"<< กรอกรหัสบัญชี\",IFERROR(VLOOKUP(A772,'E001'!A:L,4,0),\"ไม่มีรหัสบัญชีนี้\"))","v":"ค่าเสื่อมราคา-อุปกรณ์ประจำสำนักงาน"},null,null,null,null,null,{"$f":"IF(COUNTIF(A:A,A772)>1,\"รหัสบัญชีซ้ำ โปรดตรวจสอบ\",\"\")","v":""},null,{"$f":"ROUNDUP(SUBTOTAL(109,I771:I778),-1)","v":9130}]
[null,"รายละเอียด"]
[null,null,"กฟอ.นผ.",null,null,null,null,null,4372.75]
[null,null,"กฟส.วร. และ กฟย.พต.",null,null,null,null,null,0]
[null,null,"กฟส.บงส.",null,null,null,null,null,2550]
[null,null,"กฟส.ศท.",null,null,null,null,null,2200]
[]
[]
[54050030,{"$f":"IF(A780=\"\",\"<< กรอกรหัสบัญชี\",IFERROR(VLOOKUP(A780,'E001'!A:L,4,0),\"ไม่มีรหัสบัญชีนี้\"))","v":"ค่าเสื่อมราคา-เครื่องเมนเฟรม/มินิคอมฯ รวมอุปกรณ์ฯ"},null,null,null,null,null,{"$f":"IF(COUNTIF(A:A,A780)>1,\"รหัสบัญชีซ้ำ โปรดตรวจสอบ\",\"\")","v":""},null,{"$f":"ROUNDUP(SUBTOTAL(109,I779:I786),-1)","v":72840}]
[null,"รายละเอียด"]
[null,null,"กฟอ.นผ.",null,null,null,null,null,30840.53]
[null,null,"กฟส.วร. และ กฟย.พต.",null,null,null,null,null,23911.78]
[null,null,"กฟส.บงส.",null,null,null,null,null,9043.2099999999991]
[null,null,"กฟส.ศท.",null,null,null,null,null,9043.2099999999991]
[]
[]
[54050040,{"$f":"IF(A788=\"\",\"<< กรอกรหัสบัญชี\",IFERROR(VLOOKUP(A788,'E001'!A:L,4,0),\"ไม่มีรหัสบัญชีนี้\"))","v":"ค่าเสื่อมราคา-เครื่องเพอร์ซันนัลคอมฯ และอุปกรณ์"},null,null,null,null,null,{"$f":"IF(COUNTIF(A:A,A788)>1,\"รหัสบัญชีซ้ำ โปรดตรวจสอบ\",\"\")","v":""},null,{"$f":"ROUNDUP(SUBTOTAL(109,I787:I794),-1)","v":635420}]
[null,"รายละเอียด"]
[null,null,"กฟอ.นผ.",null,null,null,null,null,262664.14]
[null,null,"กฟส.วร. และ กฟย.พต.",null,null,null,null,null,149915.46]
[null,null,"กฟส.บงส.",null,null,null,null,null,105080.05]
[null,null,"กฟส.ศท.",null,null,null,null,null,117756.06]
[]
[]
[54051010,{"$f":"IF(A796=\"\",\"<< กรอกรหัสบัญชี\",IFERROR(VLOOKUP(A796,'E001'!A:L,4,0),\"ไม่มีรหัสบัญชีนี้\"))","v":"ค่าเสื่อมราคา-เครื่องมือ เครื่องใช้ คลังพัสดุ"},null,null,null,null,null,{"$f":"IF(COUNTIF(A:A,A796)>1,\"รหัสบัญชีซ้ำ โปรดตรวจสอบ\",\"\")","v":""},null,{"$f":"ROUNDUP(SUBTOTAL(109,I795:I802),-1)","v":195010}]
[null,"รายละเอียด"]
[null,null,"กฟอ.นผ.",null,null,null,null,null,195009.96]
[null,null,"กฟส.วร. และ กฟย.พต.",null,null,null,null,null,0]
[null,null,"กฟส.บงส.",null,null,null,null,null,0]
[null,null,"กฟส.ศท."]
[]
[]
[54051020,{"$f":"IF(A804=\"\",\"<< กรอกรหัสบัญชี\",IFERROR(VLOOKUP(A804,'E001'!A:L,4,0),\"ไม่มีรหัสบัญชีนี้\"))","v":"ค่าเสื่อมราคา-เครื่องมือ เครื่องใช้โรงซ่อม โรงรถ"},null,null,null,null,null,{"$f":"IF(COUNTIF(A:A,A804)>1,\"รหัสบัญชีซ้ำ โปรดตรวจสอบ\",\"\")","v":""},null,{"$f":"ROUNDUP(SUBTOTAL(109,I803:I810),-1)","v":478880}]
[null,"รายละเอียด"]
[null,null,"กฟอ.นผ.",null,null,null,null,null,269973.48]
[null,null,"กฟส.วร. และ กฟย.พต.",null,null,null,null,null,73949.37]
[null,null,"กฟส.บงส.",null,null,null,null,null,79057.649999999994]
[null,null,"กฟส.ศท.",null,null,null,null,null,55891.11]
[]
[]
[54051030,{"$f":"IF(A812=\"\",\"<< กรอกรหัสบัญชี\",IFERROR(VLOOKUP(A812,'E001'!A:L,4,0),\"ไม่มีรหัสบัญชีนี้\"))","v":"ค่าเสื่อมราคา-เครื่องมือ เครื่องใช้ โรงงานผลิตภัณฑ์คอนฯ"},null,null,null,null,null,{"$f":"IF(COUNTIF(A:A,A812)>1,\"รหัสบัญชีซ้ำ โปรดตรวจสอบ\",\"\")","v":""},null,{"$f":"ROUNDUP(SUBTOTAL(109,I811:I818),-1)","v":0}]
[null,"รายละเอียด"]
[null,null,"กฟอ.นผ.",null,null,null,null,null,0]
[null,null,"กฟส.วร. และ กฟย.พต.",null,null,null,null,null,0]
[null,null,"กฟส.บงส.",null,null,null,null,null,0]
[null,null,"กฟส.ศท.",null,null,null,null,null,0]
[]
[]
[54051040,{"$f":"IF(A820=\"\",\"<< กรอกรหัสบัญชี\",IFERROR(VLOOKUP(A820,'E001'!A:L,4,0),\"ไม่มีรหัสบัญชีนี้\"))","v":"ค่าเสื่อมราคา-เครื่องมือ เครื่องใช้เบ็ดเตล็ด"},null,null,null,null,null,{"$f":"IF(COUNTIF(A:A,A820)>1,\"รหัสบัญชีซ้ำ โปรดตรวจสอบ\",\"\")","v":""},null,{"$f":"ROUNDUP(SUBTOTAL(109,I819:I826),-1)","v":42000}]
[null,"รายละเอียด"]
[null,null,"กฟอ.นผ.",null,null,null,null,null,11741.02]
[null,null,"กฟส.วร. และ กฟย.พต.",null,null,null,null,null,10498.5]
[null,null,"กฟส.บงส.",null,null,null,null,null,10062.33]
[null,null,"กฟส.ศท.",null,null,null,null,null,9688.5]
[]
[]
[54052010,{"$f":"IF(A828=\"\",\"<< กรอกรหัสบัญชี\",IFERROR(VLOOKUP(A828,'E001'!A:L,4,0),\"ไม่มีรหัสบัญชีนี้\"))","v":"ค่าเสื่อมราคา-อุปกรณ์สื่อสาร"},null,null,null,null,null,{"$f":"IF(COUNTIF(A:A,A828)>1,\"รหัสบัญชีซ้ำ โปรดตรวจสอบ\",\"\")","v":""},null,{"$f":"ROUNDUP(SUBTOTAL(109,I827:I834),-1)","v":374690}]
[null,"รายละเอียด"]
[null,null,"กฟอ.นผ.",null,null,null,null,null,243101.38]
[null,null,"กฟส.วร. และ กฟย.พต.",null,null,null,null,null,50107.3]
[null,null,"กฟส.บงส.",null,null,null,null,null,47490.9]
[null,null,"กฟส.ศท.",null,null,null,null,null,33985.89]
[]
[]
[54052020,{"$f":"IF(A836=\"\",\"<< กรอกรหัสบัญชี\",IFERROR(VLOOKUP(A836,'E001'!A:L,4,0),\"ไม่มีรหัสบัญชีนี้\"))","v":"ค่าเสื่อมราคา-ระบบสื่อสารสายใยแก้วนำแสงติดตั้งภายนอก"},null,null,null,null,null,{"$f":"IF(COUNTIF(A:A,A836)>1,\"รหัสบัญชีซ้ำ โปรดตรวจสอบ\",\"\")","v":""},null,{"$f":"ROUNDUP(SUBTOTAL(109,I835:I842),-1)","v":292540}]
[null,"รายละเอียด"]
[null,null,"กฟอ.นผ.",null,null,null,null,null,34292.42]
[null,null,"กฟส.วร. และ กฟย.พต.",null,null,null,null,null,20449.2]
[null,null,"กฟส.บงส.",null,null,null,null,null,67816.73]
[null,null,"กฟส.ศท.",null,null,null,null,null,169976.22]
[]
[]
[54052030,{"$f":"IF(A844=\"\",\"<< กรอกรหัสบัญชี\",IFERROR(VLOOKUP(A844,'E001'!A:L,4,0),\"ไม่มีรหัสบัญชีนี้\"))","v":"ค่าเสื่อมราคา-ระบบสื่อสารสายใยแก้วนำแสงติดตั้งภายใน"},null,null,null,null,null,{"$f":"IF(COUNTIF(A:A,A844)>1,\"รหัสบัญชีซ้ำ โปรดตรวจสอบ\",\"\")","v":""},null,{"$f":"ROUNDUP(SUBTOTAL(109,I843:I850),-1)","v":457650}]
[null,"รายละเอียด"]
[null,null,"กฟอ.นผ.",null,null,null,null,null,141479.89000000001]
[null,null,"กฟส.วร. และ กฟย.พต.",null,null,null,null,null,103266.56]
[null,null,"กฟส.บงส.",null,null,null,null,null,56163.25]
[null,null,"กฟส.ศท.",null,null,null,null,null,156737.25]
[]
[]
[54060010,{"$f":"IF(A852=\"\",\"<< กรอกรหัสบัญชี\",IFERROR(VLOOKUP(A852,'E001'!A:L,4,0),\"ไม่มีรหัสบัญชีนี้\"))","v":"ค่าเสื่อมราคา-รถยนต์นั่ง"},null,null,null,null,null,{"$f":"IF(COUNTIF(A:A,A852)>1,\"รหัสบัญชีซ้ำ โปรดตรวจสอบ\",\"\")","v":""},null,{"$f":"ROUNDUP(SUBTOTAL(109,I851:I858),-1)","v":0}]
[null,"รายละเอียด"]
[null,null,"กฟอ.นผ.",null,null,null,null,null,0]
[null,null,"กฟส.วร. และ กฟย.พต.",null,null,null,null,null,0]
[null,null,"กฟส.บงส.",null,null,null,null,null,0]
[null,null,"กฟส.ศท.",null,null,null,null,null,0]
[]
[]
[54060020,{"$f":"IF(A860=\"\",\"<< กรอกรหัสบัญชี\",IFERROR(VLOOKUP(A860,'E001'!A:L,4,0),\"ไม่มีรหัสบัญชีนี้\"))","v":"ค่าเสื่อมราคา-รถยนต์โดยสารเกิน 10 ที่นั่ง"},null,null,null,null,null,{"$f":"IF(COUNTIF(A:A,A860)>1,\"รหัสบัญชีซ้ำ โปรดตรวจสอบ\",\"\")","v":""},null,{"$f":"ROUNDUP(SUBTOTAL(109,I859:I866),-1)","v":0}]
[null,"รายละเอียด"]
[null,null,"กฟอ.นผ.",null,null,null,null,null,0]
[null,null,"กฟส.วร. และ กฟย.พต.",null,null,null,null,null,0]
[null,null,"กฟส.บงส.",null,null,null,null,null,0]
[null,null,"กฟส.ศท.",null,null,null,null,null,0]
[]
[]
[54060030,{"$f":"IF(A868=\"\",\"<< กรอกรหัสบัญชี\",IFERROR(VLOOKUP(A868,'E001'!A:L,4,0),\"ไม่มีรหัสบัญชีนี้\"))","v":"ค่าเสื่อมราคา-รถยนต์บรรทุก"},null,null,null,null,null,{"$f":"IF(COUNTIF(A:A,A868)>1,\"รหัสบัญชีซ้ำ โปรดตรวจสอบ\",\"\")","v":""},null,{"$f":"ROUNDUP(SUBTOTAL(109,I867:I874),-1)","v":1497890}]
[null,"รายละเอียด"]
[null,null,"กฟอ.นผ.",null,null,null,null,null,495019.14]
[null,null,"กฟส.วร. และ กฟย.พต.",null,null,null,null,null,742870]
[null,null,"กฟส.บงส.",null,null,null,null,null,258000]
[null,null,"กฟส.ศท.",null,null,null,null,null,2000]
[]
[]
[54060040,{"$f":"IF(A876=\"\",\"<< กรอกรหัสบัญชี\",IFERROR(VLOOKUP(A876,'E001'!A:L,4,0),\"ไม่มีรหัสบัญชีนี้\"))","v":"ค่าเสื่อมราคา-ยานพาหนะอื่น"},null,null,null,null,null,{"$f":"IF(COUNTIF(A:A,A876)>1,\"รหัสบัญชีซ้ำ โปรดตรวจสอบ\",\"\")","v":""},null,{"$f":"ROUNDUP(SUBTOTAL(109,I875:I882),-1)","v":85960}]
[null,"รายละเอียด"]
[null,null,"กฟอ.นผ.",null,null,null,null,null,18060]
[null,null,"กฟส.วร. และ กฟย.พต.",null,null,null,null,null,29100]
[null,null,"กฟส.บงส.",null,null,null,null,null,19400]
[null,null,"กฟส.ศท.",null,null,null,null,null,19400]
[]
[]
[54070010,{"$f":"IF(A884=\"\",\"<< กรอกรหัสบัญชี\",IFERROR(VLOOKUP(A884,'E001'!A:L,4,0),\"ไม่มีรหัสบัญชีนี้\"))","v":"ค่าตัดจำหน่าย-โปรแกรมคอมพิวเตอร์"},null,null,null,null,null,{"$f":"IF(COUNTIF(A:A,A884)>1,\"รหัสบัญชีซ้ำ โปรดตรวจสอบ\",\"\")","v":""},null,{"$f":"ROUNDUP(SUBTOTAL(109,I883:I890),-1)","v":0}]
[null,"รายละเอียด"]
[null,null,"กฟอ.นผ.",null,null,null,null,null,0]
[null,null,"กฟส.วร. และ กฟย.พต.",null,null,null,null,null,0]
[null,null,"กฟส.บงส.",null,null,null,null,null,0]
[null,null,"กฟส.ศท.",null,null,null,null,null,0]
[]
[]
[54080010,{"$f":"IF(A892=\"\",\"<< กรอกรหัสบัญชี\",IFERROR(VLOOKUP(A892,'E001'!A:L,4,0),\"ไม่มีรหัสบัญชีนี้\"))","v":"ค่าเสื่อมราคาสิทธิการใช้-ที่ดิน"},null,null,null,null,null,{"$f":"IF(COUNTIF(A:A,A892)>1,\"รหัสบัญชีซ้ำ โปรดตรวจสอบ\",\"\")","v":""},null,{"$f":"ROUNDUP(SUBTOTAL(109,I891:I898),-1)","v":55850}]
[null,"รายละเอียด"]
[null,null,"กฟอ.นผ.",null,null,null,null,null,55843.12]
[null,null,"กฟส.วร. และ กฟย.พต.",null,null,null,null,null,0]
[null,null,"กฟส.บงส.",null,null,null,null,null,0]
[null,null,"กฟส.ศท.",null,null,null,null,null,0]
[]
[]
[54080020,{"$f":"IF(A900=\"\",\"<< กรอกรหัสบัญชี\",IFERROR(VLOOKUP(A900,'E001'!A:L,4,0),\"ไม่มีรหัสบัญชีนี้\"))","v":"ค่าเสื่อมราคาสิทธิการใช้-อาคารสิ่งปลูกสร้าง"},null,null,null,null,null,{"$f":"IF(COUNTIF(A:A,A900)>1,\"รหัสบัญชีซ้ำ โปรดตรวจสอบ\",\"\")","v":""},null,{"$f":"ROUNDUP(SUBTOTAL(109,I899:I906),-1)","v":0}]
[null,"รายละเอียด"]
[null,null,"กฟอ.นผ.",null,null,null,null,null,0]
[null,null,"กฟส.วร. และ กฟย.พต.",null,null,null,null,null,0]
[null,null,"กฟส.บงส.",null,null,null,null,null,0]
[null,null,"กฟส.ศท.",null,null,null,null,null,0]
[]
[]
[54080030,{"$f":"IF(A908=\"\",\"<< กรอกรหัสบัญชี\",IFERROR(VLOOKUP(A908,'E001'!A:L,4,0),\"ไม่มีรหัสบัญชีนี้\"))","v":"ค่าเสื่อมราคาสิทธิการใช้-ระบบผลิตกระแสไฟฟ้า"},null,null,null,null,null,{"$f":"IF(COUNTIF(A:A,A908)>1,\"รหัสบัญชีซ้ำ โปรดตรวจสอบ\",\"\")","v":""},null,{"$f":"ROUNDUP(SUBTOTAL(109,I907:I914),-1)","v":0}]
[null,"รายละเอียด"]
[null,null,"กฟอ.นผ.",null,null,null,null,null,0]
[null,null,"กฟส.วร. และ กฟย.พต.",null,null,null,null,null,0]
[null,null,"กฟส.บงส.",null,null,null,null,null,0]
[null,null,"กฟส.ศท.",null,null,null,null,null,0]
[]
[]
[54080050,{"$f":"IF(A916=\"\",\"<< กรอกรหัสบัญชี\",IFERROR(VLOOKUP(A916,'E001'!A:L,4,0),\"ไม่มีรหัสบัญชีนี้\"))","v":"ค่าเสื่อมราคาสิทธิการใช้-เครื่องตกแต่งฯ"},null,null,null,null,null,{"$f":"IF(COUNTIF(A:A,A916)>1,\"รหัสบัญชีซ้ำ โปรดตรวจสอบ\",\"\")","v":""},null,{"$f":"ROUNDUP(SUBTOTAL(109,I915:I922),-1)","v":0}]
[null,"รายละเอียด"]
[null,null,"กฟอ.นผ.",null,null,null,null,null,0]
[null,null,"กฟส.วร. และ กฟย.พต.",null,null,null,null,null,0]
[null,null,"กฟส.บงส.",null,null,null,null,null,0]
[null,null,"กฟส.ศท.",null,null,null,null,null,0]
[]
[]
[54080060,{"$f":"IF(A924=\"\",\"<< กรอกรหัสบัญชี\",IFERROR(VLOOKUP(A924,'E001'!A:L,4,0),\"ไม่มีรหัสบัญชีนี้\"))","v":"ค่าเสื่อมราคาสิทธิการใช้-ยานพาหนะ"},null,null,null,null,null,{"$f":"IF(COUNTIF(A:A,A924)>1,\"รหัสบัญชีซ้ำ โปรดตรวจสอบ\",\"\")","v":""},null,{"$f":"ROUNDUP(SUBTOTAL(109,I923:I930),-1)","v":572750}]
[null,"รายละเอียด"]
[null,null,"กฟอ.นผ.",null,null,null,null,null,280686.36]
[null,null,"กฟส.วร. และ กฟย.พต.",null,null,null,null,null,146029.73000000001]
[null,null,"กฟส.บงส.",null,null,null,null,null,146029.73000000001]
[null,null,"กฟส.ศท.",null,null,null,null,null,0]
[]
[]
[54610010,{"$f":"IF(A932=\"\",\"<< กรอกรหัสบัญชี\",IFERROR(VLOOKUP(A932,'E001'!A:L,4,0),\"ไม่มีรหัสบัญชีนี้\"))","v":"ค่าเสื่อมราคา - สิ่งปลูกสร้างที่ไม่ใช้ประโยชน์"},null,null,null,null,null,{"$f":"IF(COUNTIF(A:A,A932)>1,\"รหัสบัญชีซ้ำ โปรดตรวจสอบ\",\"\")","v":""},null,{"$f":"ROUNDUP(SUBTOTAL(109,I931:I938),-1)","v":0}]
[null,"รายละเอียด"]
[null,null,"กฟอ.นผ."]
[null,null,"กฟส.วร. และ กฟย.พต."]
[null,null,"กฟส.บงส."]
[null,null,"กฟส.ศท."]
[]
[]
[55010010,{"$f":"IF(A940=\"\",\"<< กรอกรหัสบัญชี\",IFERROR(VLOOKUP(A940,'E001'!A:L,4,0),\"ไม่มีรหัสบัญชีนี้\"))","v":"ค่าธรรมเนียมจัดการเงินกู้"},null,null,null,null,null,{"$f":"IF(COUNTIF(A:A,A940)>1,\"รหัสบัญชีซ้ำ โปรดตรวจสอบ\",\"\")","v":""},null,{"$f":"ROUNDUP(SUBTOTAL(109,I939:I946),-1)","v":0}]
[null,"รายละเอียด"]
[null,null,"กฟอ.นผ."]
[null,null,"กฟส.วร. และ กฟย.พต."]
[null,null,"กฟส.บงส."]
[null,null,"กฟส.ศท."]
[]
[]
[55020010,{"$f":"IF(A948=\"\",\"<< กรอกรหัสบัญชี\",IFERROR(VLOOKUP(A948,'E001'!A:L,4,0),\"ไม่มีรหัสบัญชีนี้\"))","v":"ดอกเบี้ยจ่าย-ธนาคาร"},null,null,null,null,null,{"$f":"IF(COUNTIF(A:A,A948)>1,\"รหัสบัญชีซ้ำ โปรดตรวจสอบ\",\"\")","v":""},null,{"$f":"ROUNDUP(SUBTOTAL(109,I947:I954),-1)","v":0}]
[null,"รายละเอียด"]
[null,null,"กฟอ.นผ."]
[null,null,"กฟส.วร. และ กฟย.พต."]
[null,null,"กฟส.บงส."]
[null,null,"กฟส.ศท."]
[]
[]
[55020020,{"$f":"IF(A956=\"\",\"<< กรอกรหัสบัญชี\",IFERROR(VLOOKUP(A956,'E001'!A:L,4,0),\"ไม่มีรหัสบัญชีนี้\"))","v":"ดอกเบี้ยจ่ายเงินกู้"},null,null,null,null,null,{"$f":"IF(COUNTIF(A:A,A956)>1,\"รหัสบัญชีซ้ำ โปรดตรวจสอบ\",\"\")","v":""},null,{"$f":"ROUNDUP(SUBTOTAL(109,I955:I962),-1)","v":0}]
[null,"รายละเอียด"]
[null,null,"กฟอ.นผ."]
[null,null,"กฟส.วร. และ กฟย.พต."]
[null,null,"กฟส.บงส."]
[null,null,"กฟส.ศท."]
[]
[]
[55020030,{"$f":"IF(A964=\"\",\"<< กรอกรหัสบัญชี\",IFERROR(VLOOKUP(A964,'E001'!A:L,4,0),\"ไม่มีรหัสบัญชีนี้\"))","v":"ดอกเบี้ยจ่าย-สัญญาเช่า"},null,null,null,null,null,{"$f":"IF(COUNTIF(A:A,A964)>1,\"รหัสบัญชีซ้ำ โปรดตรวจสอบ\",\"\")","v":""},null,{"$f":"ROUNDUP(SUBTOTAL(109,I963:I970),-1)","v":0}]
[null,"รายละเอียด"]
[null,null,"กฟอ.นผ."]
[null,null,"กฟส.วร. และ กฟย.พต."]
[null,null,"กฟส.บงส."]
[null,null,"กฟส.ศท."]
[]
[null,"รวมงานประจำของหน่วยงาน (ค่าใช้จ่ายในการดำเนินงาน)",null,null,null,null,null,null,null,{"$f":"SUMIF(A6:INDIRECT(\"A\"&ROW()-1),\"<>\",J6:INDIRECT(\"j\"&ROW()-1))","v":152317960}]
[]
[]
["ห้ามแก้ไขข้อความหรือกระทำการใดๆ ตั้งแต่บรรทัดนี้เป็นต้นไป"]
[]
[null,"กดปุ่ม \"New account\" ด้านบนเพื่อเพิ่มบัญชีใหม่"]
[]
[null,{"$f":"IF(A978=\"\",\"<< กรอกรหัสบัญชี\",IFERROR(VLOOKUP(A978,'E001'!A:L,4,0),\"ไม่มีรหัสบัญชีนี้\"))","v":"<< กรอกรหัสบัญชี"},null,null,null,null,null,{"$f":"IF(COUNTIF(A:A,A978)>1,\"รหัสบัญชีซ้ำ โปรดตรวจสอบ\",\"\")","v":""},null,{"$f":"ROUNDUP(SUBTOTAL(109,I977:I984),-1)","v":0}]
[null,"รายละเอียด"]

{"sheet":"E121","index":9,"n_rows":31,"n_cols":6,"rows_kept":31,"cut":false,"hidden":false,"merged":[[2,0,2,4],[1,0,1,4],[0,0,0,4],[5,1,5,4]]}
["คำชี้แจงประกอบ",null,null,null,null,"งป. (ท)_1/1"]
[{"$f":"\"งบประมาณทำการที่ขอตั้ง ประจำปี  \"&A_Budget_year","v":"งบประมาณทำการที่ขอตั้ง ประจำปี  2567"}]
[{"$f":"IF(A4=\"HO\",\"งานประจำ (ค่าป้องกันระบบไฟฟ้าและระบบควบคุม)\",\"งานประจำ (งานตัดต้นไม้, ค่าป้องกันระบบไฟฟ้าและระบบควบคุม)\")","v":"งานประจำ (งานตัดต้นไม้, ค่าป้องกันระบบไฟฟ้าและระบบควบคุม)"}]
[{"$f":"HO","v":"BR"},null,null,null,{"$f":"Head_division","v":"เขต: "},{"$f":"Head_division2","v":"กฟน.3 - 07"}]
[null,null,null,null,"หน่วย:","บาท"]
["รหัสบัญชี","รายการ /รายละเอียด / คำชี้แจงประกอบ",null,null,null,"วงเงิน"]
[null,"ชื่องาน  ค่าป้องกันระบบไฟฟ้าและระบบควบคุม"]
[null,"รายการค่าใช้จ่ายตามรหัสบัญชี"]
[53050010,{"$f":"\" -   \"&VLOOKUP(A9,'E001'!A:D,4,0)","v":" -   ค่าป้องกันระบบไฟฟ้าและระบบควบคุม"}]
[]
[null,"คำชี้แจงประกอบงบ"]
[null," -  ให้แจงรายละเอียดในชีท E121A"]
[]
[null,"ชื่องาน  ค่าใช้จ่ายในการตัดต้นไม้"]
[null,"รายการค่าใช้จ่ายตามรหัสบัญชี"]
[null,"กรณี จ้างเหมาเอกชนตัดต้นไม้"]
[53050020,{"$f":"\" -   \"&VLOOKUP(A17,'E001'!A:D,4,0)","v":" -   ค่าจ้างเหมาตัดต้นไม้"}]
[null,"กรณี ดำเนินการตัดต้นไม้เอง"]
[52010030,{"$f":"\" -   \"&VLOOKUP(A19,'E001'!A:D,4,0)","v":" -   ค่าล่วงเวลาพนักงาน"}]
[52022010,{"$f":"\" -   \"&VLOOKUP(A20,'E001'!A:D,4,0)","v":" -   ค่าพาหนะเดินทางไปปฏิบัติงานต่างท้องที่-พนักงาน"}]
[52022020,{"$f":"\" -   \"&VLOOKUP(A21,'E001'!A:D,4,0)","v":" -   ค่าเบี้ยเลี้ยง-พนักงาน"}]
[52022030,{"$f":"\" -   \"&VLOOKUP(A22,'E001'!A:D,4,0)","v":" -   ค่าที่พัก-พนักงาน"}]
[53039010,{"$f":"\" -   \"&VLOOKUP(A23,'E001'!A:D,4,0)","v":" -   ค่าเชื้อเพลิงยานพาหนะ"}]
[53051050,{"$f":"\" -   \"&VLOOKUP(A24,'E001'!A:D,4,0)","v":" -   ค่าซ่อมแซมบำรุงรักษา-ยานพาหนะ"}]
[null,"รวม งานตัดต้นไม้ (จ้างเหมาเอกชนและดำเนินการตัดต้นไม้เอง)",null,null,null,{"$f":"SUM(F17:F24)","v":0}]
[]
[null,"คำชี้แจงประกอบงบ"]
[null,"กรณี จ้างเหมาเอกชนตัดต้นไม้"]
[null," -  ให้แจงรายละเอียดในชีท E121B"]
[null,"กรณี ดำเนินการตัดต้นไม้เอง"]
[null," -  ให้แจงรายละเอียดในชีท E121B"]

{"sheet":"E121A","index":10,"n_rows":58,"n_cols":5,"rows_kept":58,"cut":false,"hidden":false,"merged":[[7,0,7,1],[7,2,7,3],[0,0,0,4],[2,2,2,3],[3,2,3,3],[4,2,4,3],[5,2,5,3],[6,2,6,3]]}
["งบประมาณทำการในส่วนของค่าป้องกันระบบไฟฟ้าและระบบควบคุมปี 2567"]
["ค่าป้องกันระบบไฟฟ้าและระบบควบคุม"]
["ประเภทกิจกรรม","ปริมาณงาน","ค่าใช้จ่าย"]
["1. ติดตั้งอุปกรณ์ป้องกันสัตว์"]
["2. ทำป้ายเตือน, พ่นหมายเลขเสาไฟฟ้า, ทาสีเสาไฟฟ้า"]
["3. ฉีดน้ำล้างลูกถ้วย"]
["4. อื่นๆ (โปรดระบุ)"]
["รวม",null,{"$f":"SUM(C4:C7)","v":0}]
[]
["รายละเอียดแยกตามกิจกรรมต่างๆ "]
["1. ติดตั้งอุปกรณ์ป้องกันสัตว์"]
["พื้นที่ดำเนินการ","รายละเอียดของงาน","ปริมาณงาน","ราคา/หน่วย","รวมค่าใช้จ่าย"]
["กฟฟ.  .................","ไลน์. ................  ","     ........  ชุด","        ...... บาท","      .........   บาท"]
[]
[]
[]
[]
[]
[]
[]
["รวม",null,{"$f":"SUM(C13:C20)","v":0},null,{"$f":"SUM(E13:E20)","v":0}]
[]
["2. ทำป้ายเตือน, พ่นหมายเลขเสาไฟฟ้า, ทาสีเสาไฟฟ้า"]
["พื้นที่ดำเนินการ","รายละเอียดของงาน","ปริมาณงาน","ราคา/หน่วย","รวมค่าใช้จ่าย"]
["กฟฟ.  .................","ไลน์. ................  ","     ........  ชุด","        ...... บาท","      .........   บาท"]
[]
[]
[]
[]
[]
[]
[]
["รวม",null,{"$f":"SUM(C25:C32)","v":0},null,{"$f":"SUM(E25:E32)","v":0}]
[]
["3. ฉีดน้ำล้างลูกถ้วย"]
["พื้นที่ดำเนินการ","รายละเอียดของงาน","ปริมาณงาน(ครั้ง)","ราคา/หน่วย","รวมค่าใช้จ่าย"]
["กฟฟ.  .................","ไลน์. ................  ","     ........  ชุด","        ...... บาท","      .........   บาท"]
[]
[]
[]
[]
[]
[]
[]
["รวม",null,{"$f":"SUM(C37:C44)","v":0},null,{"$f":"SUM(E37:E44)","v":0}]
[]
["4. อื่นๆ"]
["พื้นที่ดำเนินการ","รายละเอียดของงาน","ปริมาณงาน","ราคา/หน่วย","รวมค่าใช้จ่าย"]
[null,null,"     ........  ชุด","        ...... บาท","      .........   บาท"]
[]
[]
[]
[]
[]
[]
[]
[]
["รวม",null,{"$f":"SUM(C49:C57)","v":0},null,{"$f":"SUM(E49:E57)","v":0}]

{"sheet":"E121B","index":11,"n_rows":132,"n_cols":7,"rows_kept":132,"cut":false,"hidden":false,"merged":[[129,0,129,1],[129,2,129,3],[129,4,129,6],[130,0,130,1],[130,2,130,3],[130,4,130,6],[127,0,127,1],[127,2,127,3],[127,4,127,6],[128,0,128,1],[128,2,128,3],[128,4,128,6],[125,0,125,1],[125,2,125,3],[125,4,125,6],[126,0,126,1],[126,2,126,3],[126,4,126,6],[112,3,112,6],[122,0,123,1],[122,2,123,3],[122,4,123,6],[124,0,124,1],[124,2,124,3],[124,4,124,6],[106,3,106,6],[107,3,107,6],[108,3,108,6],[109,3,109,6],[110,3,110,6],[111,3,111,6],[92,1,92,2],[92,3,92,4],[92,5,92,6],[93,1,93,6],[94,5,94,6],[105,0,105,2],[105,3,105,6],[90,1,90,2],[90,3,90,4],[90,5,90,6],[91,1,91,2],[91,3,91,4],[91,5,91,6],[88,1,88,2],[88,3,88,4],[88,5,88,6],[89,1,89,2],[89,3,89,4],[89,5,89,6],[85,0,87,0],[85,1,85,6],[86,1,86,2],[86,3,87,4],[86,5,87,6],[87,1,87,2],[80,1,80,2],[80,3,80,4],[80,5,80,6],[81,1,81,2],[81,3,81,4],[81,5,81,6],[78,1,78,2],[78,3,78,4],[78,5,78,6],[79,1,79,2],[79,3,79,4],[79,5,79,6],[65,1,65,2],[65,3,65,4],[65,5,65,6],[66,1,66,6],[67,1,67,6],[75,0,77,0],[75,1,75,6],[76,1,76,2],[76,3,77,4],[76,5,77,6],[63,1,63,2],[63,3,63,4],[63,5,63,6],[64,1,64,2],[64,3,64,4],[64,5,64,6],[77,1,77,2],[61,1,61,2],[61,3,61,4],[61,5,61,6],[62,1,62,2],[62,3,62,4],[62,5,62,6],[55,1,55,2],[55,3,55,4],[55,5,55,6],[58,0,60,0],[58,1,58,6],[59,1,59,2],[59,3,60,4],[59,5,60,6],[60,1,60,2],[53,1,53,2],[53,3,53,4],[53,5,53,6],[54,1,54,2],[54,3,54,4],[54,5,54,6],[51,1,51,2],[51,3,51,4],[51,5,51,6],[52,1,52,2],[52,3,52,4],[52,5,52,6],[45,1,45,2],[45,3,45,4],[45,5,45,6],[48,0,50,0],[48,1,48,6],[49,1,49,2],[49,3,50,4],[49,5,50,6],[50,1,50,2],[43,1,43,2],[43,3,43,4],[43,5,43,6],[44,1,44,2],[44,3,44,4],[44,5,44,6],[41,1,41,2],[41,3,41,4],[41,5,41,6],[42,1,42,2],[42,3,42,4],[42,5,42,6],[38,0,40,0],[38,1,38,6],[39,1,39,2],[39,3,40,4],[39,5,40,6],[40,1,40,2],[30,1,30,2],[30,3,30,4],[30,5,30,6],[31,1,31,2],[31,3,31,4],[31,5,31,6],[28,1,28,2],[28,3,28,4],[28,5,28,6],[29,1,29,2],[29,3,29,4],[29,5,29,6],[23,1,23,2],[25,0,27,0],[25,1,25,6],[26,1,26,2],[26,3,27,4],[26,5,27,6],[27,1,27,2],[21,1,21,2],[21,3,21,4],[21,5,21,6],[22,1,22,2],[22,3,22,4],[22,5,22,6],[20,1,20,2],[20,3,20,4],[20,5,20,6],[16,0,18,0],[16,1,16,6],[17,1,17,2],[17,3,18,4],[17,5,18,6],[18,1,18,2],[4,0,7,0],[4,1,4,6],[5,1,5,2],[5,3,6,4],[5,5,6,6],[6,1,6,2],[19,1,19,2],[19,3,19,4],[19,5,19,6]]}
["คำชี้แจงประกอบงบ"]
["กรณีจ้างเหมาเอกชนตัดต้นไม้"]
["ราคากลางที่ใช้ในปี 2567"]
[]
["ประเภท","ราคากลางในการจ้างเหมาตัดต้นไม้ (บาท/กม.)"]
[null,"115 เควี + ใต้ไลน์ และการ",null,"22 เควี, 33 เควี + ใต้ไลน์",null,"แรงต่ำนอกไลน์แรงสูง"]
[null,"ตัดต้นไม้ทางน้ำ"]
[null,"แบบรายปี","แบบรายครั้ง","แบบรายปี","แบบรายครั้ง","แบบรายปี","แบบรายครั้ง"]
["หนาทึบ"]
["ปานกลาง"]
["เบาบาง"]
["ที่โล่ง"]
["หมายเหตุ - ราคากลางในการจ้งเหมาในปัจจุบันผู้อำนวยการไฟฟ้าเขตมีอำนาจพิจารณาราคากลาง"]
[]
["ปริมาณงาน (วงจร-กม.)"]
["แบบรายปี"]
["ประเภท","ปริมาณงาน (กม.)"]
[null,"115 เควี + ใต้ไลน์ และการ",null,"22 เควี, 33 เควี + ใต้ไลน์",null,"แรงต่ำนอกไลน์แรงสูง"]
[null,"ตัดต้นไม้ทางน้ำ"]
["หนาทึบ (มากกว่า 80 ต้น/กม.)"]
["ปานกลาง (41-80 ต้น/กม.)"]
["เบาบาง (10-40 ต้น/กม.)"]
["ที่โล่ง (น้อยกว่า10 ต้น/กม.)"]
[]
["แบบรายครั้ง"]
["ประเภท","ปริมาณงาน (วงจร-กม.)"]
[null,"115 เควี + ใต้ไลน์ และการ",null,"22 เควี, 33 เควี + ใต้ไลน์",null,"แรงต่ำนอกไลน์แรงสูง"]
[null,"ตัดต้นไม้ทางน้ำ"]
["หนาทึบ (มากกว่า 80 ต้น/กม.)"]
["ปานกลาง (41-80 ต้น/กม.)"]
["เบาบาง (10-40 ต้น/กม.)"]
["ที่โล่ง (น้อยกว่า10 ต้น/กม.)"]
[]
[]
[]
[]
["ค่าใช้จ่ายในการตัดต้นไม้"]
["แบบรายปี"]
["ประเภท","ค่าใช้จ่าย(บาท)"]
[null,"115 เควี + ใต้ไลน์ และการ",null,"22 เควี, 33 เควี + ใต้ไลน์",null,"แรงต่ำนอกไลน์แรงสูง"]
[null,"ตัดต้นไม้ทางน้ำ"]
["หนาทึบ"]
["ปานกลาง"]
["เบาบาง"]
["ที่โล่ง"]
["รวม"]
[]
["แบบรายครั้ง"]
["ประเภท","ค่าใช้จ่าย(บาท)"]
[null,"115 เควี + ใต้ไลน์ และการ",null,"22 เควี, 33 เควี + ใต้ไลน์",null,"แรงต่ำนอกไลน์แรงสูง"]
[null,"ตัดต้นไม้ทางน้ำ"]
["หนาทึบ"]
["ปานกลาง"]
["เบาบาง"]
["ที่โล่ง"]
["รวม"]
[]
["รวมค่าใช้จ่าย"]
["ประเภท","ค่าใช้จ่าย(บาท)"]
[null,"115 เควี + ใต้ไลน์ และการ",null,"22 เควี, 33 เควี + ใต้ไลน์",null,"แรงต่ำนอกไลน์แรงสูง"]
[null,"ตัดต้นไม้ทางน้ำ"]
["หนาทึบ"]
["ปานกลาง"]
["เบาบาง"]
["ที่โล่ง"]
["รวม"]
["ค่าใช้จ่ากรณีต้นไม้พิเศษ"]
["รวมค่าใช้จ่ายทั้งสิ้น"]
["หมายเหตุ - ต้นไม้ที่มีลักษณะพิเศษ เช่น กอไผ่, ต้นไม้ใหญ่ที่ต้องตัดเป็นจำนวนมากหรือต้องล้มหรือ"]
["              ทั้งกอ ให้คิดค่าใช้จ่ายตามข้อเท็จจริง"]
[]
[]
[]
["ค่าใช้จ่ายในการขนต้นไม้หรือเศษของต้นไม้ไปทิ้ง (พื้นที่พิเศษที่ต้องขนเศษไม้ไปทิ้งที่อื่น)"]
["พื้นที่ที่มีค่าใช้จ่ายในการขนย้ายต้นไม้ไปทิ้ง"]
["ประเภท","ปริมาณงาน (กม.)"]
[null,"115 เควี + ใต้ไลน์ และการ",null,"22 เควี, 33 เควี + ใต้ไลน์",null,"แรงต่ำนอกไลน์แรงสูง"]
[null,"ตัดต้นไม้ทางน้ำ"]
["หนาทึบ"]
["ปานกลาง"]
["เบาบาง"]
["ที่โล่ง"]
[]
["ค่าใช้จ่ายในการขนต้นไม้หรือเศษของต้นไม้ไปทิ้ง (ให้คิด 10 % ของค่าจ้างเหมาเอกชนตัดต้นไม้)"]
[]
["ประเภท","ค่าใช้จ่าย (บาท)"]
[null,"115 เควี + ใต้ไลน์ และการ",null,"22 เควี, 33 เควี + ใต้ไลน์",null,"แรงต่ำนอกไลน์แรงสูง"]
[null,"ตัดต้นไม้ทางน้ำ"]
["หนาทึบ"]
["ปานกลาง"]
["เบาบาง"]
["ที่โล่ง"]
["รวม"]
["รวมค่าใช้จ่าย"]
[]
[]
["รวมค่าใช้จ่าย = ค่าใช้จ่ายในการตัดต้นไม้ + ค่าใช้จ่ายในการขนต้นไม้หรือเศษของต้นไม้ไปทิ้ง"]
[]
[]
[]
["กรณีดำเนินการตัดต้นไม้เอง"]
["(1) ความยาวของระบบสายส่ง",null,null,null,null,null,"กม."]
["(2) ความยาวของระบบจำหน่ายแรงสูง และ/หรือที่มีแรงต่ำใต้ไลน์",null,null,null,null,null,"กม."]
["(3) ความยาวของระบบจำหน่ายแรงต่ำนอกไลน์แรงสูง",null,null,null,null,null,"กม."]
[]
["รายละเอียด",null,null,"ค่าใช้จ่าย (บาท)"]
["ค่าล่วงเวลา"]
["ค่าพาหนะเดินทางไปปฏิบัติงานต่างท้องที่ - พนักงาน"]
["ค่าเบี้ยเลี้ยง - พนักงาน"]
["ค่าที่พัก - พนักงาน"]
["ค่าแรง / ค่าจ้างเหมาคนงานรายวันบำรุงรักษา"]
["ค่าเชื้อเพลิงยานพาหนะ"]
["ค่าซ่อมแซมบำรุงรักษา - ยานพาหนะ"]
["หมายเหตุ - กฟข. รวบรวมปริมาณงานและค่าใช้จ่ายที่จะดำเนินการตัดเองของ กฟฟ. จุดรวมงาน"]
[]
[]
["รายละเอียดประกอบของแต่ละ กฟฟ.จุดรวมงาน กรณีดำเนินการตัดต้นไม้เอง "]
["(1) ความยาวระบบสายส่ง  ",null,null,null,null,null,"กม."]
["(2) ความยาวระบบจำหน่ายแรงสูง และ/หรือที่มีแรงต่ำใต้ไลน์",null,null,null,null,null,"กม."]
["(3) ความยาวระบบจำหน่ายแรงต่ำนอกไลน์แรงสูง",null,null,null,null,null,"กม."]
["(4) จำนวนคนงาน",null,null,null,null,null,"คน"]
[]
["รายละเอียด",null,"ค่าใช้จ่าย\n(บาท)",null,"หมายเหตุ"]
[]
["ค่าล่วงเวลาพนักงาน"]
["ค่าพาหนะเดินทางไปปฏิบัติงานต่างท้องที่ - พนักงาน"]
["ค่าเบี้ยเลี้ยง - พนักงาน"]
["ค่าที่พัก  - พนักงาน"]
["ค่าแรง / ค่าจ้างเหมาคนงานรายวันงานบำรุงรักษา",null,null,null,"ค่าแรง = (ค่าแรง/วันxจำนวนวัน/ปีxจำนวนคนงาน/ทีม)"]
["ค่าเชื้อเพลิงยานพาหนะ",null,null,null,"เดินทาง...กม/วัน, น้ำมันดีเซล....กม/ลิตร, ค่าน้ำมันดีเซล ...  บาท/ลิตร"]
["ค่าซ่อมแซมบำรุงรักษา-ยานพาหนะ"]
["หมายเหตุ - กฟฟ. จุดรวมงานแจงรายละเอียดค่าใช้จ่ายในช่องหมายเหตุ"]

{"sheet":"E200A","index":12,"n_rows":34,"n_cols":13,"rows_kept":34,"cut":false,"hidden":false,"merged":[[1,0,1,11],[0,0,0,11],[4,2,4,5],[4,6,4,7],[4,10,4,12],[4,0,7,0],[4,1,7,1],[4,8,4,9]]}
[{"$f":"\"งบประมาณทำการประจำปี \"&A_Budget_year","v":"งบประมาณทำการประจำปี 2567"},null,null,null,null,null,null,null,null,null,null,null,"งป. (ท) _2"]
["สรุปงานตามแผนปฏิบัติแยกตามยุทธศาสตร์"]
[null,null,null,null,null,null,null,null,null,null,null,{"$f":"Head_division","v":"เขต: "},{"$f":"Head_division2","v":"กฟน.3 - 07"}]
[null,null,null,null,null,null,null,null,null,null,null,"หน่วย:",{"$f":"IF(HO=\"HO\",\"บาท\",\"ล้านบาท\")","v":"ล้านบาท"}]
["ลำดับที่","ชื่องาน","SO1 ยกระดับการบริหารจัดการระดับสากล เพื่อสร้างความยั่งยืน",null,null,null,"SO2 ระบบจำหน่ายที่มีประสิทธิภาพและสร้างความน่าเชื่อถือต่อลูกค้าและทุกกลุ่มผู้มีส่วนได้ส่วนเสีย",null,"SO3 เสริมสร้างศักยภาพด้าน Digital Utiltty  และมุ่งสู่การเป็นผู้นำระบบไฟฟ้าในอนาคตระดับภูมิภาค",null,"SO4 ยกระดับผลประกอบการและทิศทางของ PEA Portfolio"]
[null,null,1,2,3,4,5,6,7,8,9,10,11]
[null,null,{"$f":"\"S\"&C6","v":"S1"},{"$f":"\"S\"&D6","v":"S2"},"S3","S4","S5","S6","S7","S8","S9","S10","S11"]
[null,null,"สร้าง กฟภ. ให้เติบโตอย่างยั่งยืน"," ยกระดับการบริหารทุนมนุษย์"," ส่งเสริมและพัฒนาขีดความสามารถด้วยเทคโนโลยีดิจิทัล     (Digital Technology)     ที่มีความมั่นคงปลอดภัย เพื่อการขับเคลื่อนองค์กรอย่างมีประสิทธิภาพ (Digital Transformation)"," พัฒนาระบบจัดการนวัตกรรมองค์กร (Corporate InnovationSystem  : CIS)"," พัฒนาระบบจำหน่ายที่ได้คุณภาพในระดับชั้นนำของภูมิภาค"," ยกระดับความพึงพอใจและตวามผูกพันของลูกค้าและกลุ่มผู้มีส่วนได้ส่วนเสีย"," ยกระดับ Grid Modernization "," ส่งเสริมบทบาท กฟภ. ในการผลักดันบทบาทเพื่อรองรับนโยบายการเปิดไฟฟ้าเสรี"," การกำหนดทิศทางเชิงยุทธศาสตร์ระหว่าง กฟภ. และบริษัทในเครือ","การดำเนินงานตามแผนสำคัญสำหรับธุรกิจเกี่ยวเนื่อง และการบริหาร Product Porfolio","การปรับปรุงกฎระเบียบที่เกี่ยวข้อง ให้มีความคล่องตัว และสามารถแข่งขันได้"]
[]
[]
[]
[]
[]
[]
[]
[]
[]
[]
[]
[]
[]
[]
[]
[]
[]
[]
[]
[]
[]
[]
[]
[]
[]
[null,"รวมทั้งสิ้น",{"$f":"SUM(C9:C33)","v":0},{"$f":"SUM(D9:D33)","v":0},{"$f":"SUM(E9:E33)","v":0},0,0,0,0,0,0,0,0]

{"sheet":"E200","index":13,"n_rows":74,"n_cols":6,"rows_kept":74,"cut":false,"hidden":false,"merged":[[50,1,50,3],[28,1,28,3],[18,1,18,3],[15,1,15,3],[0,0,0,3],[1,0,1,3],[2,0,2,3],[5,1,5,3],[7,1,7,3]]}
["คำชี้แจงประกอบ",null,null,null,"งป. (ท)_2/1"]
[{"$f":"\"งบประมาณทำการประจำปี \"&A_Budget_year","v":"งบประมาณทำการประจำปี 2567"}]
["งานตามแผนปฏิบัติ"]
[null,null,null,{"$f":"Head_division","v":"เขต: "},{"$f":"Head_division2","v":"กฟน.3 - 07"}]
[null,null,null,"หน่วย:","บาท"]
["รหัสบัญชี","รายการ /รายละเอียด / คำชี้แจงประกอบ",null,null,"วงเงิน"]
[]
[null,{"$f":"\"กลุ่มบัญชี ค่าวิจัยและที่ปรึกษา\"&\" (\"&'E250'!N1&\") \"","v":"กลุ่มบัญชี ค่าวิจัยและที่ปรึกษา (งป. (ท) _2/5) "}]
[53040010,{"$f":"VLOOKUP(A9,'E001'!A:L,4,0)","v":"ค่าใช้จ่ายในการวิจัย"},null,{"$f":"IF(COUNTIF(B:B,B9)>1,\"โปรดตรวจสอบว่าได้กรอกรายละเอียดใน Sheet E240 แล้ว\",\"\")","v":""},{"$f":"ROUNDUP('E250'!I26,-1)","v":0},"E250"]
[53061020,{"$f":"VLOOKUP(A10,'E001'!A:L,4,0)","v":"ค่าที่ปรึกษา-ด้านบัญชี การเงิน"},null,{"$f":"IF(COUNTIF(B:B,B10)>1,\"มีรหัสบัญชีซ้ำ โปรดตรวจสอบ\",\"\")","v":""},{"$f":"ROUNDUP('E250'!J26,-1)","v":0},"E250"]
[53061030,{"$f":"VLOOKUP(A11,'E001'!A:L,4,0)","v":"ค่าที่ปรึกษา-ด้านกฏหมาย"},null,{"$f":"IF(COUNTIF(B:B,B11)>1,\"มีรหัสบัญชีซ้ำ โปรดตรวจสอบ\",\"\")","v":""},{"$f":"ROUNDUP('E250'!K26,-1)","v":0},"E250"]
[53061040,{"$f":"VLOOKUP(A12,'E001'!A:L,4,0)","v":"ค่าที่ปรึกษา-ด้านวิศวกรรม"},null,{"$f":"IF(COUNTIF(B:B,B12)>1,\"มีรหัสบัญชีซ้ำ โปรดตรวจสอบ\",\"\")","v":""},{"$f":"ROUNDUP('E250'!L26,-1)","v":0},"E250"]
[53061050,{"$f":"VLOOKUP(A13,'E001'!A:L,4,0)","v":"ค่าที่ปรึกษา-ด้านการพัฒนาระบบสารสนเทศ"},null,{"$f":"IF(COUNTIF(B:B,B13)>1,\"มีรหัสบัญชีซ้ำ โปรดตรวจสอบ\",\"\")","v":""},{"$f":"ROUNDUP('E250'!M26,-1)","v":0},"E250"]
[53061090,{"$f":"VLOOKUP(A14,'E001'!A:L,4,0)","v":"ค่าที่ปรึกษา-ด้านอื่นๆ"},null,{"$f":"IF(COUNTIF(B:B,B14)>1,\"มีรหัสบัญชีซ้ำ โปรดตรวจสอบ\",\"\")","v":""},{"$f":"ROUNDUP('E250'!N26,-1)","v":0},"E250"]
[]
[null,{"$f":"\"ค่าใช้จ่ายในการประชุมชี้แจง\"&\" (\"&'E220'!F1&\") \"","v":"ค่าใช้จ่ายในการประชุมชี้แจง (งป. (ท) _2/2) "}]
[52030030,{"$f":"VLOOKUP(A17,'E001'!A:L,4,0)","v":"ค่าใช้จ่ายในการประชุมชี้แจง"},null,{"$f":"IF(COUNTIF(B:B,B17)>1,\"มีรหัสบัญชีซ้ำ โปรดตรวจสอบ\",\"\")","v":""},{"$f":"ROUNDUP('E220'!F26,-1)","v":0},"E220"]
[]
[null,{"$f":"\"กลุ่มบัญชี ค่ากิจกรรมเพื่อสังคม\"&\" (\"&'E240'!M1&\") \"","v":"กลุ่มบัญชี ค่ากิจกรรมเพื่อสังคม (งป. (ท) _2/4) "}]
[53065010,{"$f":"VLOOKUP(A20,'E001'!A:L,4,0)","v":"เงินชดเชยเพื่อมนุษยธรรม"},null,{"$f":"IF(COUNTIF(B:B,B20)>1,\"มีรหัสบัญชีซ้ำ โปรดตรวจสอบ\",\"\")","v":""},{"$f":"ROUNDUP('E240'!F25,-1)","v":0},"E240"]
[53065020,{"$f":"VLOOKUP(A21,'E001'!A:L,4,0)","v":"ค่าใช้จ่ายเกี่ยวกับไฟสาธารณะ"},null,"",{"$f":"ROUNDUP('E240'!G25,-1)","v":0},"E240"]
[53065030,{"$f":"VLOOKUP(A22,'E001'!A:L,4,0)","v":"ค่าใช้จ่ายส่งเสริมการประหยัด/ปลอดภัยในการใช้ไฟฟ้า"},null,"",{"$f":"ROUNDUP('E240'!H25,-1)","v":0},"E240"]
[53065040,{"$f":"VLOOKUP(A23,'E001'!A:L,4,0)","v":"ค่าใช้จ่ายอื่นเพื่อผู้ใช้ไฟ"},null,"",{"$f":"ROUNDUP('E240'!I25,-1)","v":0},"E240"]
[53065050,{"$f":"VLOOKUP(A24,'E001'!A:L,4,0)","v":"ค่าใช้จ่ายเพื่อสังคมหรือสิ่งแวดล้อม"},null,"",{"$f":"ROUNDUP('E240'!J25,-1)","v":0},"E240"]
[53065080,{"$f":"VLOOKUP(A25,'E001'!A:L,4,0)","v":"ค่าผลประโยชน์เงินประกันฯจ่ายคืนผู้ใช้ไฟ - ประเภท 3,4,5"},null,"",{"$f":"ROUNDUP('E240'!K25,-1)","v":0},"E240"]
[53065090,{"$f":"VLOOKUP(A26,'E001'!A:L,4,0)","v":"ค่าผลประโยชน์เงินประกันฯจ่ายคืนผู้ใช้ไฟ - ประเภท 1,2"},null,"",{"$f":"ROUNDUP('E240'!L25,-1)","v":0},"E240"]
[53065990,{"$f":"VLOOKUP(A27,'E001'!A:L,4,0)","v":"ค่าใช้จ่ายเพื่อสาธารณประโยชน์และการกุศล"},null,"",{"$f":"ROUNDUP('E240'!M25,-1)","v":0},"E240"]
[]
[null,{"$f":"\"กลุ่มบัญชี ค่าประชาสัมพันธ์\"&\" (\"&'E230'!H1&\") \"","v":"กลุ่มบัญชี ค่าประชาสัมพันธ์ (งป. (ท) _2/3) "}]
[53021010,{"$f":"VLOOKUP(A30,'E001'!A:L,4,0)","v":"ค่าป้ายประชาสัมพันธ์"},null,{"$f":"IF(COUNTIF(B:B,B30)>1,\"มีรหัสบัญชีซ้ำ โปรดตรวจสอบ\",\"\")","v":""},{"$f":"ROUNDUP('E230'!F27,-1)","v":0},"E230"]
[53021020,{"$f":"VLOOKUP(A31,'E001'!A:L,4,0)","v":"ค่าประชาสัมพันธ์อื่น"},null,{"$f":"IF(COUNTIF(B:B,B31)>1,\"มีรหัสบัญชีซ้ำ โปรดตรวจสอบ\",\"\")","v":""},{"$f":"ROUNDUP('E230'!G27,-1)","v":0},"E230"]
[53021030,{"$f":"VLOOKUP(A32,'E001'!A:L,4,0)","v":"ค่าประชาสัมพันธ์ทางสื่อ"},null,{"$f":"IF(COUNTIF(B:B,B32)>1,\"มีรหัสบัญชีซ้ำ โปรดตรวจสอบ\",\"\")","v":""},{"$f":"ROUNDUP('E230'!H27,-1)","v":0},"E230"]
[]
[]
[{"$f":"\"P\"&C36","v":"P"},"ชื่องาน:",null,null,{"$f":"SUBTOTAL(109,E36:E50)","v":0}]
[null,"ลำดับที่:"]
[null,"วัตถุประสงค์เชิงยุทธศาสตร์:",null,{"$f":"IF(C37=\"\",\"<< เลือก\",IF(C37=\"SO1\",E200A!$C$5,IF(C37=\"SO2\",E200A!$E$5,IF(C37=\"SO3\",E200A!$I$5,IF(C37=\"SO4\",E200A!$K$5,IF(C37=\"SO5\",E200A!#REF!,0))))))","v":"<< เลือก"}]
[null,"ยุทธศาสตร์:",null,{"$f":"IF(C38=\"\",\"<< เลือก\",HLOOKUP(C38,E200A!$C$6:$M$8,3,0))","v":"<< เลือก"}]
[null,"วัตถุประสงค์ของงาน:"]
[null,"รายการค่าใช้จ่ายตามรหัสบัญชี"]
[null,{"$f":"IF(A41=\"\",\"<< กรอกรหัสบัญชี\",IFERROR(VLOOKUP(A41,'E001'!A:L,4,0),\"ไม่มีรหัสบัญชีนี้\"))","v":"<< กรอกรหัสบัญชี"},null,{"$f":"IFERROR(\"โปรดตรวจสอบว่าได้กรอกรายละเอียดใน Sheet \"&VLOOKUP(A41,$A$9:$F$32,6,0)&\" แล้ว\",\"\")","v":""}]
[null,{"$f":"IF(A42=\"\",\"<< กรอกรหัสบัญชี\",IFERROR(VLOOKUP(A42,'E001'!A:L,4,0),\"ไม่มีรหัสบัญชีนี้\"))","v":"<< กรอกรหัสบัญชี"},null,{"$f":"IFERROR(\"โปรดตรวจสอบว่าได้กรอกรายละเอียดใน Sheet \"&VLOOKUP(A42,$A$9:$F$32,6,0)&\" แล้ว\",\"\")","v":""}]
[null,{"$f":"IF(A43=\"\",\"<< กรอกรหัสบัญชี\",IFERROR(VLOOKUP(A43,'E001'!A:L,4,0),\"ไม่มีรหัสบัญชีนี้\"))","v":"<< กรอกรหัสบัญชี"},null,{"$f":"IFERROR(\"โปรดตรวจสอบว่าได้กรอกรายละเอียดใน Sheet \"&VLOOKUP(A43,$A$9:$F$32,6,0)&\" แล้ว\",\"\")","v":""}]
[null,{"$f":"IF(A44=\"\",\"<< กรอกรหัสบัญชี\",IFERROR(VLOOKUP(A44,'E001'!A:L,4,0),\"ไม่มีรหัสบัญชีนี้\"))","v":"<< กรอกรหัสบัญชี"},null,{"$f":"IFERROR(\"โปรดตรวจสอบว่าได้กรอกรายละเอียดใน Sheet \"&VLOOKUP(A44,$A$9:$F$32,6,0)&\" แล้ว\",\"\")","v":""}]
[null,{"$f":"IF(A45=\"\",\"<< กรอกรหัสบัญชี\",IFERROR(VLOOKUP(A45,'E001'!A:L,4,0),\"ไม่มีรหัสบัญชีนี้\"))","v":"<< กรอกรหัสบัญชี"},null,{"$f":"IFERROR(\"โปรดตรวจสอบว่าได้กรอกรายละเอียดใน Sheet \"&VLOOKUP(A45,$A$9:$F$32,6,0)&\" แล้ว\",\"\")","v":""}]
[]
[null,"คำชี้แจงประกอบ"]
[null,"(เลือกใส่คำชี้แจงประกอบได้ที่นี่ หรือต่อท้ายของแต่ละบัญชีก็ได้)"]
[]
[{"$f":"\"PP\"&C36","v":"PP"}]
[null,"รวมงานตามแผนปฏิบัติ",null,null,{"$f":"SUMIF(A33:INDIRECT(\"a\"&ROW()-1),\"<>\",E33:INDIRECT(\"E\"&ROW()-1))/2","v":0}]
["หมายเหตุ","ให้จัดลำดับงานของแต่ละยุทธศาสตร์ โดยเรียงลำดับความสำคัญของงานจากมากไปหาน้อย"]
[]
[]
["ห้ามแก้ไขข้อความหรือกระทำการใดๆ ตั้งแต่บรรทัดนี้เป็นต้นไป"]
[]
[null,"กดปุ่ม \"New job\" ด้านบนเพื่อเพิ่มงานตามแผนปฏิบัติ"]
[]
[{"$f":"\"P\"&C60","v":"P"},"ชื่องาน:",null,null,{"$f":"SUBTOTAL(109,E60:E74)","v":0}]
[null,"ลำดับที่:"]
[null,"วัตถุประสงค์เชิงยุทธศาสตร์:",null,{"$f":"IF(C61=\"\",\"<< เลือก\",IF(C61=\"SO1\",E200A!$C$5,IF(C61=\"SO2\",E200A!$E$5,IF(C61=\"SO3\",E200A!$I$5,IF(C61=\"SO4\",E200A!$K$5,IF(C61=\"SO5\",E200A!#REF!,0))))))","v":"<< เลือก"}]
[null,"ยุทธศาสตร์:",null,{"$f":"IF(C62=\"\",\"<< เลือก\",HLOOKUP(C62,E200A!$C$6:$M$8,3,0))","v":"<< เลือก"}]
[null,"วัตถุประสงค์ของงาน:"]
[null,"รายการค่าใช้จ่ายตามรหัสบัญชี"]
[null,{"$f":"IF(A65=\"\",\"<< กรอกรหัสบัญชี\",IFERROR(VLOOKUP(A65,'E001'!A:L,4,0),\"ไม่มีรหัสบัญชีนี้\"))","v":"<< กรอกรหัสบัญชี"},null,{"$f":"IFERROR(\"โปรดตรวจสอบว่าได้กรอกรายละเอียดใน Sheet \"&VLOOKUP(A65,$A$9:$F$32,6,0)&\" แล้ว\",\"\")","v":""}]
[null,{"$f":"IF(A66=\"\",\"<< กรอกรหัสบัญชี\",IFERROR(VLOOKUP(A66,'E001'!A:L,4,0),\"ไม่มีรหัสบัญชีนี้\"))","v":"<< กรอกรหัสบัญชี"},null,{"$f":"IFERROR(\"โปรดตรวจสอบว่าได้กรอกรายละเอียดใน Sheet \"&VLOOKUP(A66,$A$9:$F$32,6,0)&\" แล้ว\",\"\")","v":""}]
[null,{"$f":"IF(A67=\"\",\"<< กรอกรหัสบัญชี\",IFERROR(VLOOKUP(A67,'E001'!A:L,4,0),\"ไม่มีรหัสบัญชีนี้\"))","v":"<< กรอกรหัสบัญชี"},null,{"$f":"IFERROR(\"โปรดตรวจสอบว่าได้กรอกรายละเอียดใน Sheet \"&VLOOKUP(A67,$A$9:$F$32,6,0)&\" แล้ว\",\"\")","v":""}]
[null,{"$f":"IF(A68=\"\",\"<< กรอกรหัสบัญชี\",IFERROR(VLOOKUP(A68,'E001'!A:L,4,0),\"ไม่มีรหัสบัญชีนี้\"))","v":"<< กรอกรหัสบัญชี"},null,{"$f":"IFERROR(\"โปรดตรวจสอบว่าได้กรอกรายละเอียดใน Sheet \"&VLOOKUP(A68,$A$9:$F$32,6,0)&\" แล้ว\",\"\")","v":""}]
[null,{"$f":"IF(A69=\"\",\"<< กรอกรหัสบัญชี\",IFERROR(VLOOKUP(A69,'E001'!A:L,4,0),\"ไม่มีรหัสบัญชีนี้\"))","v":"<< กรอกรหัสบัญชี"},null,{"$f":"IFERROR(\"โปรดตรวจสอบว่าได้กรอกรายละเอียดใน Sheet \"&VLOOKUP(A69,$A$9:$F$32,6,0)&\" แล้ว\",\"\")","v":""}]
[]
[null,"คำชี้แจงประกอบ"]
[null,"(เลือกใส่คำชี้แจงประกอบได้ที่นี่ หรือต่อท้ายของแต่ละบัญชีก็ได้)"]
[]
[{"$f":"\"PP\"&C60","v":"PP"}]

{"sheet":"E210","index":14,"n_rows":41,"n_cols":6,"rows_kept":41,"cut":false,"hidden":true,"merged":[[0,0,0,4],[1,0,1,4],[2,0,2,4],[5,2,5,4]]}
["คำชี้แจงประกอบ"]
[{"$f":"\"งบประมาณทำการประจำปี \"&A_Budget_year","v":"งบประมาณทำการประจำปี 2567"}]
["บัญชี ค่าใช้จ่ายในการอบรมสัมมนา-นอกแผน #52030020"]
[{"$f":"RIGHT(CELL(\"filename\",A4),LEN(CELL(\"filename\",A4))-FIND(\"]\",CELL(\"filename\",A4)))","v":"E210"},null,null,null,{"$f":"Head_division","v":"เขต: "},{"$f":"Head_division2","v":"กฟน.3 - 07"}]
[null,null,null,null,"หน่วย:","บาท"]
["สายงาน","หน่วยงาน/\n เขต","รายการ",null,null,"วงเงิน"]
[]
[{"$f":"IF(Cover!$C$3=Cover!$N$5,Cover_สายเขต2,\"\")","v":""},{"$f":"IF(Cover!$C$3=Cover!$N$5,division,Cover_สายเขต2)","v":"กฟน.3"},"งานประจำ"]
[]
[]
[]
[]
[null,null,"รวมงานประจำ",null,null,{"$f":"SUBTOTAL(109,F7:INDIRECT(\"D\"&ROW()-1))","v":0}]
[]
[null,null,"งานตามแผนปฏิบัติ"]
[null,null,"ชื่องาน:",null,null,{"$f":"SUBTOTAL(109,F17:F24)","v":0}]
[null,null,"ลำดับที่:"]
[null,null,"วัตถุประสงค์เชิงยุทธศาสตร์:"]
[null,null,"ยุทธศาสตร์:"]
[null,null,"วัตถุประสงค์ของงาน:"]
[null,null,"คำชี้แจงประกอบ"]
[]
[]
[{"$f":"\"P\"&D17","v":"P"}]
[null,null,"รวมงานตามแผนปฏิบัติ",null,null,{"$f":"SUBTOTAL(109,F14:INDIRECT(\"F\"&ROW()-1))","v":0}]
[null,null,{"$f":"\"รวม \"&B8","v":"รวม กฟน.3"},null,null,{"$f":"SUBTOTAL(109,F7:INDIRECT(\"F\"&ROW()-1))","v":0}]
["หมายเหตุ",null,"ให้จัดลำดับงานของแต่ละยุทธศาสตร์ โดยเรียงลำดับความสำคัญของงานจากมากไปหาน้อย"]
[]
[]
["ห้ามแก้ไขข้อความหรือกระทำการใดๆ ตั้งแต่บรรทัดนี้เป็นต้นไป"]
[]
[null,null,"กดปุ่ม \"New job\" ด้านบนเพื่อเพิ่มงานตามแผนปฏิบัติ"]
[null,null,"ชื่องาน:",null,null,{"$f":"SUBTOTAL(109,F34:F41)","v":0}]
[null,null,"ลำดับที่:"]
[null,null,"วัตถุประสงค์เชิงยุทธศาสตร์:"]
[null,null,"ยุทธศาสตร์:"]
[null,null,"วัตถุประสงค์ของงาน:"]
[null,null,"คำชี้แจงประกอบ"]
[]
[]
[{"$f":"\"P\"&D34","v":"P"}]

{"sheet":"E220","index":15,"n_rows":42,"n_cols":6,"rows_kept":42,"cut":false,"hidden":false,"merged":[[5,2,5,4],[2,0,2,4],[1,0,1,4],[0,0,0,4]]}
["คำชี้แจงประกอบ",null,null,null,null,"งป. (ท) _2/2"]
[{"$f":"\"งบประมาณทำการประจำปี \"&A_Budget_year","v":"งบประมาณทำการประจำปี 2567"}]
["บัญชี ค่าใช้จ่ายในการประชุมชี้แจง (งานประจำและงานตามแผนปฏิบัติ) #52030030"]
[null,null,null,null,{"$f":"Head_division","v":"เขต: "},{"$f":"Head_division2","v":"กฟน.3 - 07"}]
[null,null,null,null,"หน่วย:","บาท"]
["สายงาน","หน่วยงาน/\n เขต","รายการ",null,null,"วงเงิน"]
[]
[{"$f":"IF(Cover!$C$3=Cover!$N$5,Cover_สายเขต2,\"\")","v":""},{"$f":"IF(Cover!$C$3=Cover!$N$5,division,Cover_สายเขต2)","v":"กฟน.3"},"งานประจำ"]
[null,null,"กรุณาอย่าเพิ่มบรรทัดที่บรรทัดนี้ เนื่องจากจะติดการป้องกัน cell จากบรรทัดบน (ข้อความนี้ลบได้)"]
[null,null,"    กฟอ.หนองไผ่ มีการจัดประชุมประจำเดือนทุกเดือน ผู้เข้าร่วมประชุมประมาณ 30 คน *35 บาท *12 เดือน เป็น 12,600 บาท",null,null,13000]
[null,null,"                     พิจารณาของบประมาณสำรองไว้สำหรับการประชุมติดตามงานอื่นๆ นอกเหนือจากประชุมประจำเดือน",null,null,7000]
[]
[null,null,"ให้เพิ่มบรรทัดจากบรรทัดนี้แทน (ข้อความนี้ลบได้)"]
[null,null,"รวมงานประจำ",null,null,{"$f":"SUBTOTAL(109,F7:INDIRECT(\"F\"&ROW()-1))","v":20000}]
[]
[null,null,"งานตามแผนปฏิบัติ"]
[null,null,"ชื่องาน:",null,null,{"$f":"SUBTOTAL(109,F18:F25)","v":0}]
[null,null,"ลำดับที่:"]
[null,null,"วัตถุประสงค์เชิงยุทธศาสตร์:"]
[null,null,"ยุทธศาสตร์:"]
[null,null,"วัตถุประสงค์ของงาน:"]
[null,null,"คำชี้แจงประกอบ"]
[]
[]
[{"$f":"\"P\"&D18","v":"P"}]
[null,null,"รวมงานตามแผนปฏิบัติ",null,null,{"$f":"SUBTOTAL(109,F15:INDIRECT(\"F\"&ROW()-1))","v":0}]
[null,null,{"$f":"\"รวม \"&B8","v":"รวม กฟน.3"},null,null,{"$f":"SUBTOTAL(109,F7:INDIRECT(\"F\"&ROW()-1))","v":20000}]
["หมายเหตุ",null,"ให้จัดลำดับงานของแต่ละยุทธศาสตร์ โดยเรียงลำดับความสำคัญของงานจากมากไปหาน้อย"]
[]
[]
["ห้ามแก้ไขข้อความหรือกระทำการใดๆ ตั้งแต่บรรทัดนี้เป็นต้นไป"]
[]
[null,null,"กดปุ่ม \"New job\" ด้านบนเพื่อเพิ่มงานตามแผนปฏิบัติ"]
[null,null,"ชื่องาน:",null,null,{"$f":"SUBTOTAL(109,F35:F42)","v":0}]
[null,null,"ลำดับที่:"]
[null,null,"วัตถุประสงค์เชิงยุทธศาสตร์:"]
[null,null,"ยุทธศาสตร์:"]
[null,null,"วัตถุประสงค์ของงาน:"]
[null,null,"คำชี้แจงประกอบ"]
[]
[]
[{"$f":"\"P\"&D35","v":"P"}]

{"sheet":"E230","index":16,"n_rows":43,"n_cols":8,"rows_kept":43,"cut":false,"hidden":false,"merged":[[0,0,0,6],[2,0,2,6],[1,0,1,6],[5,2,5,4]]}
["คำชี้แจงประกอบ",null,null,null,null,null,null,"งป. (ท) _2/3"]
[{"$f":"\"งบประมาณทำการที่ขอตั้ง ประจำปี \"&A_Budget_year","v":"งบประมาณทำการที่ขอตั้ง ประจำปี 2567"}]
["กลุ่มบัญชี ค่าประชาสัมพันธ์ (งานประจำและงานตามแผนปฏิบัติ)"]
[null,null,null,null,null,null,{"$f":"Head_division","v":"เขต: "},{"$f":"Head_division2","v":"กฟน.3 - 07"}]
[null,null,null,null,null,null,"หน่วย:","บาท"]
["สายงาน","หน่วยงาน/\n เขต","รายการ",null,null,"53021010\nค่าป้ายประชาสัมพันธ์","53021020\nค่าประชาสัมพันธ์อื่น","53021030\nค่าประชาสัมพันธ์ทางสื่อ"]
[]
[{"$f":"IF(Cover!$C$3=Cover!$N$5,Cover_สายเขต2,\"\")","v":""},{"$f":"IF(Cover!$C$3=Cover!$N$5,division,Cover_สายเขต2)","v":"กฟน.3"},"งานประจำ"]
[null,null,"กรุณาอย่าเพิ่มบรรทัดที่บรรทัดนี้ เนื่องจากจะติดการป้องกัน cell จากบรรทัดบน (ข้อความนี้ลบได้)"]
[null,null,"   กฟอ.หนองไผ่",null,null,20000,15000,0]
[null,null,"   กฟส.วิเชียรบุรี และ กฟย.พุเตย",null,null,30000,30000,20000]
[null,null,"   กฟส.บึงสามพัน",null,null,10000,10000,0]
[null,null,"   กฟส.ศรีเทพ",null,null,20000,20000,0]
[null,null,"ให้เพิ่มบรรทัดจากบรรทัดนี้แทน (ข้อความนี้ลบได้)"]
[null,null,"รวมงานประจำ",null,null,{"$f":"SUBTOTAL(109,F7:INDIRECT(SUBSTITUTE(ADDRESS(1,COLUMN(),4),\"1\",\"\")&ROW()-1))","v":80000},{"$f":"SUBTOTAL(109,G7:INDIRECT(SUBSTITUTE(ADDRESS(1,COLUMN(),4),\"1\",\"\")&ROW()-1))","v":75000},{"$f":"SUBTOTAL(109,H7:INDIRECT(SUBSTITUTE(ADDRESS(1,COLUMN(),4),\"1\",\"\")&ROW()-1))","v":20000}]
[]
[null,null,"งานตามแผนปฏิบัติ"]
[null,null,"ชื่องาน:",null,null,{"$f":"SUBTOTAL(109,F19:F26)","v":0},{"$f":"SUBTOTAL(109,G19:G26)","v":0},0]
[null,null,"ลำดับที่:"]
[null,null,"วัตถุประสงค์เชิงยุทธศาสตร์:"]
[null,null,"ยุทธศาสตร์:"]
[null,null,"วัตถุประสงค์ของงาน:"]
[null,null,"คำชี้แจงประกอบ"]
[]
[]
[{"$f":"\"P\"&D19","v":"P"}]
[null,null,"รวมงานตามแผนปฏิบัติ",null,null,{"$f":"SUBTOTAL(109,F16:INDIRECT(SUBSTITUTE(ADDRESS(1,COLUMN(),4),\"1\",\"\")&ROW()-1))","v":0},{"$f":"SUBTOTAL(109,G16:INDIRECT(SUBSTITUTE(ADDRESS(1,COLUMN(),4),\"1\",\"\")&ROW()-1))","v":0},{"$f":"SUBTOTAL(109,H16:INDIRECT(SUBSTITUTE(ADDRESS(1,COLUMN(),4),\"1\",\"\")&ROW()-1))","v":0}]
[null,null,{"$f":"\"รวม \"&B8","v":"รวม กฟน.3"},null,null,{"$f":"SUBTOTAL(109,F7:INDIRECT(SUBSTITUTE(ADDRESS(1,COLUMN(),4),\"1\",\"\")&ROW()-1))","v":80000},{"$f":"SUBTOTAL(109,G7:INDIRECT(SUBSTITUTE(ADDRESS(1,COLUMN(),4),\"1\",\"\")&ROW()-1))","v":75000},{"$f":"SUBTOTAL(109,H7:INDIRECT(SUBSTITUTE(ADDRESS(1,COLUMN(),4),\"1\",\"\")&ROW()-1))","v":20000}]
["หมายเหตุ",null,"ให้จัดลำดับงานของแต่ละยุทธศาสตร์ โดยเรียงลำดับความสำคัญของงานจากมากไปหาน้อย"]
[]
[]
["ห้ามแก้ไขข้อความหรือกระทำการใดๆ ตั้งแต่บรรทัดนี้เป็นต้นไป"]
[]
[null,null,"กดปุ่ม \"New job\" ด้านบนเพื่อเพิ่มงานตามแผนปฏิบัติ"]
[null,null,"ชื่องาน:",null,null,{"$f":"SUBTOTAL(109,F36:F43)","v":0},{"$f":"SUBTOTAL(109,G36:G43)","v":0},0]
[null,null,"ลำดับที่:"]
[null,null,"วัตถุประสงค์เชิงยุทธศาสตร์:"]
[null,null,"ยุทธศาสตร์:"]
[null,null,"วัตถุประสงค์ของงาน:"]
[null,null,"คำชี้แจงประกอบ"]
[]
[]
[{"$f":"\"P\"&D36","v":"P"}]

{"sheet":"E240","index":17,"n_rows":41,"n_cols":13,"rows_kept":41,"cut":false,"hidden":false,"merged":[[2,0,2,11],[1,0,1,11],[0,0,0,11],[5,2,5,4]]}
["คำชี้แจงประกอบ",null,null,null,null,null,null,null,null,null,null,null,"งป. (ท) _2/4"]
[{"$f":"\"งบประมาณทำการประจำปี \"&A_Budget_year","v":"งบประมาณทำการประจำปี 2567"}]
["กลุ่มบัญชี ค่ากิจกรรมเพื่อสังคม (งานประจำและงานตามแผนปฏิบัติ)"]
[{"$f":"RIGHT(CELL(\"filename\",A4),LEN(CELL(\"filename\",A4))-FIND(\"]\",CELL(\"filename\",A4)))","v":"E240"},null,null,null,null,null,null,null,null,null,null,{"$f":"Head_division","v":"เขต: "},{"$f":"Head_division2","v":"กฟน.3 - 07"}]
[null,null,null,null,null,null,null,null,null,"หน่วย:",null,"หน่วย:","บาท"]
["สายงาน","หน่วยงาน/\n เขต","รายการ",null,null,"53065010\nเงินชดเชยเพื่อมนุษยธรรม","53065020\nค่าใช้จ่ายเกี่ยวกับไฟสาธารณะ","53065030\nคชจ.ส่งเสริมการประหยัด/ปลอดภัยในการใช้ไฟฟ้า","53065040\nค่าใช้จ่ายอื่นเพื่อผู้ใช้ไฟ","53065050\nค่าใช้จ่ายเพื่อสังคมหรือสิ่งแวดล้อม","53065080\nค่าผลประโยชน์เงินประกันฯจ่ายคืนผู้ใช้ไฟ - ประเภท 3,4,5","53065090\nค่าผลประโยชน์เงินประกันฯจ่ายคืนผู้ใช้ไฟ - ประเภท 1,2","53065990\nค่าใช้จ่ายเพื่อสาธารณประโยชน์และการกุศล"]
[]
[{"$f":"IF(Cover!$C$3=Cover!$N$5,Cover_สายเขต2,\"\")","v":""},{"$f":"IF(Cover!$C$3=Cover!$N$5,division,Cover_สายเขต2)","v":"กฟน.3"},"งานประจำ"]
[null,null,"กรุณาอย่าเพิ่มบรรทัดที่บรรทัดนี้ เนื่องจากจะติดการป้องกัน cell จากบรรทัดบน (ข้อความนี้ลบได้)"]
[]
[]
[null,null,"ให้เพิ่มบรรทัดจากบรรทัดนี้แทน (ข้อความนี้ลบได้)"]
[null,null,"รวมงานประจำ",null,null,{"$f":"SUBTOTAL(109,F7:INDIRECT(SUBSTITUTE(ADDRESS(1,COLUMN(),4),\"1\",\"\")&ROW()-1))","v":0},{"$f":"SUBTOTAL(109,G7:INDIRECT(SUBSTITUTE(ADDRESS(1,COLUMN(),4),\"1\",\"\")&ROW()-1))","v":0},{"$f":"SUBTOTAL(109,H7:INDIRECT(SUBSTITUTE(ADDRESS(1,COLUMN(),4),\"1\",\"\")&ROW()-1))","v":0},{"$f":"SUBTOTAL(109,I7:INDIRECT(SUBSTITUTE(ADDRESS(1,COLUMN(),4),\"1\",\"\")&ROW()-1))","v":0},{"$f":"SUBTOTAL(109,J7:INDIRECT(SUBSTITUTE(ADDRESS(1,COLUMN(),4),\"1\",\"\")&ROW()-1))","v":0},{"$f":"SUBTOTAL(109,K7:INDIRECT(SUBSTITUTE(ADDRESS(1,COLUMN(),4),\"1\",\"\")&ROW()-1))","v":0},{"$f":"SUBTOTAL(109,L7:INDIRECT(SUBSTITUTE(ADDRESS(1,COLUMN(),4),\"1\",\"\")&ROW()-1))","v":0},{"$f":"SUBTOTAL(109,M7:INDIRECT(SUBSTITUTE(ADDRESS(1,COLUMN(),4),\"1\",\"\")&ROW()-1))","v":0}]
[]
[null,null,"งานตามแผนปฏิบัติ"]
[null,null,"ชื่องาน:",null,null,{"$f":"SUBTOTAL(109,F17:F24)","v":0},{"$f":"SUBTOTAL(109,G17:G24)","v":0},0,0,0,0,0,0]
[null,null,"ลำดับที่:"]
[null,null,"วัตถุประสงค์เชิงยุทธศาสตร์:"]
[null,null,"ยุทธศาสตร์:"]
[null,null,"วัตถุประสงค์ของงาน:"]
[null,null,"คำชี้แจงประกอบ"]
[]
[]
[{"$f":"\"P\"&D17","v":"P"}]
[null,null,"รวมงานตามแผนปฏิบัติ",null,null,{"$f":"SUBTOTAL(109,F14:INDIRECT(SUBSTITUTE(ADDRESS(1,COLUMN(),4),\"1\",\"\")&ROW()-1))","v":0},{"$f":"SUBTOTAL(109,G14:INDIRECT(SUBSTITUTE(ADDRESS(1,COLUMN(),4),\"1\",\"\")&ROW()-1))","v":0},{"$f":"SUBTOTAL(109,H14:INDIRECT(SUBSTITUTE(ADDRESS(1,COLUMN(),4),\"1\",\"\")&ROW()-1))","v":0},{"$f":"SUBTOTAL(109,I14:INDIRECT(SUBSTITUTE(ADDRESS(1,COLUMN(),4),\"1\",\"\")&ROW()-1))","v":0},{"$f":"SUBTOTAL(109,J14:INDIRECT(SUBSTITUTE(ADDRESS(1,COLUMN(),4),\"1\",\"\")&ROW()-1))","v":0},{"$f":"SUBTOTAL(109,K14:INDIRECT(SUBSTITUTE(ADDRESS(1,COLUMN(),4),\"1\",\"\")&ROW()-1))","v":0},{"$f":"SUBTOTAL(109,L14:INDIRECT(SUBSTITUTE(ADDRESS(1,COLUMN(),4),\"1\",\"\")&ROW()-1))","v":0},{"$f":"SUBTOTAL(109,M14:INDIRECT(SUBSTITUTE(ADDRESS(1,COLUMN(),4),\"1\",\"\")&ROW()-1))","v":0}]
[null,null,{"$f":"\"รวม \"&B8","v":"รวม กฟน.3"},null,null,{"$f":"SUBTOTAL(109,F7:INDIRECT(SUBSTITUTE(ADDRESS(1,COLUMN(),4),\"1\",\"\")&ROW()-1))","v":0},{"$f":"SUBTOTAL(109,G7:INDIRECT(SUBSTITUTE(ADDRESS(1,COLUMN(),4),\"1\",\"\")&ROW()-1))","v":0},{"$f":"SUBTOTAL(109,H7:INDIRECT(SUBSTITUTE(ADDRESS(1,COLUMN(),4),\"1\",\"\")&ROW()-1))","v":0},{"$f":"SUBTOTAL(109,I7:INDIRECT(SUBSTITUTE(ADDRESS(1,COLUMN(),4),\"1\",\"\")&ROW()-1))","v":0},{"$f":"SUBTOTAL(109,J7:INDIRECT(SUBSTITUTE(ADDRESS(1,COLUMN(),4),\"1\",\"\")&ROW()-1))","v":0},{"$f":"SUBTOTAL(109,K7:INDIRECT(SUBSTITUTE(ADDRESS(1,COLUMN(),4),\"1\",\"\")&ROW()-1))","v":0},{"$f":"SUBTOTAL(109,L7:INDIRECT(SUBSTITUTE(ADDRESS(1,COLUMN(),4),\"1\",\"\")&ROW()-1))","v":0},{"$f":"SUBTOTAL(109,M7:INDIRECT(SUBSTITUTE(ADDRESS(1,COLUMN(),4),\"1\",\"\")&ROW()-1))","v":0}]
["หมายเหตุ",null,"ให้จัดลำดับงานของแต่ละยุทธศาสตร์ โดยเรียงลำดับความสำคัญของงานจากมากไปหาน้อย"]
[]
[]
["ห้ามแก้ไขข้อความหรือกระทำการใดๆ ตั้งแต่บรรทัดนี้เป็นต้นไป"]
[]
[null,null,"กดปุ่ม \"New job\" ด้านบนเพื่อเพิ่มงานตามแผนปฏิบัติ"]
[null,null,"ชื่องาน:",null,null,{"$f":"SUBTOTAL(109,F34:F41)","v":0},{"$f":"SUBTOTAL(109,G34:G41)","v":0},0,0,0,0,0,0]
[null,null,"ลำดับที่:"]
[null,null,"วัตถุประสงค์เชิงยุทธศาสตร์:"]
[null,null,"ยุทธศาสตร์:"]
[null,null,"วัตถุประสงค์ของงาน:"]
[null,null,"คำชี้แจงประกอบ"]
[]
[]
[{"$f":"\"P\"&D34","v":"P"}]

{"sheet":"E250","index":18,"n_rows":42,"n_cols":14,"rows_kept":42,"cut":false,"hidden":false,"merged":[[0,0,0,12],[2,0,2,12],[1,0,1,12],[5,8,5,13],[6,2,6,4]]}
["คำชี้แจงประกอบ",null,null,null,null,null,null,null,null,null,null,null,null,"งป. (ท) _2/5"]
[{"$f":"\"งบประมาณทำการประจำปี \"&A_Budget_year","v":"งบประมาณทำการประจำปี 2567"}]
["กลุ่มบัญชี ค่าวิจัยและที่ปรึกษา (งานประจำและงานตามแผนปฏิบัติ)"]
[null,null,null,null,null,null,null,null,null,null,null,null,{"$f":"Head_division","v":"เขต: "},{"$f":"Head_division2","v":"กฟน.3 - 07"}]
[null,null,null,null,null,null,null,null,null,null,null,null,"หน่วย:","บาท"]
[{"$f":"\"** หมายเหตุ สำหรับงานต่อเนื่อง โปรดกรอกช่องค่าใช้จ่ายจริง และประมาณจ่ายปี \"&A_Budget_year-1&\" ให้ครบถ้วนด้วย\"","v":"** หมายเหตุ สำหรับงานต่อเนื่อง โปรดกรอกช่องค่าใช้จ่ายจริง และประมาณจ่ายปี 2566 ให้ครบถ้วนด้วย"},null,null,null,null,null,null,null,{"$f":"\"ประมาณจ่ายปี \"&A_Budget_year&\" (ขอตั้ง)\"","v":"ประมาณจ่ายปี 2567 (ขอตั้ง)"}]
["สายงาน","หน่วยงาน/\n เขต","รายการ",null,null,"วงเงินรวม",{"$f":"\"จ่ายจริงปีเริ่มต้น - \"&A_Budget_year-2&\" (งานต่อเนื่อง)\"","v":"จ่ายจริงปีเริ่มต้น - 2565 (งานต่อเนื่อง)"},{"$f":"\"ประมาณจ่ายปี \"&A_Budget_year-1&\" (งานต่อเนื่อง)\"","v":"ประมาณจ่ายปี 2566 (งานต่อเนื่อง)"},"53040010\nค่าใช้จ่ายในการวิจัย","53061020\nค่าที่ปรึกษา-ด้านบัญชีการเงิน","53061030\nค่าที่ปรึกษา-ด้านกฏหมาย","53061040\nค่าที่ปรึกษา-ด้านวิศวกรรม","53061050\nค่าที่ปรึกษา-ด้านการพัฒนาระบบสารสนเทศ","53061090\nค่าที่ปรึกษา-ด้านอื่นๆ"]
[]
[{"$f":"IF(Cover!$C$3=Cover!$N$5,Cover_สายเขต2,\"\")","v":""},{"$f":"IF(Cover!$C$3=Cover!$N$5,division,Cover_สายเขต2)","v":"กฟน.3"},"งานประจำ"]
[null,null,"กรุณาอย่าเพิ่มบรรทัดที่บรรทัดนี้ เนื่องจากจะติดการป้องกัน cell จากบรรทัดบน (ข้อความนี้ลบได้)"]
[]
[]
[null,null,"ให้เพิ่มบรรทัดจากบรรทัดนี้แทน (ข้อความนี้ลบได้)"]
[null,null,"รวมงานประจำ",null,null,null,null,null,{"$f":"SUBTOTAL(109,I8:INDIRECT(SUBSTITUTE(ADDRESS(1,COLUMN(),4),\"1\",\"\")&ROW()-1))","v":0},{"$f":"SUBTOTAL(109,J8:INDIRECT(SUBSTITUTE(ADDRESS(1,COLUMN(),4),\"1\",\"\")&ROW()-1))","v":0},{"$f":"SUBTOTAL(109,K8:INDIRECT(SUBSTITUTE(ADDRESS(1,COLUMN(),4),\"1\",\"\")&ROW()-1))","v":0},{"$f":"SUBTOTAL(109,L8:INDIRECT(SUBSTITUTE(ADDRESS(1,COLUMN(),4),\"1\",\"\")&ROW()-1))","v":0},{"$f":"SUBTOTAL(109,M8:INDIRECT(SUBSTITUTE(ADDRESS(1,COLUMN(),4),\"1\",\"\")&ROW()-1))","v":0},{"$f":"SUBTOTAL(109,N8:INDIRECT(SUBSTITUTE(ADDRESS(1,COLUMN(),4),\"1\",\"\")&ROW()-1))","v":0}]
[]
[null,null,"งานตามแผนปฏิบัติ"]
[null,null,"ชื่องาน:",null,null,null,null,null,{"$f":"SUBTOTAL(109,I18:I25)","v":0},{"$f":"SUBTOTAL(109,J18:J25)","v":0},0,0,0,0]
[null,null,"ลำดับที่:"]
[null,null,"วัตถุประสงค์เชิงยุทธศาสตร์:"]
[null,null,"ยุทธศาสตร์:"]
[null,null,"วัตถุประสงค์ของงาน:"]
[null,null,"คำชี้แจงประกอบ"]
[]
[]
[{"$f":"\"P\"&D18","v":"P"}]
[null,null,"รวมงานตามแผนปฏิบัติ",null,null,null,null,null,{"$f":"SUBTOTAL(109,I15:INDIRECT(SUBSTITUTE(ADDRESS(1,COLUMN(),4),\"1\",\"\")&ROW()-1))","v":0},{"$f":"SUBTOTAL(109,J15:INDIRECT(SUBSTITUTE(ADDRESS(1,COLUMN(),4),\"1\",\"\")&ROW()-1))","v":0},{"$f":"SUBTOTAL(109,K15:INDIRECT(SUBSTITUTE(ADDRESS(1,COLUMN(),4),\"1\",\"\")&ROW()-1))","v":0},{"$f":"SUBTOTAL(109,L15:INDIRECT(SUBSTITUTE(ADDRESS(1,COLUMN(),4),\"1\",\"\")&ROW()-1))","v":0},{"$f":"SUBTOTAL(109,M15:INDIRECT(SUBSTITUTE(ADDRESS(1,COLUMN(),4),\"1\",\"\")&ROW()-1))","v":0},{"$f":"SUBTOTAL(109,N15:INDIRECT(SUBSTITUTE(ADDRESS(1,COLUMN(),4),\"1\",\"\")&ROW()-1))","v":0}]
[null,null,{"$f":"\"รวม \"&B9","v":"รวม กฟน.3"},null,null,null,null,null,{"$f":"SUBTOTAL(109,I8:INDIRECT(SUBSTITUTE(ADDRESS(1,COLUMN(),4),\"1\",\"\")&ROW()-1))","v":0},{"$f":"SUBTOTAL(109,J8:INDIRECT(SUBSTITUTE(ADDRESS(1,COLUMN(),4),\"1\",\"\")&ROW()-1))","v":0},{"$f":"SUBTOTAL(109,K8:INDIRECT(SUBSTITUTE(ADDRESS(1,COLUMN(),4),\"1\",\"\")&ROW()-1))","v":0},{"$f":"SUBTOTAL(109,L8:INDIRECT(SUBSTITUTE(ADDRESS(1,COLUMN(),4),\"1\",\"\")&ROW()-1))","v":0},{"$f":"SUBTOTAL(109,M8:INDIRECT(SUBSTITUTE(ADDRESS(1,COLUMN(),4),\"1\",\"\")&ROW()-1))","v":0},{"$f":"SUBTOTAL(109,N8:INDIRECT(SUBSTITUTE(ADDRESS(1,COLUMN(),4),\"1\",\"\")&ROW()-1))","v":0}]
["หมายเหตุ",null,"ให้จัดลำดับงานของแต่ละยุทธศาสตร์ โดยเรียงลำดับความสำคัญของงานจากมากไปหาน้อย"]
[]
[]
["ห้ามแก้ไขข้อความหรือกระทำการใดๆ ตั้งแต่บรรทัดนี้เป็นต้นไป"]
[]
[null,null,"กดปุ่ม \"New job\" ด้านบนเพื่อเพิ่มงานตามแผนปฏิบัติ"]
[null,null,"ชื่องาน:",null,null,null,null,null,{"$f":"SUBTOTAL(109,I35:I42)","v":0},{"$f":"SUBTOTAL(109,J35:J42)","v":0},0,0,0,0]
[null,null,"ลำดับที่:"]
[null,null,"วัตถุประสงค์เชิงยุทธศาสตร์:"]
[null,null,"ยุทธศาสตร์:"]
[null,null,"วัตถุประสงค์ของงาน:"]
[null,null,"คำชี้แจงประกอบ"]
[]
[]
[{"$f":"\"P\"&D35","v":"P"}]

{"sheet":"E300","index":19,"n_rows":58,"n_cols":10,"rows_kept":58,"cut":false,"hidden":false,"merged":[[5,1,5,8],[0,0,0,8],[1,0,1,8],[2,0,2,8]]}
[{"$f":"IF(A4=\"HO\",\"สำนักงานใหญ่ไม่ใช้แบบฟอร์มนี้\",\"คำชี้แจงประกอบ\")","v":"คำชี้แจงประกอบ"},null,null,null,null,null,null,null,null,"งป.(ท)_3"]
[{"$f":"IF(A4=\"HO\",\"สำนักงานใหญ่ไม่ใช้แบบฟอร์มนี้\",\"งบประมาณทำการที่ขอตั้ง ประจำปี \"&A_Budget_year)","v":"งบประมาณทำการที่ขอตั้ง ประจำปี 2567"}]
[{"$f":"IF(A4=\"HO\",\"สำนักงานใหญ่ไม่ใช้แบบฟอร์มนี้\",\"งานธุรกิจเสริม\")","v":"งานธุรกิจเสริม"}]
[{"$f":"HO","v":"BR"},null,null,null,null,null,null,null,{"$f":"Head_division","v":"เขต: "},{"$f":"Head_division2","v":"กฟน.3 - 07"}]
[null,null,null,null,null,null,null,null,"หน่วย:","บาท"]
["รหัสบัญชี","รายการ / รายละเอียด / คำชี้แจงประกอบ",null,null,null,null,null,null,null,"วงเงิน"]
[null,"งานธุรกิจเสริม (งานที่ ...)"]
[null,null,{"$f":"IF(A8=\"\",\"<< โปรดกรอกรหัสบัญชี\",IFERROR(VLOOKUP(A8,'R001'!A:I,4,0),\"ไม่มีรหัสบัญชีนี้\"))","v":"<< โปรดกรอกรหัสบัญชี"}]
[]
[]
[]
[null,null,{"$f":"\"ปี \"&A_Budget_year&\" ขอตั้งงบประมาณ\"","v":"ปี 2567 ขอตั้งงบประมาณ"}]
[]
[null,{"$f":"\"ต้นทุนงานบริการที่เกี่ยวข้อง ปี \"&A_Budget_year","v":"ต้นทุนงานบริการที่เกี่ยวข้อง ปี 2567"}]
[null,null,{"$f":"IF(A15=\"\",\"<< โปรดกรอกรหัสบัญชี\",IFERROR(VLOOKUP(A15,'E001'!A:L,4,0),\"ไม่มีรหัสบัญชีนี้\"))","v":"<< โปรดกรอกรหัสบัญชี"}]
[null,null,{"$f":"IF(A16=\"\",\"<< โปรดกรอกรหัสบัญชี\",IFERROR(VLOOKUP(A16,'E001'!A:L,4,0),\"ไม่มีรหัสบัญชีนี้\"))","v":"<< โปรดกรอกรหัสบัญชี"}]
[null,null,{"$f":"IF(A17=\"\",\"<< โปรดกรอกรหัสบัญชี\",IFERROR(VLOOKUP(A17,'E001'!A:L,4,0),\"ไม่มีรหัสบัญชีนี้\"))","v":"<< โปรดกรอกรหัสบัญชี"}]
[null,null,{"$f":"IF(A18=\"\",\"<< โปรดกรอกรหัสบัญชี\",IFERROR(VLOOKUP(A18,'E001'!A:L,4,0),\"ไม่มีรหัสบัญชีนี้\"))","v":"<< โปรดกรอกรหัสบัญชี"}]
[null,null,{"$f":"IF(A19=\"\",\"<< โปรดกรอกรหัสบัญชี\",IFERROR(VLOOKUP(A19,'E001'!A:L,4,0),\"ไม่มีรหัสบัญชีนี้\"))","v":"<< โปรดกรอกรหัสบัญชี"}]
[null,null,{"$f":"IF(A20=\"\",\"<< โปรดกรอกรหัสบัญชี\",IFERROR(VLOOKUP(A20,'E001'!A:L,4,0),\"ไม่มีรหัสบัญชีนี้\"))","v":"<< โปรดกรอกรหัสบัญชี"}]
[null,null,{"$f":"IF(A21=\"\",\"<< โปรดกรอกรหัสบัญชี\",IFERROR(VLOOKUP(A21,'E001'!A:L,4,0),\"ไม่มีรหัสบัญชีนี้\"))","v":"<< โปรดกรอกรหัสบัญชี"}]
[null,null,{"$f":"IF(A22=\"\",\"<< โปรดกรอกรหัสบัญชี\",IFERROR(VLOOKUP(A22,'E001'!A:L,4,0),\"ไม่มีรหัสบัญชีนี้\"))","v":"<< โปรดกรอกรหัสบัญชี"}]
[null,null,{"$f":"IF(A23=\"\",\"<< โปรดกรอกรหัสบัญชี\",IFERROR(VLOOKUP(A23,'E001'!A:L,4,0),\"ไม่มีรหัสบัญชีนี้\"))","v":"<< โปรดกรอกรหัสบัญชี"}]
[null,null,{"$f":"IF(A24=\"\",\"<< โปรดกรอกรหัสบัญชี\",IFERROR(VLOOKUP(A24,'E001'!A:L,4,0),\"ไม่มีรหัสบัญชีนี้\"))","v":"<< โปรดกรอกรหัสบัญชี"}]
[]
[null,null,null,null,null,null,null,null,"รวม",{"$f":"SUM(J15:J25)","v":0}]
[null,"รายละเอียดประกอบ"]
[]
[]
[]
[]
[]
[]
[]
["ห้ามแก้ไขข้อความหรือกระทำการใดๆ ตั้งแต่บรรทัดนี้เป็นต้นไป"]
[]
[null,"กดปุ่ม \"New job\" ด้านบนเพื่อเพิ่มงานตามแผนปฏิบัติ"]
[null,"งานธุรกิจเสริม (งานที่ ...)"]
[null,null,{"$f":"IF(A39=\"\",\"<< โปรดกรอกรหัสบัญชี\",IFERROR(VLOOKUP(A39,'R001'!A:I,4,0),\"ไม่มีรหัสบัญชีนี้\"))","v":"<< โปรดกรอกรหัสบัญชี"}]
[]
[]
[]
[null,null,{"$f":"\"ปี \"&A_Budget_year&\" ขอตั้งงบประมาณ\"","v":"ปี 2567 ขอตั้งงบประมาณ"}]
[]
[null,{"$f":"\"ต้นทุนงานบริการที่เกี่ยวข้อง ปี \"&A_Budget_year","v":"ต้นทุนงานบริการที่เกี่ยวข้อง ปี 2567"}]
[null,null,{"$f":"IF(A46=\"\",\"<< โปรดกรอกรหัสบัญชี\",IFERROR(VLOOKUP(A46,'E001'!A:L,4,0),\"ไม่มีรหัสบัญชีนี้\"))","v":"<< โปรดกรอกรหัสบัญชี"}]
[null,null,{"$f":"IF(A47=\"\",\"<< โปรดกรอกรหัสบัญชี\",IFERROR(VLOOKUP(A47,'E001'!A:L,4,0),\"ไม่มีรหัสบัญชีนี้\"))","v":"<< โปรดกรอกรหัสบัญชี"}]
[null,null,{"$f":"IF(A48=\"\",\"<< โปรดกรอกรหัสบัญชี\",IFERROR(VLOOKUP(A48,'E001'!A:L,4,0),\"ไม่มีรหัสบัญชีนี้\"))","v":"<< โปรดกรอกรหัสบัญชี"}]
[null,null,{"$f":"IF(A49=\"\",\"<< โปรดกรอกรหัสบัญชี\",IFERROR(VLOOKUP(A49,'E001'!A:L,4,0),\"ไม่มีรหัสบัญชีนี้\"))","v":"<< โปรดกรอกรหัสบัญชี"}]
[null,null,{"$f":"IF(A50=\"\",\"<< โปรดกรอกรหัสบัญชี\",IFERROR(VLOOKUP(A50,'E001'!A:L,4,0),\"ไม่มีรหัสบัญชีนี้\"))","v":"<< โปรดกรอกรหัสบัญชี"}]
[null,null,{"$f":"IF(A51=\"\",\"<< โปรดกรอกรหัสบัญชี\",IFERROR(VLOOKUP(A51,'E001'!A:L,4,0),\"ไม่มีรหัสบัญชีนี้\"))","v":"<< โปรดกรอกรหัสบัญชี"}]
[null,null,{"$f":"IF(A52=\"\",\"<< โปรดกรอกรหัสบัญชี\",IFERROR(VLOOKUP(A52,'E001'!A:L,4,0),\"ไม่มีรหัสบัญชีนี้\"))","v":"<< โปรดกรอกรหัสบัญชี"}]
[null,null,{"$f":"IF(A53=\"\",\"<< โปรดกรอกรหัสบัญชี\",IFERROR(VLOOKUP(A53,'E001'!A:L,4,0),\"ไม่มีรหัสบัญชีนี้\"))","v":"<< โปรดกรอกรหัสบัญชี"}]
[null,null,{"$f":"IF(A54=\"\",\"<< โปรดกรอกรหัสบัญชี\",IFERROR(VLOOKUP(A54,'E001'!A:L,4,0),\"ไม่มีรหัสบัญชีนี้\"))","v":"<< โปรดกรอกรหัสบัญชี"}]
[null,null,{"$f":"IF(A55=\"\",\"<< โปรดกรอกรหัสบัญชี\",IFERROR(VLOOKUP(A55,'E001'!A:L,4,0),\"ไม่มีรหัสบัญชีนี้\"))","v":"<< โปรดกรอกรหัสบัญชี"}]
[]
[null,null,null,null,null,null,null,null,"รวม",{"$f":"SUM(J46:J56)","v":0}]
[null,"รายละเอียดประกอบ"]